BEGIN:VCALENDAR
VERSION:2.0
PRODID:-//Progress Grove City - ECPv6.15.20//NONSGML v1.0//EN
CALSCALE:GREGORIAN
METHOD:PUBLISH
X-WR-CALNAME:Progress Grove City
X-ORIGINAL-URL:https://progressgrovecity.com
X-WR-CALDESC:Events for Progress Grove City
REFRESH-INTERVAL;VALUE=DURATION:PT1H
X-Robots-Tag:noindex
X-PUBLISHED-TTL:PT1H
BEGIN:VTIMEZONE
TZID:America/New_York
BEGIN:DAYLIGHT
TZOFFSETFROM:-0500
TZOFFSETTO:-0400
TZNAME:EDT
DTSTART:20240310T070000
END:DAYLIGHT
BEGIN:STANDARD
TZOFFSETFROM:-0400
TZOFFSETTO:-0500
TZNAME:EST
DTSTART:20241103T060000
END:STANDARD
BEGIN:DAYLIGHT
TZOFFSETFROM:-0500
TZOFFSETTO:-0400
TZNAME:EDT
DTSTART:20250309T070000
END:DAYLIGHT
BEGIN:STANDARD
TZOFFSETFROM:-0400
TZOFFSETTO:-0500
TZNAME:EST
DTSTART:20251102T060000
END:STANDARD
BEGIN:DAYLIGHT
TZOFFSETFROM:-0500
TZOFFSETTO:-0400
TZNAME:EDT
DTSTART:20260308T070000
END:DAYLIGHT
BEGIN:STANDARD
TZOFFSETFROM:-0400
TZOFFSETTO:-0500
TZNAME:EST
DTSTART:20261101T060000
END:STANDARD
END:VTIMEZONE
BEGIN:VEVENT
DTSTART;TZID=America/New_York:20250621T120000
DTEND;TZID=America/New_York:20250621T190000
DTSTAMP:20260420T094644
CREATED:20250323T001747Z
LAST-MODIFIED:20250323T001747Z
UID:10001348-1750507200-1750532400@progressgrovecity.com
SUMMARY:Pridefest Grove City
DESCRIPTION:Pride in GC PrideFest is happening in JUNE this year! 🎊 Join us on Saturday\, June 21st at Town Center Park in Grove City for a day of love\, celebration\, and community! 🌈🎶✨Mark your calendars & stay tuned for details! 🏳️‍🌈
URL:https://progressgrovecity.com/event/pridefest-grove-city/
LOCATION:Town Center Park\, 3359 Park St\, Grove City\, Ohio\, 43123
CATEGORIES:Social Events
ATTACH;FMTTYPE=image/jpeg:https://progressgrovecity.com/wp-content/uploads/2025/03/IMG_5057.jpeg
END:VEVENT
END:VCALENDAR