BEGIN:VCALENDAR
VERSION:2.0
PRODID:-//Progress Grove City - ECPv6.15.20//NONSGML v1.0//EN
CALSCALE:GREGORIAN
METHOD:PUBLISH
X-WR-CALNAME:Progress Grove City
X-ORIGINAL-URL:https://progressgrovecity.com
X-WR-CALDESC:Events for Progress Grove City
REFRESH-INTERVAL;VALUE=DURATION:PT1H
X-Robots-Tag:noindex
X-PUBLISHED-TTL:PT1H
BEGIN:VTIMEZONE
TZID:America/New_York
BEGIN:DAYLIGHT
TZOFFSETFROM:-0500
TZOFFSETTO:-0400
TZNAME:EDT
DTSTART:20240310T070000
END:DAYLIGHT
BEGIN:STANDARD
TZOFFSETFROM:-0400
TZOFFSETTO:-0500
TZNAME:EST
DTSTART:20241103T060000
END:STANDARD
BEGIN:DAYLIGHT
TZOFFSETFROM:-0500
TZOFFSETTO:-0400
TZNAME:EDT
DTSTART:20250309T070000
END:DAYLIGHT
BEGIN:STANDARD
TZOFFSETFROM:-0400
TZOFFSETTO:-0500
TZNAME:EST
DTSTART:20251102T060000
END:STANDARD
BEGIN:DAYLIGHT
TZOFFSETFROM:-0500
TZOFFSETTO:-0400
TZNAME:EDT
DTSTART:20260308T070000
END:DAYLIGHT
BEGIN:STANDARD
TZOFFSETFROM:-0400
TZOFFSETTO:-0500
TZNAME:EST
DTSTART:20261101T060000
END:STANDARD
END:VTIMEZONE
BEGIN:VEVENT
DTSTART;TZID=America/New_York:20250809T140000
DTEND;TZID=America/New_York:20250809T153000
DTSTAMP:20260420T062132
CREATED:20250802T171135Z
LAST-MODIFIED:20250802T174913Z
UID:10001383-1754748000-1754753400@progressgrovecity.com
SUMMARY:Hands Along High Street
DESCRIPTION:I know many of you have seen the Hands Along High Street event being sponsored by Indivisible Central Ohio…and now we are officially partnering with them!!  Progress Grove City is responsible for filling ‘Section 24’ which runs from 10th Ave to King Ave.  We will meet at the sidewalk in front of the Columbus Library Northside Branch @ 1423 N High St.  You can park on any of the side streets for free or in the Gateway garage for a fee. \nPlease RSVP here so that we know how many are going from our group! \nBelow is info from the Indivisible Event: \n\n\n\n\n\n\n—————————————–\nWe Stand United\nTHIS IS A MULTISTEP SIGN UP PROCESS! Please read all the way to the end of this message.\nBefore you finish signing up here on mobilize\, please go to the Hands Along High Street SignUp Genius page to pick the exact location where you will be stationed (Section 24 for Progress Grove City) during the protest (the Sign Up slot you pick has the actual address where you will meet). Then come back here and complete your registration. \nRead more about this unique event here: \nJoin the final big resistance event of the summer before the beginning of the new school year! With your participation\, we will form a human chain of resistance 8 miles long on the public sidewalk along the west side of High Street from Route 161 in Worthington to downtown Columbus\, delivering the message that WE STAND UNITED for our common values as Americans: \nWe OPPOSE • The loss of health insurance and SNAP benefits for millions of Americans • Cuts to Medicaid\, Medicare and Social Security •Tax cuts that overwhelmingly favor the rich and add trillions to the national debt. \nWe DEFEND • The rights of law-abiding immigrants •The victims of abuse • Science-based research and policies focused on climate change and public health • The democratic principles that have defined the United States for 249 years! \nSee our full Statement of Values here. \nThis will be unlike any previous rally in Ohio\, and signup is a bit different too. You can confirm your participation here\, but to ensure that we have an unbroken chain\, we also need to know where along the route you plan to be. So once you’ve finished here\, please go to the Hands Along High Street SignUp Genius page and choose a location along the route. This will help our planning to make this event a success. \nNOTE: We will have a Moment of Unity where we link hands to form an 8-mile human chain. But leading up to that moment\, we want the people of Columbus to know why we’re here. Please bring your protest signs\, American flags\, cowbells\, etc. \nThis is a family-friendly\, peaceful event. Once you complete your registration\, you will receive details about a day that we hope to remember for years to come! \n\n\n\nRead less
URL:https://progressgrovecity.com/event/hands-along-high-street/
LOCATION:Columbus Library Northside Branch @ 1423 N High St\, 1423 N High St\, Columbus\, OH\, United States
CATEGORIES:Rally or Protest,Social Events
ATTACH;FMTTYPE=image/png:https://progressgrovecity.com/wp-content/uploads/2025/08/HandsAlongHighStreet_Sm.png
END:VEVENT
END:VCALENDAR