BEGIN:VCALENDAR
VERSION:2.0
PRODID:-//Progress Grove City - ECPv6.15.20//NONSGML v1.0//EN
CALSCALE:GREGORIAN
METHOD:PUBLISH
X-ORIGINAL-URL:https://progressgrovecity.com
X-WR-CALDESC:Events for Progress Grove City
REFRESH-INTERVAL;VALUE=DURATION:PT1H
X-Robots-Tag:noindex
X-PUBLISHED-TTL:PT1H
BEGIN:VTIMEZONE
TZID:America/New_York
BEGIN:DAYLIGHT
TZOFFSETFROM:-0500
TZOFFSETTO:-0400
TZNAME:EDT
DTSTART:20240310T070000
END:DAYLIGHT
BEGIN:STANDARD
TZOFFSETFROM:-0400
TZOFFSETTO:-0500
TZNAME:EST
DTSTART:20241103T060000
END:STANDARD
BEGIN:DAYLIGHT
TZOFFSETFROM:-0500
TZOFFSETTO:-0400
TZNAME:EDT
DTSTART:20250309T070000
END:DAYLIGHT
BEGIN:STANDARD
TZOFFSETFROM:-0400
TZOFFSETTO:-0500
TZNAME:EST
DTSTART:20251102T060000
END:STANDARD
BEGIN:DAYLIGHT
TZOFFSETFROM:-0500
TZOFFSETTO:-0400
TZNAME:EDT
DTSTART:20260308T070000
END:DAYLIGHT
BEGIN:STANDARD
TZOFFSETFROM:-0400
TZOFFSETTO:-0500
TZNAME:EST
DTSTART:20261101T060000
END:STANDARD
END:VTIMEZONE
BEGIN:VEVENT
DTSTART;TZID=America/New_York:20250301T090000
DTEND;TZID=America/New_York:20250301T120000
DTSTAMP:20260421T012645
CREATED:20250128T155032Z
LAST-MODIFIED:20250128T155219Z
UID:10001306-1740819600-1740830400@progressgrovecity.com
SUMMARY:Winter Farmer's Market
DESCRIPTION:We’re excited to kick off the inaugural season of Grove City’s Winter Farmer’s Market\, hosted by Grove City Parks and Recreation!\nBeginning February 15\, join us every other Saturday for a selection of local winter produce\, coffees\, salsas\, jams\, baked goods and more. Plus\, each market will feature free kids’ crafts and activities themed around the season!\nWhen: Saturdays\, 9 a.m.-noonWhere: Kingston Center\, 3226 Kingston Ave.\nHere’s what you can look forward to:\n– Feb. 15 – Random Acts of Kindness (Crafts & activities to spread joy)– March 1 – Women’s History (Celebrating inspiring women through creative activities)– March 15 – St. Patrick’s Day (Fun\, festive crafts for little hands)– March 29 – Hopping into Spring (Springtime crafts to welcome the season)– April 12 – Pets! (Crafts celebrating our furry friends)\nStay tuned for the list of participating vendors – we can’t wait to see you there!\nLearn more: bit.ly/GCPRWinterFarmMkt
URL:https://progressgrovecity.com/event/838/2025-03-01/
LOCATION:Kingston Center\, 3226 Kingston Ave\, Grove City\, OH\, 43123\, United States
CATEGORIES:City Meetings,Social Events
ATTACH;FMTTYPE=image/jpeg:https://progressgrovecity.com/wp-content/uploads/2025/01/WitnerFarmersMarket.jpg
END:VEVENT
BEGIN:VEVENT
DTSTART;TZID=America/New_York:20250303T183000
DTEND;TZID=America/New_York:20250303T200000
DTSTAMP:20260421T012645
CREATED:20250106T220304Z
LAST-MODIFIED:20250106T220304Z
UID:10000428-1741026600-1741032000@progressgrovecity.com
SUMMARY:Grove City City Council Meeting
DESCRIPTION:All are invited to the Grove City Council meeting.\n• 6:30 p.m. Caucus\n• 7 p.m. Council Meeting
URL:https://progressgrovecity.com/event/grove-city-city-council-meeting-15/2025-03-03/
LOCATION:Grove City Hall\, 4035 Harrisburg Pike\, Grove City\, OH\, 43123\, United States
CATEGORIES:City Meetings
ATTACH;FMTTYPE=image/png:https://progressgrovecity.com/wp-content/uploads/2025/01/GroveCityLogo.png
END:VEVENT
BEGIN:VEVENT
DTSTART;TZID=America/New_York:20250315T090000
DTEND;TZID=America/New_York:20250315T120000
DTSTAMP:20260421T012645
CREATED:20250128T155032Z
LAST-MODIFIED:20250128T155219Z
UID:10001307-1742029200-1742040000@progressgrovecity.com
SUMMARY:Winter Farmer's Market
DESCRIPTION:We’re excited to kick off the inaugural season of Grove City’s Winter Farmer’s Market\, hosted by Grove City Parks and Recreation!\nBeginning February 15\, join us every other Saturday for a selection of local winter produce\, coffees\, salsas\, jams\, baked goods and more. Plus\, each market will feature free kids’ crafts and activities themed around the season!\nWhen: Saturdays\, 9 a.m.-noonWhere: Kingston Center\, 3226 Kingston Ave.\nHere’s what you can look forward to:\n– Feb. 15 – Random Acts of Kindness (Crafts & activities to spread joy)– March 1 – Women’s History (Celebrating inspiring women through creative activities)– March 15 – St. Patrick’s Day (Fun\, festive crafts for little hands)– March 29 – Hopping into Spring (Springtime crafts to welcome the season)– April 12 – Pets! (Crafts celebrating our furry friends)\nStay tuned for the list of participating vendors – we can’t wait to see you there!\nLearn more: bit.ly/GCPRWinterFarmMkt
URL:https://progressgrovecity.com/event/838/2025-03-15/
LOCATION:Kingston Center\, 3226 Kingston Ave\, Grove City\, OH\, 43123\, United States
CATEGORIES:City Meetings,Social Events
ATTACH;FMTTYPE=image/jpeg:https://progressgrovecity.com/wp-content/uploads/2025/01/WitnerFarmersMarket.jpg
END:VEVENT
BEGIN:VEVENT
DTSTART;TZID=America/New_York:20250317T183000
DTEND;TZID=America/New_York:20250317T200000
DTSTAMP:20260421T012645
CREATED:20250110T161005Z
LAST-MODIFIED:20250110T161005Z
UID:10001244-1742236200-1742241600@progressgrovecity.com
SUMMARY:Grove City City Council Meeting
DESCRIPTION:All are invited to the Grove City Council meeting.\n• 6:30 p.m. Caucus\n• 7 p.m. Council Meeting
URL:https://progressgrovecity.com/event/grove-city-city-council-meeting-25/2025-03-17/
LOCATION:Grove City Hall\, 4035 Harrisburg Pike\, Grove City\, OH\, 43123\, United States
CATEGORIES:City Meetings
ATTACH;FMTTYPE=image/png:https://progressgrovecity.com/wp-content/uploads/2025/01/GroveCityLogo.png
END:VEVENT
BEGIN:VEVENT
DTSTART;TZID=America/New_York:20250329T090000
DTEND;TZID=America/New_York:20250329T120000
DTSTAMP:20260421T012645
CREATED:20250128T155032Z
LAST-MODIFIED:20250128T155219Z
UID:10001308-1743238800-1743249600@progressgrovecity.com
SUMMARY:Winter Farmer's Market
DESCRIPTION:We’re excited to kick off the inaugural season of Grove City’s Winter Farmer’s Market\, hosted by Grove City Parks and Recreation!\nBeginning February 15\, join us every other Saturday for a selection of local winter produce\, coffees\, salsas\, jams\, baked goods and more. Plus\, each market will feature free kids’ crafts and activities themed around the season!\nWhen: Saturdays\, 9 a.m.-noonWhere: Kingston Center\, 3226 Kingston Ave.\nHere’s what you can look forward to:\n– Feb. 15 – Random Acts of Kindness (Crafts & activities to spread joy)– March 1 – Women’s History (Celebrating inspiring women through creative activities)– March 15 – St. Patrick’s Day (Fun\, festive crafts for little hands)– March 29 – Hopping into Spring (Springtime crafts to welcome the season)– April 12 – Pets! (Crafts celebrating our furry friends)\nStay tuned for the list of participating vendors – we can’t wait to see you there!\nLearn more: bit.ly/GCPRWinterFarmMkt
URL:https://progressgrovecity.com/event/838/2025-03-29/
LOCATION:Kingston Center\, 3226 Kingston Ave\, Grove City\, OH\, 43123\, United States
CATEGORIES:City Meetings,Social Events
ATTACH;FMTTYPE=image/jpeg:https://progressgrovecity.com/wp-content/uploads/2025/01/WitnerFarmersMarket.jpg
END:VEVENT
END:VCALENDAR