BEGIN:VCALENDAR
VERSION:2.0
PRODID:-//Progress Grove City - ECPv6.15.20//NONSGML v1.0//EN
CALSCALE:GREGORIAN
METHOD:PUBLISH
X-ORIGINAL-URL:https://progressgrovecity.com
X-WR-CALDESC:Events for Progress Grove City
REFRESH-INTERVAL;VALUE=DURATION:PT1H
X-Robots-Tag:noindex
X-PUBLISHED-TTL:PT1H
BEGIN:VTIMEZONE
TZID:America/New_York
BEGIN:DAYLIGHT
TZOFFSETFROM:-0500
TZOFFSETTO:-0400
TZNAME:EDT
DTSTART:20230312T070000
END:DAYLIGHT
BEGIN:STANDARD
TZOFFSETFROM:-0400
TZOFFSETTO:-0500
TZNAME:EST
DTSTART:20231105T060000
END:STANDARD
BEGIN:DAYLIGHT
TZOFFSETFROM:-0500
TZOFFSETTO:-0400
TZNAME:EDT
DTSTART:20240310T070000
END:DAYLIGHT
BEGIN:STANDARD
TZOFFSETFROM:-0400
TZOFFSETTO:-0500
TZNAME:EST
DTSTART:20241103T060000
END:STANDARD
BEGIN:DAYLIGHT
TZOFFSETFROM:-0500
TZOFFSETTO:-0400
TZNAME:EDT
DTSTART:20250309T070000
END:DAYLIGHT
BEGIN:STANDARD
TZOFFSETFROM:-0400
TZOFFSETTO:-0500
TZNAME:EST
DTSTART:20251102T060000
END:STANDARD
END:VTIMEZONE
BEGIN:VEVENT
DTSTART;TZID=America/New_York:20240812T173000
DTEND;TZID=America/New_York:20240812T193000
DTSTAMP:20260421T161520
CREATED:20240617T175102Z
LAST-MODIFIED:20240617T175102Z
UID:10000090-1723483800-1723491000@progressgrovecity.com
SUMMARY:City Council Working Session
DESCRIPTION:This will be a meeting where the public can join to provide feedback to the council members for anything on the agenda.  Public participation is encouraged and appreiciated
URL:https://progressgrovecity.com/event/city-council-working-session-2/
LOCATION:Grove City Hall\, 4035 Harrisburg Pike\, Grove City\, OH\, 43123\, United States
CATEGORIES:City Meetings
ATTACH;FMTTYPE=image/png:https://progressgrovecity.com/wp-content/uploads/2024/06/CityCouncilLogo.png
END:VEVENT
END:VCALENDAR