BEGIN:VCALENDAR
VERSION:2.0
PRODID:-//Progress Grove City - ECPv6.15.20//NONSGML v1.0//EN
CALSCALE:GREGORIAN
METHOD:PUBLISH
X-ORIGINAL-URL:https://progressgrovecity.com
X-WR-CALDESC:Events for Progress Grove City
REFRESH-INTERVAL;VALUE=DURATION:PT1H
X-Robots-Tag:noindex
X-PUBLISHED-TTL:PT1H
BEGIN:VTIMEZONE
TZID:America/New_York
BEGIN:DAYLIGHT
TZOFFSETFROM:-0500
TZOFFSETTO:-0400
TZNAME:EDT
DTSTART:20280312T070000
END:DAYLIGHT
BEGIN:STANDARD
TZOFFSETFROM:-0400
TZOFFSETTO:-0500
TZNAME:EST
DTSTART:20281105T060000
END:STANDARD
BEGIN:DAYLIGHT
TZOFFSETFROM:-0500
TZOFFSETTO:-0400
TZNAME:EDT
DTSTART:20290311T070000
END:DAYLIGHT
BEGIN:STANDARD
TZOFFSETFROM:-0400
TZOFFSETTO:-0500
TZNAME:EST
DTSTART:20291104T060000
END:STANDARD
BEGIN:DAYLIGHT
TZOFFSETFROM:-0500
TZOFFSETTO:-0400
TZNAME:EDT
DTSTART:20300310T070000
END:DAYLIGHT
BEGIN:STANDARD
TZOFFSETFROM:-0400
TZOFFSETTO:-0500
TZNAME:EST
DTSTART:20301103T060000
END:STANDARD
END:VTIMEZONE
BEGIN:VEVENT
DTSTART;TZID=America/New_York:20290507T183000
DTEND;TZID=America/New_York:20290507T200000
DTSTAMP:20260421T005315
CREATED:20250106T220304Z
LAST-MODIFIED:20250106T220304Z
UID:10000478-1872873000-1872878400@progressgrovecity.com
SUMMARY:Grove City City Council Meeting
DESCRIPTION:All are invited to the Grove City Council meeting.\n• 6:30 p.m. Caucus\n• 7 p.m. Council Meeting
URL:https://progressgrovecity.com/event/grove-city-city-council-meeting-15/2029-05-07/
LOCATION:Grove City Hall\, 4035 Harrisburg Pike\, Grove City\, OH\, 43123\, United States
CATEGORIES:City Meetings
ATTACH;FMTTYPE=image/png:https://progressgrovecity.com/wp-content/uploads/2025/01/GroveCityLogo.png
END:VEVENT
BEGIN:VEVENT
DTSTART;TZID=America/New_York:20290508T190000
DTEND;TZID=America/New_York:20290508T200000
DTSTAMP:20260421T005315
CREATED:20260411T023253Z
LAST-MODIFIED:20260411T023253Z
UID:10001537-1872961200-1872964800@progressgrovecity.com
SUMMARY:Pleasant Township Trustee Meeting
DESCRIPTION:These meetings occur the second and fourth Tuesday of each month at 7PM.  The address is 5373 Norton Rd.
URL:https://progressgrovecity.com/event/pleasant-township-trustee-meeting/2029-05-08/
LOCATION:Pleasant Township Building\, 5373 Norton Rd\, Columbus\, OH\, 43123\, United States
CATEGORIES:City Meetings
ATTACH;FMTTYPE=image/png:https://progressgrovecity.com/wp-content/uploads/2026/04/PrairieTwshp.png
END:VEVENT
BEGIN:VEVENT
DTSTART;TZID=America/New_York:20290521T183000
DTEND;TZID=America/New_York:20290521T200000
DTSTAMP:20260421T005315
CREATED:20251216T234312Z
LAST-MODIFIED:20251216T234312Z
UID:10001294-1874082600-1874088000@progressgrovecity.com
SUMMARY:Grove City City Council Meeting
DESCRIPTION:All are invited to the Grove City Council meeting.\n• 6:30 p.m. Caucus\n• 7 p.m. Council Meeting
URL:https://progressgrovecity.com/event/grove-city-city-council-meeting-25-3/2029-05-21/
LOCATION:Grove City Hall\, 4035 Harrisburg Pike\, Grove City\, OH\, 43123\, United States
CATEGORIES:City Meetings
ATTACH;FMTTYPE=image/png:https://progressgrovecity.com/wp-content/uploads/2025/01/GroveCityLogo.png
END:VEVENT
BEGIN:VEVENT
DTSTART;TZID=America/New_York:20290522T190000
DTEND;TZID=America/New_York:20290522T200000
DTSTAMP:20260421T005315
CREATED:20260411T023549Z
LAST-MODIFIED:20260411T023549Z
UID:10001598-1874170800-1874174400@progressgrovecity.com
SUMMARY:Pleasant Township Trustee Meeting
DESCRIPTION:These meetings occur the second and fourth Tuesday of each month at 7PM.  The address is 5373 Norton Rd.
URL:https://progressgrovecity.com/event/pleasant-township-trustee-meeting-2/2029-05-22/
LOCATION:Pleasant Township Building\, 5373 Norton Rd\, Columbus\, OH\, 43123\, United States
CATEGORIES:City Meetings
ATTACH;FMTTYPE=image/png:https://progressgrovecity.com/wp-content/uploads/2026/04/PrairieTwshp.png
END:VEVENT
BEGIN:VEVENT
DTSTART;TZID=America/New_York:20290604T183000
DTEND;TZID=America/New_York:20290604T200000
DTSTAMP:20260421T005315
CREATED:20250106T220304Z
LAST-MODIFIED:20250106T220304Z
UID:10000479-1875292200-1875297600@progressgrovecity.com
SUMMARY:Grove City City Council Meeting
DESCRIPTION:All are invited to the Grove City Council meeting.\n• 6:30 p.m. Caucus\n• 7 p.m. Council Meeting
URL:https://progressgrovecity.com/event/grove-city-city-council-meeting-15/2029-06-04/
LOCATION:Grove City Hall\, 4035 Harrisburg Pike\, Grove City\, OH\, 43123\, United States
CATEGORIES:City Meetings
ATTACH;FMTTYPE=image/png:https://progressgrovecity.com/wp-content/uploads/2025/01/GroveCityLogo.png
END:VEVENT
BEGIN:VEVENT
DTSTART;TZID=America/New_York:20290612T190000
DTEND;TZID=America/New_York:20290612T200000
DTSTAMP:20260421T005315
CREATED:20260411T023253Z
LAST-MODIFIED:20260411T023253Z
UID:10001538-1875985200-1875988800@progressgrovecity.com
SUMMARY:Pleasant Township Trustee Meeting
DESCRIPTION:These meetings occur the second and fourth Tuesday of each month at 7PM.  The address is 5373 Norton Rd.
URL:https://progressgrovecity.com/event/pleasant-township-trustee-meeting/2029-06-12/
LOCATION:Pleasant Township Building\, 5373 Norton Rd\, Columbus\, OH\, 43123\, United States
CATEGORIES:City Meetings
ATTACH;FMTTYPE=image/png:https://progressgrovecity.com/wp-content/uploads/2026/04/PrairieTwshp.png
END:VEVENT
BEGIN:VEVENT
DTSTART;TZID=America/New_York:20290618T183000
DTEND;TZID=America/New_York:20290618T200000
DTSTAMP:20260421T005315
CREATED:20251216T234312Z
LAST-MODIFIED:20251216T234312Z
UID:10001295-1876501800-1876507200@progressgrovecity.com
SUMMARY:Grove City City Council Meeting
DESCRIPTION:All are invited to the Grove City Council meeting.\n• 6:30 p.m. Caucus\n• 7 p.m. Council Meeting
URL:https://progressgrovecity.com/event/grove-city-city-council-meeting-25-3/2029-06-18/
LOCATION:Grove City Hall\, 4035 Harrisburg Pike\, Grove City\, OH\, 43123\, United States
CATEGORIES:City Meetings
ATTACH;FMTTYPE=image/png:https://progressgrovecity.com/wp-content/uploads/2025/01/GroveCityLogo.png
END:VEVENT
BEGIN:VEVENT
DTSTART;TZID=America/New_York:20290626T190000
DTEND;TZID=America/New_York:20290626T200000
DTSTAMP:20260421T005315
CREATED:20260411T023549Z
LAST-MODIFIED:20260411T023549Z
UID:10001599-1877194800-1877198400@progressgrovecity.com
SUMMARY:Pleasant Township Trustee Meeting
DESCRIPTION:These meetings occur the second and fourth Tuesday of each month at 7PM.  The address is 5373 Norton Rd.
URL:https://progressgrovecity.com/event/pleasant-township-trustee-meeting-2/2029-06-26/
LOCATION:Pleasant Township Building\, 5373 Norton Rd\, Columbus\, OH\, 43123\, United States
CATEGORIES:City Meetings
ATTACH;FMTTYPE=image/png:https://progressgrovecity.com/wp-content/uploads/2026/04/PrairieTwshp.png
END:VEVENT
BEGIN:VEVENT
DTSTART;TZID=America/New_York:20290702T183000
DTEND;TZID=America/New_York:20290702T200000
DTSTAMP:20260421T005315
CREATED:20250106T220304Z
LAST-MODIFIED:20250106T220304Z
UID:10000480-1877711400-1877716800@progressgrovecity.com
SUMMARY:Grove City City Council Meeting
DESCRIPTION:All are invited to the Grove City Council meeting.\n• 6:30 p.m. Caucus\n• 7 p.m. Council Meeting
URL:https://progressgrovecity.com/event/grove-city-city-council-meeting-15/2029-07-02/
LOCATION:Grove City Hall\, 4035 Harrisburg Pike\, Grove City\, OH\, 43123\, United States
CATEGORIES:City Meetings
ATTACH;FMTTYPE=image/png:https://progressgrovecity.com/wp-content/uploads/2025/01/GroveCityLogo.png
END:VEVENT
BEGIN:VEVENT
DTSTART;TZID=America/New_York:20290710T190000
DTEND;TZID=America/New_York:20290710T200000
DTSTAMP:20260421T005315
CREATED:20260411T023253Z
LAST-MODIFIED:20260411T023253Z
UID:10001539-1878404400-1878408000@progressgrovecity.com
SUMMARY:Pleasant Township Trustee Meeting
DESCRIPTION:These meetings occur the second and fourth Tuesday of each month at 7PM.  The address is 5373 Norton Rd.
URL:https://progressgrovecity.com/event/pleasant-township-trustee-meeting/2029-07-10/
LOCATION:Pleasant Township Building\, 5373 Norton Rd\, Columbus\, OH\, 43123\, United States
CATEGORIES:City Meetings
ATTACH;FMTTYPE=image/png:https://progressgrovecity.com/wp-content/uploads/2026/04/PrairieTwshp.png
END:VEVENT
BEGIN:VEVENT
DTSTART;TZID=America/New_York:20290716T183000
DTEND;TZID=America/New_York:20290716T200000
DTSTAMP:20260421T005315
CREATED:20251216T234312Z
LAST-MODIFIED:20251216T234312Z
UID:10001296-1878921000-1878926400@progressgrovecity.com
SUMMARY:Grove City City Council Meeting
DESCRIPTION:All are invited to the Grove City Council meeting.\n• 6:30 p.m. Caucus\n• 7 p.m. Council Meeting
URL:https://progressgrovecity.com/event/grove-city-city-council-meeting-25-3/2029-07-16/
LOCATION:Grove City Hall\, 4035 Harrisburg Pike\, Grove City\, OH\, 43123\, United States
CATEGORIES:City Meetings
ATTACH;FMTTYPE=image/png:https://progressgrovecity.com/wp-content/uploads/2025/01/GroveCityLogo.png
END:VEVENT
BEGIN:VEVENT
DTSTART;TZID=America/New_York:20290724T190000
DTEND;TZID=America/New_York:20290724T200000
DTSTAMP:20260421T005315
CREATED:20260411T023549Z
LAST-MODIFIED:20260411T023549Z
UID:10001600-1879614000-1879617600@progressgrovecity.com
SUMMARY:Pleasant Township Trustee Meeting
DESCRIPTION:These meetings occur the second and fourth Tuesday of each month at 7PM.  The address is 5373 Norton Rd.
URL:https://progressgrovecity.com/event/pleasant-township-trustee-meeting-2/2029-07-24/
LOCATION:Pleasant Township Building\, 5373 Norton Rd\, Columbus\, OH\, 43123\, United States
CATEGORIES:City Meetings
ATTACH;FMTTYPE=image/png:https://progressgrovecity.com/wp-content/uploads/2026/04/PrairieTwshp.png
END:VEVENT
BEGIN:VEVENT
DTSTART;TZID=America/New_York:20290806T183000
DTEND;TZID=America/New_York:20290806T200000
DTSTAMP:20260421T005315
CREATED:20250106T220304Z
LAST-MODIFIED:20250106T220304Z
UID:10000481-1880735400-1880740800@progressgrovecity.com
SUMMARY:Grove City City Council Meeting
DESCRIPTION:All are invited to the Grove City Council meeting.\n• 6:30 p.m. Caucus\n• 7 p.m. Council Meeting
URL:https://progressgrovecity.com/event/grove-city-city-council-meeting-15/2029-08-06/
LOCATION:Grove City Hall\, 4035 Harrisburg Pike\, Grove City\, OH\, 43123\, United States
CATEGORIES:City Meetings
ATTACH;FMTTYPE=image/png:https://progressgrovecity.com/wp-content/uploads/2025/01/GroveCityLogo.png
END:VEVENT
BEGIN:VEVENT
DTSTART;TZID=America/New_York:20290814T190000
DTEND;TZID=America/New_York:20290814T200000
DTSTAMP:20260421T005315
CREATED:20260411T023253Z
LAST-MODIFIED:20260411T023253Z
UID:10001540-1881428400-1881432000@progressgrovecity.com
SUMMARY:Pleasant Township Trustee Meeting
DESCRIPTION:These meetings occur the second and fourth Tuesday of each month at 7PM.  The address is 5373 Norton Rd.
URL:https://progressgrovecity.com/event/pleasant-township-trustee-meeting/2029-08-14/
LOCATION:Pleasant Township Building\, 5373 Norton Rd\, Columbus\, OH\, 43123\, United States
CATEGORIES:City Meetings
ATTACH;FMTTYPE=image/png:https://progressgrovecity.com/wp-content/uploads/2026/04/PrairieTwshp.png
END:VEVENT
BEGIN:VEVENT
DTSTART;TZID=America/New_York:20290820T183000
DTEND;TZID=America/New_York:20290820T200000
DTSTAMP:20260421T005315
CREATED:20251216T234312Z
LAST-MODIFIED:20251216T234312Z
UID:10001297-1881945000-1881950400@progressgrovecity.com
SUMMARY:Grove City City Council Meeting
DESCRIPTION:All are invited to the Grove City Council meeting.\n• 6:30 p.m. Caucus\n• 7 p.m. Council Meeting
URL:https://progressgrovecity.com/event/grove-city-city-council-meeting-25-3/2029-08-20/
LOCATION:Grove City Hall\, 4035 Harrisburg Pike\, Grove City\, OH\, 43123\, United States
CATEGORIES:City Meetings
ATTACH;FMTTYPE=image/png:https://progressgrovecity.com/wp-content/uploads/2025/01/GroveCityLogo.png
END:VEVENT
BEGIN:VEVENT
DTSTART;TZID=America/New_York:20290828T190000
DTEND;TZID=America/New_York:20290828T200000
DTSTAMP:20260421T005315
CREATED:20260411T023549Z
LAST-MODIFIED:20260411T023549Z
UID:10001601-1882638000-1882641600@progressgrovecity.com
SUMMARY:Pleasant Township Trustee Meeting
DESCRIPTION:These meetings occur the second and fourth Tuesday of each month at 7PM.  The address is 5373 Norton Rd.
URL:https://progressgrovecity.com/event/pleasant-township-trustee-meeting-2/2029-08-28/
LOCATION:Pleasant Township Building\, 5373 Norton Rd\, Columbus\, OH\, 43123\, United States
CATEGORIES:City Meetings
ATTACH;FMTTYPE=image/png:https://progressgrovecity.com/wp-content/uploads/2026/04/PrairieTwshp.png
END:VEVENT
BEGIN:VEVENT
DTSTART;TZID=America/New_York:20290903T183000
DTEND;TZID=America/New_York:20290903T200000
DTSTAMP:20260421T005315
CREATED:20250106T220304Z
LAST-MODIFIED:20250106T220304Z
UID:10000482-1883154600-1883160000@progressgrovecity.com
SUMMARY:Grove City City Council Meeting
DESCRIPTION:All are invited to the Grove City Council meeting.\n• 6:30 p.m. Caucus\n• 7 p.m. Council Meeting
URL:https://progressgrovecity.com/event/grove-city-city-council-meeting-15/2029-09-03/
LOCATION:Grove City Hall\, 4035 Harrisburg Pike\, Grove City\, OH\, 43123\, United States
CATEGORIES:City Meetings
ATTACH;FMTTYPE=image/png:https://progressgrovecity.com/wp-content/uploads/2025/01/GroveCityLogo.png
END:VEVENT
BEGIN:VEVENT
DTSTART;TZID=America/New_York:20290911T190000
DTEND;TZID=America/New_York:20290911T200000
DTSTAMP:20260421T005315
CREATED:20260411T023253Z
LAST-MODIFIED:20260411T023253Z
UID:10001541-1883847600-1883851200@progressgrovecity.com
SUMMARY:Pleasant Township Trustee Meeting
DESCRIPTION:These meetings occur the second and fourth Tuesday of each month at 7PM.  The address is 5373 Norton Rd.
URL:https://progressgrovecity.com/event/pleasant-township-trustee-meeting/2029-09-11/
LOCATION:Pleasant Township Building\, 5373 Norton Rd\, Columbus\, OH\, 43123\, United States
CATEGORIES:City Meetings
ATTACH;FMTTYPE=image/png:https://progressgrovecity.com/wp-content/uploads/2026/04/PrairieTwshp.png
END:VEVENT
BEGIN:VEVENT
DTSTART;TZID=America/New_York:20290917T183000
DTEND;TZID=America/New_York:20290917T200000
DTSTAMP:20260421T005315
CREATED:20251216T234312Z
LAST-MODIFIED:20251216T234312Z
UID:10001298-1884364200-1884369600@progressgrovecity.com
SUMMARY:Grove City City Council Meeting
DESCRIPTION:All are invited to the Grove City Council meeting.\n• 6:30 p.m. Caucus\n• 7 p.m. Council Meeting
URL:https://progressgrovecity.com/event/grove-city-city-council-meeting-25-3/2029-09-17/
LOCATION:Grove City Hall\, 4035 Harrisburg Pike\, Grove City\, OH\, 43123\, United States
CATEGORIES:City Meetings
ATTACH;FMTTYPE=image/png:https://progressgrovecity.com/wp-content/uploads/2025/01/GroveCityLogo.png
END:VEVENT
BEGIN:VEVENT
DTSTART;TZID=America/New_York:20290925T190000
DTEND;TZID=America/New_York:20290925T200000
DTSTAMP:20260421T005315
CREATED:20260411T023549Z
LAST-MODIFIED:20260411T023549Z
UID:10001602-1885057200-1885060800@progressgrovecity.com
SUMMARY:Pleasant Township Trustee Meeting
DESCRIPTION:These meetings occur the second and fourth Tuesday of each month at 7PM.  The address is 5373 Norton Rd.
URL:https://progressgrovecity.com/event/pleasant-township-trustee-meeting-2/2029-09-25/
LOCATION:Pleasant Township Building\, 5373 Norton Rd\, Columbus\, OH\, 43123\, United States
CATEGORIES:City Meetings
ATTACH;FMTTYPE=image/png:https://progressgrovecity.com/wp-content/uploads/2026/04/PrairieTwshp.png
END:VEVENT
BEGIN:VEVENT
DTSTART;TZID=America/New_York:20291001T183000
DTEND;TZID=America/New_York:20291001T200000
DTSTAMP:20260421T005315
CREATED:20250106T220304Z
LAST-MODIFIED:20250106T220304Z
UID:10000483-1885573800-1885579200@progressgrovecity.com
SUMMARY:Grove City City Council Meeting
DESCRIPTION:All are invited to the Grove City Council meeting.\n• 6:30 p.m. Caucus\n• 7 p.m. Council Meeting
URL:https://progressgrovecity.com/event/grove-city-city-council-meeting-15/2029-10-01/
LOCATION:Grove City Hall\, 4035 Harrisburg Pike\, Grove City\, OH\, 43123\, United States
CATEGORIES:City Meetings
ATTACH;FMTTYPE=image/png:https://progressgrovecity.com/wp-content/uploads/2025/01/GroveCityLogo.png
END:VEVENT
BEGIN:VEVENT
DTSTART;TZID=America/New_York:20291009T190000
DTEND;TZID=America/New_York:20291009T200000
DTSTAMP:20260421T005315
CREATED:20260411T023253Z
LAST-MODIFIED:20260411T023253Z
UID:10001542-1886266800-1886270400@progressgrovecity.com
SUMMARY:Pleasant Township Trustee Meeting
DESCRIPTION:These meetings occur the second and fourth Tuesday of each month at 7PM.  The address is 5373 Norton Rd.
URL:https://progressgrovecity.com/event/pleasant-township-trustee-meeting/2029-10-09/
LOCATION:Pleasant Township Building\, 5373 Norton Rd\, Columbus\, OH\, 43123\, United States
CATEGORIES:City Meetings
ATTACH;FMTTYPE=image/png:https://progressgrovecity.com/wp-content/uploads/2026/04/PrairieTwshp.png
END:VEVENT
BEGIN:VEVENT
DTSTART;TZID=America/New_York:20291015T183000
DTEND;TZID=America/New_York:20291015T200000
DTSTAMP:20260421T005315
CREATED:20251216T234312Z
LAST-MODIFIED:20251216T234312Z
UID:10001299-1886783400-1886788800@progressgrovecity.com
SUMMARY:Grove City City Council Meeting
DESCRIPTION:All are invited to the Grove City Council meeting.\n• 6:30 p.m. Caucus\n• 7 p.m. Council Meeting
URL:https://progressgrovecity.com/event/grove-city-city-council-meeting-25-3/2029-10-15/
LOCATION:Grove City Hall\, 4035 Harrisburg Pike\, Grove City\, OH\, 43123\, United States
CATEGORIES:City Meetings
ATTACH;FMTTYPE=image/png:https://progressgrovecity.com/wp-content/uploads/2025/01/GroveCityLogo.png
END:VEVENT
BEGIN:VEVENT
DTSTART;TZID=America/New_York:20291023T190000
DTEND;TZID=America/New_York:20291023T200000
DTSTAMP:20260421T005315
CREATED:20260411T023549Z
LAST-MODIFIED:20260411T023549Z
UID:10001603-1887476400-1887480000@progressgrovecity.com
SUMMARY:Pleasant Township Trustee Meeting
DESCRIPTION:These meetings occur the second and fourth Tuesday of each month at 7PM.  The address is 5373 Norton Rd.
URL:https://progressgrovecity.com/event/pleasant-township-trustee-meeting-2/2029-10-23/
LOCATION:Pleasant Township Building\, 5373 Norton Rd\, Columbus\, OH\, 43123\, United States
CATEGORIES:City Meetings
ATTACH;FMTTYPE=image/png:https://progressgrovecity.com/wp-content/uploads/2026/04/PrairieTwshp.png
END:VEVENT
BEGIN:VEVENT
DTSTART;TZID=America/New_York:20291105T183000
DTEND;TZID=America/New_York:20291105T200000
DTSTAMP:20260421T005315
CREATED:20250106T220304Z
LAST-MODIFIED:20250106T220304Z
UID:10000484-1888597800-1888603200@progressgrovecity.com
SUMMARY:Grove City City Council Meeting
DESCRIPTION:All are invited to the Grove City Council meeting.\n• 6:30 p.m. Caucus\n• 7 p.m. Council Meeting
URL:https://progressgrovecity.com/event/grove-city-city-council-meeting-15/2029-11-05/
LOCATION:Grove City Hall\, 4035 Harrisburg Pike\, Grove City\, OH\, 43123\, United States
CATEGORIES:City Meetings
ATTACH;FMTTYPE=image/png:https://progressgrovecity.com/wp-content/uploads/2025/01/GroveCityLogo.png
END:VEVENT
BEGIN:VEVENT
DTSTART;TZID=America/New_York:20291113T190000
DTEND;TZID=America/New_York:20291113T200000
DTSTAMP:20260421T005315
CREATED:20260411T023253Z
LAST-MODIFIED:20260411T023253Z
UID:10001543-1889290800-1889294400@progressgrovecity.com
SUMMARY:Pleasant Township Trustee Meeting
DESCRIPTION:These meetings occur the second and fourth Tuesday of each month at 7PM.  The address is 5373 Norton Rd.
URL:https://progressgrovecity.com/event/pleasant-township-trustee-meeting/2029-11-13/
LOCATION:Pleasant Township Building\, 5373 Norton Rd\, Columbus\, OH\, 43123\, United States
CATEGORIES:City Meetings
ATTACH;FMTTYPE=image/png:https://progressgrovecity.com/wp-content/uploads/2026/04/PrairieTwshp.png
END:VEVENT
BEGIN:VEVENT
DTSTART;TZID=America/New_York:20291119T183000
DTEND;TZID=America/New_York:20291119T200000
DTSTAMP:20260421T005315
CREATED:20251216T234312Z
LAST-MODIFIED:20251216T234312Z
UID:10001300-1889807400-1889812800@progressgrovecity.com
SUMMARY:Grove City City Council Meeting
DESCRIPTION:All are invited to the Grove City Council meeting.\n• 6:30 p.m. Caucus\n• 7 p.m. Council Meeting
URL:https://progressgrovecity.com/event/grove-city-city-council-meeting-25-3/2029-11-19/
LOCATION:Grove City Hall\, 4035 Harrisburg Pike\, Grove City\, OH\, 43123\, United States
CATEGORIES:City Meetings
ATTACH;FMTTYPE=image/png:https://progressgrovecity.com/wp-content/uploads/2025/01/GroveCityLogo.png
END:VEVENT
BEGIN:VEVENT
DTSTART;TZID=America/New_York:20291127T190000
DTEND;TZID=America/New_York:20291127T200000
DTSTAMP:20260421T005315
CREATED:20260411T023549Z
LAST-MODIFIED:20260411T023549Z
UID:10001604-1890500400-1890504000@progressgrovecity.com
SUMMARY:Pleasant Township Trustee Meeting
DESCRIPTION:These meetings occur the second and fourth Tuesday of each month at 7PM.  The address is 5373 Norton Rd.
URL:https://progressgrovecity.com/event/pleasant-township-trustee-meeting-2/2029-11-27/
LOCATION:Pleasant Township Building\, 5373 Norton Rd\, Columbus\, OH\, 43123\, United States
CATEGORIES:City Meetings
ATTACH;FMTTYPE=image/png:https://progressgrovecity.com/wp-content/uploads/2026/04/PrairieTwshp.png
END:VEVENT
BEGIN:VEVENT
DTSTART;TZID=America/New_York:20291203T183000
DTEND;TZID=America/New_York:20291203T200000
DTSTAMP:20260421T005315
CREATED:20250106T220304Z
LAST-MODIFIED:20250106T220304Z
UID:10000485-1891017000-1891022400@progressgrovecity.com
SUMMARY:Grove City City Council Meeting
DESCRIPTION:All are invited to the Grove City Council meeting.\n• 6:30 p.m. Caucus\n• 7 p.m. Council Meeting
URL:https://progressgrovecity.com/event/grove-city-city-council-meeting-15/2029-12-03/
LOCATION:Grove City Hall\, 4035 Harrisburg Pike\, Grove City\, OH\, 43123\, United States
CATEGORIES:City Meetings
ATTACH;FMTTYPE=image/png:https://progressgrovecity.com/wp-content/uploads/2025/01/GroveCityLogo.png
END:VEVENT
BEGIN:VEVENT
DTSTART;TZID=America/New_York:20291211T190000
DTEND;TZID=America/New_York:20291211T200000
DTSTAMP:20260421T005315
CREATED:20260411T023253Z
LAST-MODIFIED:20260411T023253Z
UID:10001544-1891710000-1891713600@progressgrovecity.com
SUMMARY:Pleasant Township Trustee Meeting
DESCRIPTION:These meetings occur the second and fourth Tuesday of each month at 7PM.  The address is 5373 Norton Rd.
URL:https://progressgrovecity.com/event/pleasant-township-trustee-meeting/2029-12-11/
LOCATION:Pleasant Township Building\, 5373 Norton Rd\, Columbus\, OH\, 43123\, United States
CATEGORIES:City Meetings
ATTACH;FMTTYPE=image/png:https://progressgrovecity.com/wp-content/uploads/2026/04/PrairieTwshp.png
END:VEVENT
END:VCALENDAR