BEGIN:VCALENDAR
VERSION:2.0
PRODID:-//Progress Grove City - ECPv6.15.20//NONSGML v1.0//EN
CALSCALE:GREGORIAN
METHOD:PUBLISH
X-ORIGINAL-URL:https://progressgrovecity.com
X-WR-CALDESC:Events for Progress Grove City
REFRESH-INTERVAL;VALUE=DURATION:PT1H
X-Robots-Tag:noindex
X-PUBLISHED-TTL:PT1H
BEGIN:VTIMEZONE
TZID:America/New_York
BEGIN:DAYLIGHT
TZOFFSETFROM:-0500
TZOFFSETTO:-0400
TZNAME:EDT
DTSTART:20280312T070000
END:DAYLIGHT
BEGIN:STANDARD
TZOFFSETFROM:-0400
TZOFFSETTO:-0500
TZNAME:EST
DTSTART:20281105T060000
END:STANDARD
BEGIN:DAYLIGHT
TZOFFSETFROM:-0500
TZOFFSETTO:-0400
TZNAME:EDT
DTSTART:20290311T070000
END:DAYLIGHT
BEGIN:STANDARD
TZOFFSETFROM:-0400
TZOFFSETTO:-0500
TZNAME:EST
DTSTART:20291104T060000
END:STANDARD
BEGIN:DAYLIGHT
TZOFFSETFROM:-0500
TZOFFSETTO:-0400
TZNAME:EDT
DTSTART:20300310T070000
END:DAYLIGHT
BEGIN:STANDARD
TZOFFSETFROM:-0400
TZOFFSETTO:-0500
TZNAME:EST
DTSTART:20301103T060000
END:STANDARD
BEGIN:DAYLIGHT
TZOFFSETFROM:-0500
TZOFFSETTO:-0400
TZNAME:EDT
DTSTART:20310309T070000
END:DAYLIGHT
BEGIN:STANDARD
TZOFFSETFROM:-0400
TZOFFSETTO:-0500
TZNAME:EST
DTSTART:20311102T060000
END:STANDARD
END:VTIMEZONE
BEGIN:VEVENT
DTSTART;TZID=America/New_York:20291105T183000
DTEND;TZID=America/New_York:20291105T200000
DTSTAMP:20260421T193643
CREATED:20250106T220304Z
LAST-MODIFIED:20250106T220304Z
UID:10000484-1888597800-1888603200@progressgrovecity.com
SUMMARY:Grove City City Council Meeting
DESCRIPTION:All are invited to the Grove City Council meeting.\n• 6:30 p.m. Caucus\n• 7 p.m. Council Meeting
URL:https://progressgrovecity.com/event/grove-city-city-council-meeting-15/2029-11-05/
LOCATION:Grove City Hall\, 4035 Harrisburg Pike\, Grove City\, OH\, 43123\, United States
CATEGORIES:City Meetings
ATTACH;FMTTYPE=image/png:https://progressgrovecity.com/wp-content/uploads/2025/01/GroveCityLogo.png
END:VEVENT
BEGIN:VEVENT
DTSTART;TZID=America/New_York:20291113T190000
DTEND;TZID=America/New_York:20291113T200000
DTSTAMP:20260421T193643
CREATED:20260411T023253Z
LAST-MODIFIED:20260411T023253Z
UID:10001543-1889290800-1889294400@progressgrovecity.com
SUMMARY:Pleasant Township Trustee Meeting
DESCRIPTION:These meetings occur the second and fourth Tuesday of each month at 7PM.  The address is 5373 Norton Rd.
URL:https://progressgrovecity.com/event/pleasant-township-trustee-meeting/2029-11-13/
LOCATION:Pleasant Township Building\, 5373 Norton Rd\, Columbus\, OH\, 43123\, United States
CATEGORIES:City Meetings
ATTACH;FMTTYPE=image/png:https://progressgrovecity.com/wp-content/uploads/2026/04/PrairieTwshp.png
END:VEVENT
BEGIN:VEVENT
DTSTART;TZID=America/New_York:20291119T183000
DTEND;TZID=America/New_York:20291119T200000
DTSTAMP:20260421T193643
CREATED:20251216T234312Z
LAST-MODIFIED:20251216T234312Z
UID:10001300-1889807400-1889812800@progressgrovecity.com
SUMMARY:Grove City City Council Meeting
DESCRIPTION:All are invited to the Grove City Council meeting.\n• 6:30 p.m. Caucus\n• 7 p.m. Council Meeting
URL:https://progressgrovecity.com/event/grove-city-city-council-meeting-25-3/2029-11-19/
LOCATION:Grove City Hall\, 4035 Harrisburg Pike\, Grove City\, OH\, 43123\, United States
CATEGORIES:City Meetings
ATTACH;FMTTYPE=image/png:https://progressgrovecity.com/wp-content/uploads/2025/01/GroveCityLogo.png
END:VEVENT
BEGIN:VEVENT
DTSTART;TZID=America/New_York:20291127T190000
DTEND;TZID=America/New_York:20291127T200000
DTSTAMP:20260421T193643
CREATED:20260411T023549Z
LAST-MODIFIED:20260411T023549Z
UID:10001604-1890500400-1890504000@progressgrovecity.com
SUMMARY:Pleasant Township Trustee Meeting
DESCRIPTION:These meetings occur the second and fourth Tuesday of each month at 7PM.  The address is 5373 Norton Rd.
URL:https://progressgrovecity.com/event/pleasant-township-trustee-meeting-2/2029-11-27/
LOCATION:Pleasant Township Building\, 5373 Norton Rd\, Columbus\, OH\, 43123\, United States
CATEGORIES:City Meetings
ATTACH;FMTTYPE=image/png:https://progressgrovecity.com/wp-content/uploads/2026/04/PrairieTwshp.png
END:VEVENT
BEGIN:VEVENT
DTSTART;TZID=America/New_York:20291203T183000
DTEND;TZID=America/New_York:20291203T200000
DTSTAMP:20260421T193643
CREATED:20250106T220304Z
LAST-MODIFIED:20250106T220304Z
UID:10000485-1891017000-1891022400@progressgrovecity.com
SUMMARY:Grove City City Council Meeting
DESCRIPTION:All are invited to the Grove City Council meeting.\n• 6:30 p.m. Caucus\n• 7 p.m. Council Meeting
URL:https://progressgrovecity.com/event/grove-city-city-council-meeting-15/2029-12-03/
LOCATION:Grove City Hall\, 4035 Harrisburg Pike\, Grove City\, OH\, 43123\, United States
CATEGORIES:City Meetings
ATTACH;FMTTYPE=image/png:https://progressgrovecity.com/wp-content/uploads/2025/01/GroveCityLogo.png
END:VEVENT
BEGIN:VEVENT
DTSTART;TZID=America/New_York:20291211T190000
DTEND;TZID=America/New_York:20291211T200000
DTSTAMP:20260421T193643
CREATED:20260411T023253Z
LAST-MODIFIED:20260411T023253Z
UID:10001544-1891710000-1891713600@progressgrovecity.com
SUMMARY:Pleasant Township Trustee Meeting
DESCRIPTION:These meetings occur the second and fourth Tuesday of each month at 7PM.  The address is 5373 Norton Rd.
URL:https://progressgrovecity.com/event/pleasant-township-trustee-meeting/2029-12-11/
LOCATION:Pleasant Township Building\, 5373 Norton Rd\, Columbus\, OH\, 43123\, United States
CATEGORIES:City Meetings
ATTACH;FMTTYPE=image/png:https://progressgrovecity.com/wp-content/uploads/2026/04/PrairieTwshp.png
END:VEVENT
BEGIN:VEVENT
DTSTART;TZID=America/New_York:20291217T183000
DTEND;TZID=America/New_York:20291217T200000
DTSTAMP:20260421T193643
CREATED:20251216T234312Z
LAST-MODIFIED:20251216T234312Z
UID:10001301-1892226600-1892232000@progressgrovecity.com
SUMMARY:Grove City City Council Meeting
DESCRIPTION:All are invited to the Grove City Council meeting.\n• 6:30 p.m. Caucus\n• 7 p.m. Council Meeting
URL:https://progressgrovecity.com/event/grove-city-city-council-meeting-25-3/2029-12-17/
LOCATION:Grove City Hall\, 4035 Harrisburg Pike\, Grove City\, OH\, 43123\, United States
CATEGORIES:City Meetings
ATTACH;FMTTYPE=image/png:https://progressgrovecity.com/wp-content/uploads/2025/01/GroveCityLogo.png
END:VEVENT
BEGIN:VEVENT
DTSTART;TZID=America/New_York:20291225T190000
DTEND;TZID=America/New_York:20291225T200000
DTSTAMP:20260421T193643
CREATED:20260411T023549Z
LAST-MODIFIED:20260411T023549Z
UID:10001605-1892919600-1892923200@progressgrovecity.com
SUMMARY:Pleasant Township Trustee Meeting
DESCRIPTION:These meetings occur the second and fourth Tuesday of each month at 7PM.  The address is 5373 Norton Rd.
URL:https://progressgrovecity.com/event/pleasant-township-trustee-meeting-2/2029-12-25/
LOCATION:Pleasant Township Building\, 5373 Norton Rd\, Columbus\, OH\, 43123\, United States
CATEGORIES:City Meetings
ATTACH;FMTTYPE=image/png:https://progressgrovecity.com/wp-content/uploads/2026/04/PrairieTwshp.png
END:VEVENT
BEGIN:VEVENT
DTSTART;TZID=America/New_York:20300107T183000
DTEND;TZID=America/New_York:20300107T200000
DTSTAMP:20260421T193643
CREATED:20250106T220304Z
LAST-MODIFIED:20250106T220304Z
UID:10001332-1894041000-1894046400@progressgrovecity.com
SUMMARY:Grove City City Council Meeting
DESCRIPTION:All are invited to the Grove City Council meeting.\n• 6:30 p.m. Caucus\n• 7 p.m. Council Meeting
URL:https://progressgrovecity.com/event/grove-city-city-council-meeting-15/2030-01-07/
LOCATION:Grove City Hall\, 4035 Harrisburg Pike\, Grove City\, OH\, 43123\, United States
CATEGORIES:City Meetings
ATTACH;FMTTYPE=image/png:https://progressgrovecity.com/wp-content/uploads/2025/01/GroveCityLogo.png
END:VEVENT
BEGIN:VEVENT
DTSTART;TZID=America/New_York:20300108T190000
DTEND;TZID=America/New_York:20300108T200000
DTSTAMP:20260421T193643
CREATED:20260411T023253Z
LAST-MODIFIED:20260411T023253Z
UID:10001545-1894129200-1894132800@progressgrovecity.com
SUMMARY:Pleasant Township Trustee Meeting
DESCRIPTION:These meetings occur the second and fourth Tuesday of each month at 7PM.  The address is 5373 Norton Rd.
URL:https://progressgrovecity.com/event/pleasant-township-trustee-meeting/2030-01-08/
LOCATION:Pleasant Township Building\, 5373 Norton Rd\, Columbus\, OH\, 43123\, United States
CATEGORIES:City Meetings
ATTACH;FMTTYPE=image/png:https://progressgrovecity.com/wp-content/uploads/2026/04/PrairieTwshp.png
END:VEVENT
BEGIN:VEVENT
DTSTART;TZID=America/New_York:20300121T183000
DTEND;TZID=America/New_York:20300121T200000
DTSTAMP:20260421T193643
CREATED:20251216T234312Z
LAST-MODIFIED:20251216T234312Z
UID:10001328-1895250600-1895256000@progressgrovecity.com
SUMMARY:Grove City City Council Meeting
DESCRIPTION:All are invited to the Grove City Council meeting.\n• 6:30 p.m. Caucus\n• 7 p.m. Council Meeting
URL:https://progressgrovecity.com/event/grove-city-city-council-meeting-25-3/2030-01-21/
LOCATION:Grove City Hall\, 4035 Harrisburg Pike\, Grove City\, OH\, 43123\, United States
CATEGORIES:City Meetings
ATTACH;FMTTYPE=image/png:https://progressgrovecity.com/wp-content/uploads/2025/01/GroveCityLogo.png
END:VEVENT
BEGIN:VEVENT
DTSTART;TZID=America/New_York:20300122T190000
DTEND;TZID=America/New_York:20300122T200000
DTSTAMP:20260421T193643
CREATED:20260411T023549Z
LAST-MODIFIED:20260411T023549Z
UID:10001606-1895338800-1895342400@progressgrovecity.com
SUMMARY:Pleasant Township Trustee Meeting
DESCRIPTION:These meetings occur the second and fourth Tuesday of each month at 7PM.  The address is 5373 Norton Rd.
URL:https://progressgrovecity.com/event/pleasant-township-trustee-meeting-2/2030-01-22/
LOCATION:Pleasant Township Building\, 5373 Norton Rd\, Columbus\, OH\, 43123\, United States
CATEGORIES:City Meetings
ATTACH;FMTTYPE=image/png:https://progressgrovecity.com/wp-content/uploads/2026/04/PrairieTwshp.png
END:VEVENT
BEGIN:VEVENT
DTSTART;TZID=America/New_York:20300204T183000
DTEND;TZID=America/New_York:20300204T200000
DTSTAMP:20260421T193643
CREATED:20250106T220304Z
LAST-MODIFIED:20250106T220304Z
UID:10001333-1896460200-1896465600@progressgrovecity.com
SUMMARY:Grove City City Council Meeting
DESCRIPTION:All are invited to the Grove City Council meeting.\n• 6:30 p.m. Caucus\n• 7 p.m. Council Meeting
URL:https://progressgrovecity.com/event/grove-city-city-council-meeting-15/2030-02-04/
LOCATION:Grove City Hall\, 4035 Harrisburg Pike\, Grove City\, OH\, 43123\, United States
CATEGORIES:City Meetings
ATTACH;FMTTYPE=image/png:https://progressgrovecity.com/wp-content/uploads/2025/01/GroveCityLogo.png
END:VEVENT
BEGIN:VEVENT
DTSTART;TZID=America/New_York:20300212T190000
DTEND;TZID=America/New_York:20300212T200000
DTSTAMP:20260421T193643
CREATED:20260411T023253Z
LAST-MODIFIED:20260411T023253Z
UID:10001546-1897153200-1897156800@progressgrovecity.com
SUMMARY:Pleasant Township Trustee Meeting
DESCRIPTION:These meetings occur the second and fourth Tuesday of each month at 7PM.  The address is 5373 Norton Rd.
URL:https://progressgrovecity.com/event/pleasant-township-trustee-meeting/2030-02-12/
LOCATION:Pleasant Township Building\, 5373 Norton Rd\, Columbus\, OH\, 43123\, United States
CATEGORIES:City Meetings
ATTACH;FMTTYPE=image/png:https://progressgrovecity.com/wp-content/uploads/2026/04/PrairieTwshp.png
END:VEVENT
BEGIN:VEVENT
DTSTART;TZID=America/New_York:20300218T183000
DTEND;TZID=America/New_York:20300218T200000
DTSTAMP:20260421T193643
CREATED:20251216T234312Z
LAST-MODIFIED:20251216T234312Z
UID:10001420-1897669800-1897675200@progressgrovecity.com
SUMMARY:Grove City City Council Meeting
DESCRIPTION:All are invited to the Grove City Council meeting.\n• 6:30 p.m. Caucus\n• 7 p.m. Council Meeting
URL:https://progressgrovecity.com/event/grove-city-city-council-meeting-25-3/2030-02-18/
LOCATION:Grove City Hall\, 4035 Harrisburg Pike\, Grove City\, OH\, 43123\, United States
CATEGORIES:City Meetings
ATTACH;FMTTYPE=image/png:https://progressgrovecity.com/wp-content/uploads/2025/01/GroveCityLogo.png
END:VEVENT
BEGIN:VEVENT
DTSTART;TZID=America/New_York:20300226T190000
DTEND;TZID=America/New_York:20300226T200000
DTSTAMP:20260421T193643
CREATED:20260411T023549Z
LAST-MODIFIED:20260411T023549Z
UID:10001607-1898362800-1898366400@progressgrovecity.com
SUMMARY:Pleasant Township Trustee Meeting
DESCRIPTION:These meetings occur the second and fourth Tuesday of each month at 7PM.  The address is 5373 Norton Rd.
URL:https://progressgrovecity.com/event/pleasant-township-trustee-meeting-2/2030-02-26/
LOCATION:Pleasant Township Building\, 5373 Norton Rd\, Columbus\, OH\, 43123\, United States
CATEGORIES:City Meetings
ATTACH;FMTTYPE=image/png:https://progressgrovecity.com/wp-content/uploads/2026/04/PrairieTwshp.png
END:VEVENT
BEGIN:VEVENT
DTSTART;TZID=America/New_York:20300304T183000
DTEND;TZID=America/New_York:20300304T200000
DTSTAMP:20260421T193643
CREATED:20250106T220304Z
LAST-MODIFIED:20250106T220304Z
UID:10001334-1898879400-1898884800@progressgrovecity.com
SUMMARY:Grove City City Council Meeting
DESCRIPTION:All are invited to the Grove City Council meeting.\n• 6:30 p.m. Caucus\n• 7 p.m. Council Meeting
URL:https://progressgrovecity.com/event/grove-city-city-council-meeting-15/2030-03-04/
LOCATION:Grove City Hall\, 4035 Harrisburg Pike\, Grove City\, OH\, 43123\, United States
CATEGORIES:City Meetings
ATTACH;FMTTYPE=image/png:https://progressgrovecity.com/wp-content/uploads/2025/01/GroveCityLogo.png
END:VEVENT
BEGIN:VEVENT
DTSTART;TZID=America/New_York:20300312T190000
DTEND;TZID=America/New_York:20300312T200000
DTSTAMP:20260421T193643
CREATED:20260411T023253Z
LAST-MODIFIED:20260411T023253Z
UID:10001547-1899572400-1899576000@progressgrovecity.com
SUMMARY:Pleasant Township Trustee Meeting
DESCRIPTION:These meetings occur the second and fourth Tuesday of each month at 7PM.  The address is 5373 Norton Rd.
URL:https://progressgrovecity.com/event/pleasant-township-trustee-meeting/2030-03-12/
LOCATION:Pleasant Township Building\, 5373 Norton Rd\, Columbus\, OH\, 43123\, United States
CATEGORIES:City Meetings
ATTACH;FMTTYPE=image/png:https://progressgrovecity.com/wp-content/uploads/2026/04/PrairieTwshp.png
END:VEVENT
BEGIN:VEVENT
DTSTART;TZID=America/New_York:20300318T183000
DTEND;TZID=America/New_York:20300318T200000
DTSTAMP:20260421T193643
CREATED:20251216T234312Z
LAST-MODIFIED:20251216T234312Z
UID:10001421-1900089000-1900094400@progressgrovecity.com
SUMMARY:Grove City City Council Meeting
DESCRIPTION:All are invited to the Grove City Council meeting.\n• 6:30 p.m. Caucus\n• 7 p.m. Council Meeting
URL:https://progressgrovecity.com/event/grove-city-city-council-meeting-25-3/2030-03-18/
LOCATION:Grove City Hall\, 4035 Harrisburg Pike\, Grove City\, OH\, 43123\, United States
CATEGORIES:City Meetings
ATTACH;FMTTYPE=image/png:https://progressgrovecity.com/wp-content/uploads/2025/01/GroveCityLogo.png
END:VEVENT
BEGIN:VEVENT
DTSTART;TZID=America/New_York:20300326T190000
DTEND;TZID=America/New_York:20300326T200000
DTSTAMP:20260421T193643
CREATED:20260411T023549Z
LAST-MODIFIED:20260411T023549Z
UID:10001608-1900782000-1900785600@progressgrovecity.com
SUMMARY:Pleasant Township Trustee Meeting
DESCRIPTION:These meetings occur the second and fourth Tuesday of each month at 7PM.  The address is 5373 Norton Rd.
URL:https://progressgrovecity.com/event/pleasant-township-trustee-meeting-2/2030-03-26/
LOCATION:Pleasant Township Building\, 5373 Norton Rd\, Columbus\, OH\, 43123\, United States
CATEGORIES:City Meetings
ATTACH;FMTTYPE=image/png:https://progressgrovecity.com/wp-content/uploads/2026/04/PrairieTwshp.png
END:VEVENT
BEGIN:VEVENT
DTSTART;TZID=America/New_York:20300409T190000
DTEND;TZID=America/New_York:20300409T200000
DTSTAMP:20260421T193643
CREATED:20260411T023253Z
LAST-MODIFIED:20260411T023253Z
UID:10001548-1901991600-1901995200@progressgrovecity.com
SUMMARY:Pleasant Township Trustee Meeting
DESCRIPTION:These meetings occur the second and fourth Tuesday of each month at 7PM.  The address is 5373 Norton Rd.
URL:https://progressgrovecity.com/event/pleasant-township-trustee-meeting/2030-04-09/
LOCATION:Pleasant Township Building\, 5373 Norton Rd\, Columbus\, OH\, 43123\, United States
CATEGORIES:City Meetings
ATTACH;FMTTYPE=image/png:https://progressgrovecity.com/wp-content/uploads/2026/04/PrairieTwshp.png
END:VEVENT
BEGIN:VEVENT
DTSTART;TZID=America/New_York:20300415T183000
DTEND;TZID=America/New_York:20300415T200000
DTSTAMP:20260421T193643
CREATED:20251216T234312Z
LAST-MODIFIED:20251216T234312Z
UID:10001422-1902508200-1902513600@progressgrovecity.com
SUMMARY:Grove City City Council Meeting
DESCRIPTION:All are invited to the Grove City Council meeting.\n• 6:30 p.m. Caucus\n• 7 p.m. Council Meeting
URL:https://progressgrovecity.com/event/grove-city-city-council-meeting-25-3/2030-04-15/
LOCATION:Grove City Hall\, 4035 Harrisburg Pike\, Grove City\, OH\, 43123\, United States
CATEGORIES:City Meetings
ATTACH;FMTTYPE=image/png:https://progressgrovecity.com/wp-content/uploads/2025/01/GroveCityLogo.png
END:VEVENT
BEGIN:VEVENT
DTSTART;TZID=America/New_York:20300423T190000
DTEND;TZID=America/New_York:20300423T200000
DTSTAMP:20260421T193643
CREATED:20260411T023549Z
LAST-MODIFIED:20260411T023549Z
UID:10001609-1903201200-1903204800@progressgrovecity.com
SUMMARY:Pleasant Township Trustee Meeting
DESCRIPTION:These meetings occur the second and fourth Tuesday of each month at 7PM.  The address is 5373 Norton Rd.
URL:https://progressgrovecity.com/event/pleasant-township-trustee-meeting-2/2030-04-23/
LOCATION:Pleasant Township Building\, 5373 Norton Rd\, Columbus\, OH\, 43123\, United States
CATEGORIES:City Meetings
ATTACH;FMTTYPE=image/png:https://progressgrovecity.com/wp-content/uploads/2026/04/PrairieTwshp.png
END:VEVENT
BEGIN:VEVENT
DTSTART;TZID=America/New_York:20300514T190000
DTEND;TZID=America/New_York:20300514T200000
DTSTAMP:20260421T193643
CREATED:20260411T023253Z
LAST-MODIFIED:20260411T023253Z
UID:10001549-1905015600-1905019200@progressgrovecity.com
SUMMARY:Pleasant Township Trustee Meeting
DESCRIPTION:These meetings occur the second and fourth Tuesday of each month at 7PM.  The address is 5373 Norton Rd.
URL:https://progressgrovecity.com/event/pleasant-township-trustee-meeting/2030-05-14/
LOCATION:Pleasant Township Building\, 5373 Norton Rd\, Columbus\, OH\, 43123\, United States
CATEGORIES:City Meetings
ATTACH;FMTTYPE=image/png:https://progressgrovecity.com/wp-content/uploads/2026/04/PrairieTwshp.png
END:VEVENT
BEGIN:VEVENT
DTSTART;TZID=America/New_York:20300520T183000
DTEND;TZID=America/New_York:20300520T200000
DTSTAMP:20260421T193643
CREATED:20251216T234312Z
LAST-MODIFIED:20251216T234312Z
UID:10001423-1905532200-1905537600@progressgrovecity.com
SUMMARY:Grove City City Council Meeting
DESCRIPTION:All are invited to the Grove City Council meeting.\n• 6:30 p.m. Caucus\n• 7 p.m. Council Meeting
URL:https://progressgrovecity.com/event/grove-city-city-council-meeting-25-3/2030-05-20/
LOCATION:Grove City Hall\, 4035 Harrisburg Pike\, Grove City\, OH\, 43123\, United States
CATEGORIES:City Meetings
ATTACH;FMTTYPE=image/png:https://progressgrovecity.com/wp-content/uploads/2025/01/GroveCityLogo.png
END:VEVENT
BEGIN:VEVENT
DTSTART;TZID=America/New_York:20300528T190000
DTEND;TZID=America/New_York:20300528T200000
DTSTAMP:20260421T193643
CREATED:20260411T023549Z
LAST-MODIFIED:20260411T023549Z
UID:10001610-1906225200-1906228800@progressgrovecity.com
SUMMARY:Pleasant Township Trustee Meeting
DESCRIPTION:These meetings occur the second and fourth Tuesday of each month at 7PM.  The address is 5373 Norton Rd.
URL:https://progressgrovecity.com/event/pleasant-township-trustee-meeting-2/2030-05-28/
LOCATION:Pleasant Township Building\, 5373 Norton Rd\, Columbus\, OH\, 43123\, United States
CATEGORIES:City Meetings
ATTACH;FMTTYPE=image/png:https://progressgrovecity.com/wp-content/uploads/2026/04/PrairieTwshp.png
END:VEVENT
BEGIN:VEVENT
DTSTART;TZID=America/New_York:20300611T190000
DTEND;TZID=America/New_York:20300611T200000
DTSTAMP:20260421T193643
CREATED:20260411T023253Z
LAST-MODIFIED:20260411T023253Z
UID:10001550-1907434800-1907438400@progressgrovecity.com
SUMMARY:Pleasant Township Trustee Meeting
DESCRIPTION:These meetings occur the second and fourth Tuesday of each month at 7PM.  The address is 5373 Norton Rd.
URL:https://progressgrovecity.com/event/pleasant-township-trustee-meeting/2030-06-11/
LOCATION:Pleasant Township Building\, 5373 Norton Rd\, Columbus\, OH\, 43123\, United States
CATEGORIES:City Meetings
ATTACH;FMTTYPE=image/png:https://progressgrovecity.com/wp-content/uploads/2026/04/PrairieTwshp.png
END:VEVENT
BEGIN:VEVENT
DTSTART;TZID=America/New_York:20300617T183000
DTEND;TZID=America/New_York:20300617T200000
DTSTAMP:20260421T193643
CREATED:20251216T234312Z
LAST-MODIFIED:20251216T234312Z
UID:10001424-1907951400-1907956800@progressgrovecity.com
SUMMARY:Grove City City Council Meeting
DESCRIPTION:All are invited to the Grove City Council meeting.\n• 6:30 p.m. Caucus\n• 7 p.m. Council Meeting
URL:https://progressgrovecity.com/event/grove-city-city-council-meeting-25-3/2030-06-17/
LOCATION:Grove City Hall\, 4035 Harrisburg Pike\, Grove City\, OH\, 43123\, United States
CATEGORIES:City Meetings
ATTACH;FMTTYPE=image/png:https://progressgrovecity.com/wp-content/uploads/2025/01/GroveCityLogo.png
END:VEVENT
BEGIN:VEVENT
DTSTART;TZID=America/New_York:20300625T190000
DTEND;TZID=America/New_York:20300625T200000
DTSTAMP:20260421T193643
CREATED:20260411T023549Z
LAST-MODIFIED:20260411T023549Z
UID:10001611-1908644400-1908648000@progressgrovecity.com
SUMMARY:Pleasant Township Trustee Meeting
DESCRIPTION:These meetings occur the second and fourth Tuesday of each month at 7PM.  The address is 5373 Norton Rd.
URL:https://progressgrovecity.com/event/pleasant-township-trustee-meeting-2/2030-06-25/
LOCATION:Pleasant Township Building\, 5373 Norton Rd\, Columbus\, OH\, 43123\, United States
CATEGORIES:City Meetings
ATTACH;FMTTYPE=image/png:https://progressgrovecity.com/wp-content/uploads/2026/04/PrairieTwshp.png
END:VEVENT
BEGIN:VEVENT
DTSTART;TZID=America/New_York:20300709T190000
DTEND;TZID=America/New_York:20300709T200000
DTSTAMP:20260421T193643
CREATED:20260411T023253Z
LAST-MODIFIED:20260411T023253Z
UID:10001551-1909854000-1909857600@progressgrovecity.com
SUMMARY:Pleasant Township Trustee Meeting
DESCRIPTION:These meetings occur the second and fourth Tuesday of each month at 7PM.  The address is 5373 Norton Rd.
URL:https://progressgrovecity.com/event/pleasant-township-trustee-meeting/2030-07-09/
LOCATION:Pleasant Township Building\, 5373 Norton Rd\, Columbus\, OH\, 43123\, United States
CATEGORIES:City Meetings
ATTACH;FMTTYPE=image/png:https://progressgrovecity.com/wp-content/uploads/2026/04/PrairieTwshp.png
END:VEVENT
END:VCALENDAR