BEGIN:VCALENDAR
VERSION:2.0
PRODID:-//Progress Grove City - ECPv6.15.20//NONSGML v1.0//EN
CALSCALE:GREGORIAN
METHOD:PUBLISH
X-ORIGINAL-URL:https://progressgrovecity.com
X-WR-CALDESC:Events for Progress Grove City
REFRESH-INTERVAL;VALUE=DURATION:PT1H
X-Robots-Tag:noindex
X-PUBLISHED-TTL:PT1H
BEGIN:VTIMEZONE
TZID:America/New_York
BEGIN:DAYLIGHT
TZOFFSETFROM:-0500
TZOFFSETTO:-0400
TZNAME:EDT
DTSTART:20240310T070000
END:DAYLIGHT
BEGIN:STANDARD
TZOFFSETFROM:-0400
TZOFFSETTO:-0500
TZNAME:EST
DTSTART:20241103T060000
END:STANDARD
BEGIN:DAYLIGHT
TZOFFSETFROM:-0500
TZOFFSETTO:-0400
TZNAME:EDT
DTSTART:20250309T070000
END:DAYLIGHT
BEGIN:STANDARD
TZOFFSETFROM:-0400
TZOFFSETTO:-0500
TZNAME:EST
DTSTART:20251102T060000
END:STANDARD
BEGIN:DAYLIGHT
TZOFFSETFROM:-0500
TZOFFSETTO:-0400
TZNAME:EDT
DTSTART:20260308T070000
END:DAYLIGHT
BEGIN:STANDARD
TZOFFSETFROM:-0400
TZOFFSETTO:-0500
TZNAME:EST
DTSTART:20261101T060000
END:STANDARD
BEGIN:DAYLIGHT
TZOFFSETFROM:-0500
TZOFFSETTO:-0400
TZNAME:EDT
DTSTART:20270314T070000
END:DAYLIGHT
BEGIN:STANDARD
TZOFFSETFROM:-0400
TZOFFSETTO:-0500
TZNAME:EST
DTSTART:20271107T060000
END:STANDARD
END:VTIMEZONE
BEGIN:VEVENT
DTSTART;TZID=America/New_York:20251006T183000
DTEND;TZID=America/New_York:20251006T200000
DTSTAMP:20260424T114123
CREATED:20250106T220304Z
LAST-MODIFIED:20250106T220304Z
UID:10000435-1759775400-1759780800@progressgrovecity.com
SUMMARY:Grove City City Council Meeting
DESCRIPTION:All are invited to the Grove City Council meeting.\n• 6:30 p.m. Caucus\n• 7 p.m. Council Meeting
URL:https://progressgrovecity.com/event/grove-city-city-council-meeting-15/2025-10-06/
LOCATION:Grove City Hall\, 4035 Harrisburg Pike\, Grove City\, OH\, 43123\, United States
CATEGORIES:City Meetings
ATTACH;FMTTYPE=image/png:https://progressgrovecity.com/wp-content/uploads/2025/01/GroveCityLogo.png
END:VEVENT
BEGIN:VEVENT
DTSTART;TZID=America/New_York:20251020T183000
DTEND;TZID=America/New_York:20251020T200000
DTSTAMP:20260424T114123
CREATED:20250110T161005Z
LAST-MODIFIED:20250110T161005Z
UID:10001251-1760985000-1760990400@progressgrovecity.com
SUMMARY:Grove City City Council Meeting
DESCRIPTION:All are invited to the Grove City Council meeting.\n• 6:30 p.m. Caucus\n• 7 p.m. Council Meeting
URL:https://progressgrovecity.com/event/grove-city-city-council-meeting-25/2025-10-20/
LOCATION:Grove City Hall\, 4035 Harrisburg Pike\, Grove City\, OH\, 43123\, United States
CATEGORIES:City Meetings
ATTACH;FMTTYPE=image/png:https://progressgrovecity.com/wp-content/uploads/2025/01/GroveCityLogo.png
END:VEVENT
BEGIN:VEVENT
DTSTART;TZID=America/New_York:20251023T170000
DTEND;TZID=America/New_York:20251023T220000
DTSTAMP:20260424T114123
CREATED:20251004T145614Z
LAST-MODIFIED:20251004T145614Z
UID:10001417-1761238800-1761256800@progressgrovecity.com
SUMMARY:2025 Meet the Candidates
DESCRIPTION:Join us for a moderated panel featuring local candidates.  Questions will be predetermined and there will be no public Q&A. \n  \n5:00 PM Doors Open\, Greet and Network \n6:00 PM Jackson Township Candidates Q&A \n7:00 PM Grove City Council Cadidates Q&A \n8:00 PM School Board Candidates Q&A \n  \nAn event of Grove City Chamber of Commerce
URL:https://progressgrovecity.com/event/2025-meet-the-candidates/
LOCATION:Aladdin Shrine Center\, 1801 Gateway Circle\, Grove City\, OH\, 43123\, United States
CATEGORIES:City Meetings,Informational Meetings,School Board Meetings
ATTACH;FMTTYPE=image/png:https://progressgrovecity.com/wp-content/uploads/2025/10/MeetTheCandidates2025.png
END:VEVENT
BEGIN:VEVENT
DTSTART;TZID=America/New_York:20251103T183000
DTEND;TZID=America/New_York:20251103T200000
DTSTAMP:20260424T114123
CREATED:20250106T220304Z
LAST-MODIFIED:20250106T220304Z
UID:10000436-1762194600-1762200000@progressgrovecity.com
SUMMARY:Grove City City Council Meeting
DESCRIPTION:All are invited to the Grove City Council meeting.\n• 6:30 p.m. Caucus\n• 7 p.m. Council Meeting
URL:https://progressgrovecity.com/event/grove-city-city-council-meeting-15/2025-11-03/
LOCATION:Grove City Hall\, 4035 Harrisburg Pike\, Grove City\, OH\, 43123\, United States
CATEGORIES:City Meetings
ATTACH;FMTTYPE=image/png:https://progressgrovecity.com/wp-content/uploads/2025/01/GroveCityLogo.png
END:VEVENT
BEGIN:VEVENT
DTSTART;TZID=America/New_York:20251117T183000
DTEND;TZID=America/New_York:20251117T200000
DTSTAMP:20260424T114124
CREATED:20250110T161005Z
LAST-MODIFIED:20250110T161005Z
UID:10001252-1763404200-1763409600@progressgrovecity.com
SUMMARY:Grove City City Council Meeting
DESCRIPTION:All are invited to the Grove City Council meeting.\n• 6:30 p.m. Caucus\n• 7 p.m. Council Meeting
URL:https://progressgrovecity.com/event/grove-city-city-council-meeting-25/2025-11-17/
LOCATION:Grove City Hall\, 4035 Harrisburg Pike\, Grove City\, OH\, 43123\, United States
CATEGORIES:City Meetings
ATTACH;FMTTYPE=image/png:https://progressgrovecity.com/wp-content/uploads/2025/01/GroveCityLogo.png
END:VEVENT
BEGIN:VEVENT
DTSTART;TZID=America/New_York:20251201T183000
DTEND;TZID=America/New_York:20251201T200000
DTSTAMP:20260424T114124
CREATED:20250106T220304Z
LAST-MODIFIED:20250106T220304Z
UID:10000437-1764613800-1764619200@progressgrovecity.com
SUMMARY:Grove City City Council Meeting
DESCRIPTION:All are invited to the Grove City Council meeting.\n• 6:30 p.m. Caucus\n• 7 p.m. Council Meeting
URL:https://progressgrovecity.com/event/grove-city-city-council-meeting-15/2025-12-01/
LOCATION:Grove City Hall\, 4035 Harrisburg Pike\, Grove City\, OH\, 43123\, United States
CATEGORIES:City Meetings
ATTACH;FMTTYPE=image/png:https://progressgrovecity.com/wp-content/uploads/2025/01/GroveCityLogo.png
END:VEVENT
BEGIN:VEVENT
DTSTART;TZID=America/New_York:20251215T183000
DTEND;TZID=America/New_York:20251215T200000
DTSTAMP:20260424T114124
CREATED:20250110T161005Z
LAST-MODIFIED:20250110T161005Z
UID:10001253-1765823400-1765828800@progressgrovecity.com
SUMMARY:Grove City City Council Meeting
DESCRIPTION:All are invited to the Grove City Council meeting.\n• 6:30 p.m. Caucus\n• 7 p.m. Council Meeting
URL:https://progressgrovecity.com/event/grove-city-city-council-meeting-25/2025-12-15/
LOCATION:Grove City Hall\, 4035 Harrisburg Pike\, Grove City\, OH\, 43123\, United States
CATEGORIES:City Meetings
ATTACH;FMTTYPE=image/png:https://progressgrovecity.com/wp-content/uploads/2025/01/GroveCityLogo.png
END:VEVENT
BEGIN:VEVENT
DTSTART;TZID=America/New_York:20260105T183000
DTEND;TZID=America/New_York:20260105T200000
DTSTAMP:20260424T114124
CREATED:20250106T220304Z
LAST-MODIFIED:20250106T220304Z
UID:10000438-1767637800-1767643200@progressgrovecity.com
SUMMARY:Grove City City Council Meeting
DESCRIPTION:All are invited to the Grove City Council meeting.\n• 6:30 p.m. Caucus\n• 7 p.m. Council Meeting
URL:https://progressgrovecity.com/event/grove-city-city-council-meeting-15/2026-01-05/
LOCATION:Grove City Hall\, 4035 Harrisburg Pike\, Grove City\, OH\, 43123\, United States
CATEGORIES:City Meetings
ATTACH;FMTTYPE=image/png:https://progressgrovecity.com/wp-content/uploads/2025/01/GroveCityLogo.png
END:VEVENT
BEGIN:VEVENT
DTSTART;TZID=America/New_York:20260119T183000
DTEND;TZID=America/New_York:20260119T200000
DTSTAMP:20260424T114124
CREATED:20251216T234542Z
LAST-MODIFIED:20251216T234543Z
UID:10001254-1768847400-1768852800@progressgrovecity.com
SUMMARY:Grove City City Council Meeting
DESCRIPTION:All are invited to the Grove City Council meeting.\n• 6:30 p.m. Caucus\n• 7 p.m. Council Meeting
URL:https://progressgrovecity.com/event/grove-city-city-council-meeting-25-3-2/
LOCATION:Grove City Hall\, 4035 Harrisburg Pike\, Grove City\, OH\, 43123\, United States
CATEGORIES:City Meetings
ATTACH;FMTTYPE=image/png:https://progressgrovecity.com/wp-content/uploads/2025/01/GroveCityLogo.png
END:VEVENT
BEGIN:VEVENT
DTSTART;TZID=America/New_York:20260120T183000
DTEND;TZID=America/New_York:20260120T200000
DTSTAMP:20260424T114124
CREATED:20251216T234212Z
LAST-MODIFIED:20251216T234212Z
UID:10001419-1768933800-1768939200@progressgrovecity.com
SUMMARY:Grove City City Council Meeting
DESCRIPTION:**This was moved to Tuesday in observance of MLK Day** \nAll are invited to the Grove City Council meeting.\n• 6:30 p.m. Caucus\n• 7 p.m. Council Meeting
URL:https://progressgrovecity.com/event/grove-city-city-council-meeting-33/
LOCATION:Grove City Hall\, 4035 Harrisburg Pike\, Grove City\, OH\, 43123\, United States
CATEGORIES:City Meetings
ATTACH;FMTTYPE=image/png:https://progressgrovecity.com/wp-content/uploads/2025/01/GroveCityLogo.png
END:VEVENT
BEGIN:VEVENT
DTSTART;TZID=America/New_York:20260202T183000
DTEND;TZID=America/New_York:20260202T200000
DTSTAMP:20260424T114124
CREATED:20250106T220304Z
LAST-MODIFIED:20250106T220304Z
UID:10000439-1770057000-1770062400@progressgrovecity.com
SUMMARY:Grove City City Council Meeting
DESCRIPTION:All are invited to the Grove City Council meeting.\n• 6:30 p.m. Caucus\n• 7 p.m. Council Meeting
URL:https://progressgrovecity.com/event/grove-city-city-council-meeting-15/2026-02-02/
LOCATION:Grove City Hall\, 4035 Harrisburg Pike\, Grove City\, OH\, 43123\, United States
CATEGORIES:City Meetings
ATTACH;FMTTYPE=image/png:https://progressgrovecity.com/wp-content/uploads/2025/01/GroveCityLogo.png
END:VEVENT
BEGIN:VEVENT
DTSTART;TZID=America/New_York:20260217T183000
DTEND;TZID=America/New_York:20260217T200000
DTSTAMP:20260424T114124
CREATED:20260206T142432Z
LAST-MODIFIED:20260206T142535Z
UID:10001255-1771353000-1771358400@progressgrovecity.com
SUMMARY:Grove City City Council Meeting
DESCRIPTION:**Note this is on Tuesday due to Presidents Day** \n  \nAll are invited to the Grove City Council meeting.\n• 6:30 p.m. Caucus\n• 7 p.m. Council Meeting
URL:https://progressgrovecity.com/event/grove-city-city-council-meeting-34/
LOCATION:Grove City Hall\, 4035 Harrisburg Pike\, Grove City\, OH\, 43123\, United States
CATEGORIES:City Meetings
ATTACH;FMTTYPE=image/png:https://progressgrovecity.com/wp-content/uploads/2025/01/GroveCityLogo.png
END:VEVENT
BEGIN:VEVENT
DTSTART;TZID=America/New_York:20260302T183000
DTEND;TZID=America/New_York:20260302T200000
DTSTAMP:20260424T114124
CREATED:20250106T220304Z
LAST-MODIFIED:20250106T220304Z
UID:10000440-1772476200-1772481600@progressgrovecity.com
SUMMARY:Grove City City Council Meeting
DESCRIPTION:All are invited to the Grove City Council meeting.\n• 6:30 p.m. Caucus\n• 7 p.m. Council Meeting
URL:https://progressgrovecity.com/event/grove-city-city-council-meeting-15/2026-03-02/
LOCATION:Grove City Hall\, 4035 Harrisburg Pike\, Grove City\, OH\, 43123\, United States
CATEGORIES:City Meetings
ATTACH;FMTTYPE=image/png:https://progressgrovecity.com/wp-content/uploads/2025/01/GroveCityLogo.png
END:VEVENT
BEGIN:VEVENT
DTSTART;TZID=America/New_York:20260316T183000
DTEND;TZID=America/New_York:20260316T200000
DTSTAMP:20260424T114124
CREATED:20251216T234312Z
LAST-MODIFIED:20251216T234312Z
UID:10001256-1773685800-1773691200@progressgrovecity.com
SUMMARY:Grove City City Council Meeting
DESCRIPTION:All are invited to the Grove City Council meeting.\n• 6:30 p.m. Caucus\n• 7 p.m. Council Meeting
URL:https://progressgrovecity.com/event/grove-city-city-council-meeting-25-3/2026-03-16/
LOCATION:Grove City Hall\, 4035 Harrisburg Pike\, Grove City\, OH\, 43123\, United States
CATEGORIES:City Meetings
ATTACH;FMTTYPE=image/png:https://progressgrovecity.com/wp-content/uploads/2025/01/GroveCityLogo.png
END:VEVENT
BEGIN:VEVENT
DTSTART;TZID=America/New_York:20260406T183000
DTEND;TZID=America/New_York:20260406T200000
DTSTAMP:20260424T114124
CREATED:20250106T220304Z
LAST-MODIFIED:20250106T220304Z
UID:10000441-1775500200-1775505600@progressgrovecity.com
SUMMARY:Grove City City Council Meeting
DESCRIPTION:All are invited to the Grove City Council meeting.\n• 6:30 p.m. Caucus\n• 7 p.m. Council Meeting
URL:https://progressgrovecity.com/event/grove-city-city-council-meeting-15/2026-04-06/
LOCATION:Grove City Hall\, 4035 Harrisburg Pike\, Grove City\, OH\, 43123\, United States
CATEGORIES:City Meetings
ATTACH;FMTTYPE=image/png:https://progressgrovecity.com/wp-content/uploads/2025/01/GroveCityLogo.png
END:VEVENT
BEGIN:VEVENT
DTSTART;TZID=America/New_York:20260414T190000
DTEND;TZID=America/New_York:20260414T200000
DTSTAMP:20260424T114124
CREATED:20260411T023253Z
LAST-MODIFIED:20260411T023253Z
UID:10001500-1776193200-1776196800@progressgrovecity.com
SUMMARY:Pleasant Township Trustee Meeting
DESCRIPTION:These meetings occur the second and fourth Tuesday of each month at 7PM.  The address is 5373 Norton Rd.
URL:https://progressgrovecity.com/event/pleasant-township-trustee-meeting/2026-04-14/
LOCATION:Pleasant Township Building\, 5373 Norton Rd\, Columbus\, OH\, 43123\, United States
CATEGORIES:City Meetings
ATTACH;FMTTYPE=image/png:https://progressgrovecity.com/wp-content/uploads/2026/04/PrairieTwshp.png
END:VEVENT
BEGIN:VEVENT
DTSTART;TZID=America/New_York:20260420T183000
DTEND;TZID=America/New_York:20260420T200000
DTSTAMP:20260424T114124
CREATED:20251216T234312Z
LAST-MODIFIED:20251216T234312Z
UID:10001257-1776709800-1776715200@progressgrovecity.com
SUMMARY:Grove City City Council Meeting
DESCRIPTION:All are invited to the Grove City Council meeting.\n• 6:30 p.m. Caucus\n• 7 p.m. Council Meeting
URL:https://progressgrovecity.com/event/grove-city-city-council-meeting-25-3/2026-04-20/
LOCATION:Grove City Hall\, 4035 Harrisburg Pike\, Grove City\, OH\, 43123\, United States
CATEGORIES:City Meetings
ATTACH;FMTTYPE=image/png:https://progressgrovecity.com/wp-content/uploads/2025/01/GroveCityLogo.png
END:VEVENT
BEGIN:VEVENT
DTSTART;TZID=America/New_York:20260424T180000
DTEND;TZID=America/New_York:20260424T200000
DTSTAMP:20260424T114124
CREATED:20260409T212910Z
LAST-MODIFIED:20260423T160728Z
UID:10001499-1777053600-1777060800@progressgrovecity.com
SUMMARY:Ask the Experts - Data Center Expert Panel
DESCRIPTION:You’ve probably heard that a tech company is proposing a 310-acre data center development in Grove City and they held their own public presentations on April 21 and 22 to tell you all about it. \nWe hope you went to hear what they had to say. \nNow come see us on Friday\, April 24 – because we’ve assembled a panel of independent experts who have no vested interest in selling you something. Just answers. \nThese are people who study utility rates\, land use\, environmental policy\, and economic impact for a living. They’re not here to pitch a development. They’re here to help your community understand what’s actually at stake…and what you can do about it. \n\nTwo questions. One night.\nThis conversation runs on two tracks…and we’re trying to stay in both lanes. \n\n\n\n\nLane 1 \nShould this happen at all? \nWhat are the real costs and risks of a 310-acre data center â€” for your electric bill\, your neighborhood\, your water\, and your community’s future? \n\n\n\nLane 2 \nIf it’s coming anyway…what do we demand? \nWhat does a responsible development look like? What have other communities won? And how do residents fight for it before the window closes? \n\n\n\n\n\nThis isn’t just about Grove City. These same decisions are playing out in communities across Ohio and across the country. The questions we’re asking Friday night are questions every community facing a proposal like this deserves answered. \nYour Moderator \n\nModerator & Policy Expert \nBailey Sandin \nWork & Wages Fellow – Policy Matters Ohio \nBailey has been digging into the economic fine print on big tech deals in Ohio\, getting down to what they actually deliver for working families\, what gets promised versus what gets built\, and how communities can fight for a better deal. She’ll moderate our panel and weigh in directly on tax incentives\, community benefits agreements\, and the real jobs picture. \n\nThe Panel \n\nCathy Cowan Becker \nBoard President of Save Our Parks  and Hilliard Community Advocate \nCathy has been on the frontlines of data center fights across Ohio\, including challenging a fuel cell plant that slipped through with almost no public notice. She knows exactly how these projects get fast-tracked – and what communities can do about it. She’ll open our panel conversation by grounding everything that follows in lived reality. \n\n\nMaureen Willis \nOhio Consumers’ Counsel \nThe state’s official advocate for residential utility ratepayers. If your electric bill is going up because of data center growth … and it is … Maureen is the person who fights back. She’ll walk us through what’s already baked into your rates and what’s still on the table. \n\n\nDr. Amber Woodburn McNair \nFounder\, AV McNair LLC  =  Expert in Land Use Planning for Public Infrastructure \nDr. McNair specializes in understanding how large-scale infrastructure facilities reshape the communities around them – land use\, planning and zoning tools\, and what residents can demand before the permits are signed. She knows what leverage looks like and how long it lasts. \n\n\nBecca Pollard \nInterim Executive Director – Buckeye Environmental Network \nBecca leads BEN\, a Central Ohio environmental justice organization with deep roots in energy\, water\, and community organizing campaigns across the state. She’ll bring the environmental and community justice lens to what a facility this size actually means for the land\, the water\, and the people nearby. \n\n\nGrove City is our home. It’s where we’re raising our kids\, where our parents live down the street\, where we’ve put down roots and built something worth protecting. The decisions being made right now about what gets built here\, who pays for it\, and what it costs our families for the next 20 years…those decisions are happening fast and they deserve our full attention. \nWe deserve straight answers from people who don’t have a financial stake in the outcome. Not a sales pitch. Not a PowerPoint from a company that will be long gone when the bills come due. \nThis event is free and open to the public\, but space is limited. Doors open at 5:30 PM for RSVP guests\, and 5:50 PM for general admission. RSVP below to reserve your seat.
URL:https://progressgrovecity.com/event/ask-the-experts-data-center-expert-panel/
LOCATION:Urbancrest Quinichett Pavilion\, 3464 First Avenue\, Urbancrest\, OH\, 43123\, United States
CATEGORIES:City Meetings,Informational Meetings
ATTACH;FMTTYPE=image/png:https://progressgrovecity.com/wp-content/uploads/2026/04/AskTheExperts-DataCenters-1.png
END:VEVENT
BEGIN:VEVENT
DTSTART;TZID=America/New_York:20260428T190000
DTEND;TZID=America/New_York:20260428T200000
DTSTAMP:20260424T114124
CREATED:20260411T023549Z
LAST-MODIFIED:20260411T023549Z
UID:10001561-1777402800-1777406400@progressgrovecity.com
SUMMARY:Pleasant Township Trustee Meeting
DESCRIPTION:These meetings occur the second and fourth Tuesday of each month at 7PM.  The address is 5373 Norton Rd.
URL:https://progressgrovecity.com/event/pleasant-township-trustee-meeting-2/2026-04-28/
LOCATION:Pleasant Township Building\, 5373 Norton Rd\, Columbus\, OH\, 43123\, United States
CATEGORIES:City Meetings
ATTACH;FMTTYPE=image/png:https://progressgrovecity.com/wp-content/uploads/2026/04/PrairieTwshp.png
END:VEVENT
BEGIN:VEVENT
DTSTART;TZID=America/New_York:20260504T183000
DTEND;TZID=America/New_York:20260504T200000
DTSTAMP:20260424T114124
CREATED:20250106T220304Z
LAST-MODIFIED:20250106T220304Z
UID:10000442-1777919400-1777924800@progressgrovecity.com
SUMMARY:Grove City City Council Meeting
DESCRIPTION:All are invited to the Grove City Council meeting.\n• 6:30 p.m. Caucus\n• 7 p.m. Council Meeting
URL:https://progressgrovecity.com/event/grove-city-city-council-meeting-15/2026-05-04/
LOCATION:Grove City Hall\, 4035 Harrisburg Pike\, Grove City\, OH\, 43123\, United States
CATEGORIES:City Meetings
ATTACH;FMTTYPE=image/png:https://progressgrovecity.com/wp-content/uploads/2025/01/GroveCityLogo.png
END:VEVENT
BEGIN:VEVENT
DTSTART;TZID=America/New_York:20260512T190000
DTEND;TZID=America/New_York:20260512T200000
DTSTAMP:20260424T114124
CREATED:20260411T023253Z
LAST-MODIFIED:20260411T023253Z
UID:10001501-1778612400-1778616000@progressgrovecity.com
SUMMARY:Pleasant Township Trustee Meeting
DESCRIPTION:These meetings occur the second and fourth Tuesday of each month at 7PM.  The address is 5373 Norton Rd.
URL:https://progressgrovecity.com/event/pleasant-township-trustee-meeting/2026-05-12/
LOCATION:Pleasant Township Building\, 5373 Norton Rd\, Columbus\, OH\, 43123\, United States
CATEGORIES:City Meetings
ATTACH;FMTTYPE=image/png:https://progressgrovecity.com/wp-content/uploads/2026/04/PrairieTwshp.png
END:VEVENT
BEGIN:VEVENT
DTSTART;TZID=America/New_York:20260518T183000
DTEND;TZID=America/New_York:20260518T200000
DTSTAMP:20260424T114124
CREATED:20251216T234312Z
LAST-MODIFIED:20251216T234312Z
UID:10001258-1779129000-1779134400@progressgrovecity.com
SUMMARY:Grove City City Council Meeting
DESCRIPTION:All are invited to the Grove City Council meeting.\n• 6:30 p.m. Caucus\n• 7 p.m. Council Meeting
URL:https://progressgrovecity.com/event/grove-city-city-council-meeting-25-3/2026-05-18/
LOCATION:Grove City Hall\, 4035 Harrisburg Pike\, Grove City\, OH\, 43123\, United States
CATEGORIES:City Meetings
ATTACH;FMTTYPE=image/png:https://progressgrovecity.com/wp-content/uploads/2025/01/GroveCityLogo.png
END:VEVENT
BEGIN:VEVENT
DTSTART;TZID=America/New_York:20260526T190000
DTEND;TZID=America/New_York:20260526T200000
DTSTAMP:20260424T114124
CREATED:20260411T023549Z
LAST-MODIFIED:20260411T023549Z
UID:10001562-1779822000-1779825600@progressgrovecity.com
SUMMARY:Pleasant Township Trustee Meeting
DESCRIPTION:These meetings occur the second and fourth Tuesday of each month at 7PM.  The address is 5373 Norton Rd.
URL:https://progressgrovecity.com/event/pleasant-township-trustee-meeting-2/2026-05-26/
LOCATION:Pleasant Township Building\, 5373 Norton Rd\, Columbus\, OH\, 43123\, United States
CATEGORIES:City Meetings
ATTACH;FMTTYPE=image/png:https://progressgrovecity.com/wp-content/uploads/2026/04/PrairieTwshp.png
END:VEVENT
BEGIN:VEVENT
DTSTART;TZID=America/New_York:20260601T183000
DTEND;TZID=America/New_York:20260601T200000
DTSTAMP:20260424T114124
CREATED:20250106T220304Z
LAST-MODIFIED:20250106T220304Z
UID:10000443-1780338600-1780344000@progressgrovecity.com
SUMMARY:Grove City City Council Meeting
DESCRIPTION:All are invited to the Grove City Council meeting.\n• 6:30 p.m. Caucus\n• 7 p.m. Council Meeting
URL:https://progressgrovecity.com/event/grove-city-city-council-meeting-15/2026-06-01/
LOCATION:Grove City Hall\, 4035 Harrisburg Pike\, Grove City\, OH\, 43123\, United States
CATEGORIES:City Meetings
ATTACH;FMTTYPE=image/png:https://progressgrovecity.com/wp-content/uploads/2025/01/GroveCityLogo.png
END:VEVENT
BEGIN:VEVENT
DTSTART;TZID=America/New_York:20260609T190000
DTEND;TZID=America/New_York:20260609T200000
DTSTAMP:20260424T114124
CREATED:20260411T023253Z
LAST-MODIFIED:20260411T023253Z
UID:10001502-1781031600-1781035200@progressgrovecity.com
SUMMARY:Pleasant Township Trustee Meeting
DESCRIPTION:These meetings occur the second and fourth Tuesday of each month at 7PM.  The address is 5373 Norton Rd.
URL:https://progressgrovecity.com/event/pleasant-township-trustee-meeting/2026-06-09/
LOCATION:Pleasant Township Building\, 5373 Norton Rd\, Columbus\, OH\, 43123\, United States
CATEGORIES:City Meetings
ATTACH;FMTTYPE=image/png:https://progressgrovecity.com/wp-content/uploads/2026/04/PrairieTwshp.png
END:VEVENT
BEGIN:VEVENT
DTSTART;TZID=America/New_York:20260615T183000
DTEND;TZID=America/New_York:20260615T200000
DTSTAMP:20260424T114124
CREATED:20251216T234312Z
LAST-MODIFIED:20251216T234312Z
UID:10001259-1781548200-1781553600@progressgrovecity.com
SUMMARY:Grove City City Council Meeting
DESCRIPTION:All are invited to the Grove City Council meeting.\n• 6:30 p.m. Caucus\n• 7 p.m. Council Meeting
URL:https://progressgrovecity.com/event/grove-city-city-council-meeting-25-3/2026-06-15/
LOCATION:Grove City Hall\, 4035 Harrisburg Pike\, Grove City\, OH\, 43123\, United States
CATEGORIES:City Meetings
ATTACH;FMTTYPE=image/png:https://progressgrovecity.com/wp-content/uploads/2025/01/GroveCityLogo.png
END:VEVENT
BEGIN:VEVENT
DTSTART;TZID=America/New_York:20260623T190000
DTEND;TZID=America/New_York:20260623T200000
DTSTAMP:20260424T114124
CREATED:20260411T023549Z
LAST-MODIFIED:20260411T023549Z
UID:10001563-1782241200-1782244800@progressgrovecity.com
SUMMARY:Pleasant Township Trustee Meeting
DESCRIPTION:These meetings occur the second and fourth Tuesday of each month at 7PM.  The address is 5373 Norton Rd.
URL:https://progressgrovecity.com/event/pleasant-township-trustee-meeting-2/2026-06-23/
LOCATION:Pleasant Township Building\, 5373 Norton Rd\, Columbus\, OH\, 43123\, United States
CATEGORIES:City Meetings
ATTACH;FMTTYPE=image/png:https://progressgrovecity.com/wp-content/uploads/2026/04/PrairieTwshp.png
END:VEVENT
BEGIN:VEVENT
DTSTART;TZID=America/New_York:20260706T183000
DTEND;TZID=America/New_York:20260706T200000
DTSTAMP:20260424T114124
CREATED:20250106T220304Z
LAST-MODIFIED:20250106T220304Z
UID:10000444-1783362600-1783368000@progressgrovecity.com
SUMMARY:Grove City City Council Meeting
DESCRIPTION:All are invited to the Grove City Council meeting.\n• 6:30 p.m. Caucus\n• 7 p.m. Council Meeting
URL:https://progressgrovecity.com/event/grove-city-city-council-meeting-15/2026-07-06/
LOCATION:Grove City Hall\, 4035 Harrisburg Pike\, Grove City\, OH\, 43123\, United States
CATEGORIES:City Meetings
ATTACH;FMTTYPE=image/png:https://progressgrovecity.com/wp-content/uploads/2025/01/GroveCityLogo.png
END:VEVENT
BEGIN:VEVENT
DTSTART;TZID=America/New_York:20260714T190000
DTEND;TZID=America/New_York:20260714T200000
DTSTAMP:20260424T114124
CREATED:20260411T023253Z
LAST-MODIFIED:20260411T023253Z
UID:10001503-1784055600-1784059200@progressgrovecity.com
SUMMARY:Pleasant Township Trustee Meeting
DESCRIPTION:These meetings occur the second and fourth Tuesday of each month at 7PM.  The address is 5373 Norton Rd.
URL:https://progressgrovecity.com/event/pleasant-township-trustee-meeting/2026-07-14/
LOCATION:Pleasant Township Building\, 5373 Norton Rd\, Columbus\, OH\, 43123\, United States
CATEGORIES:City Meetings
ATTACH;FMTTYPE=image/png:https://progressgrovecity.com/wp-content/uploads/2026/04/PrairieTwshp.png
END:VEVENT
BEGIN:VEVENT
DTSTART;TZID=America/New_York:20260720T183000
DTEND;TZID=America/New_York:20260720T200000
DTSTAMP:20260424T114124
CREATED:20251216T234312Z
LAST-MODIFIED:20251216T234312Z
UID:10001260-1784572200-1784577600@progressgrovecity.com
SUMMARY:Grove City City Council Meeting
DESCRIPTION:All are invited to the Grove City Council meeting.\n• 6:30 p.m. Caucus\n• 7 p.m. Council Meeting
URL:https://progressgrovecity.com/event/grove-city-city-council-meeting-25-3/2026-07-20/
LOCATION:Grove City Hall\, 4035 Harrisburg Pike\, Grove City\, OH\, 43123\, United States
CATEGORIES:City Meetings
ATTACH;FMTTYPE=image/png:https://progressgrovecity.com/wp-content/uploads/2025/01/GroveCityLogo.png
END:VEVENT
END:VCALENDAR