BEGIN:VCALENDAR
VERSION:2.0
PRODID:-//Progress Grove City - ECPv6.15.20//NONSGML v1.0//EN
CALSCALE:GREGORIAN
METHOD:PUBLISH
X-ORIGINAL-URL:https://progressgrovecity.com
X-WR-CALDESC:Events for Progress Grove City
REFRESH-INTERVAL;VALUE=DURATION:PT1H
X-Robots-Tag:noindex
X-PUBLISHED-TTL:PT1H
BEGIN:VTIMEZONE
TZID:America/New_York
BEGIN:DAYLIGHT
TZOFFSETFROM:-0500
TZOFFSETTO:-0400
TZNAME:EDT
DTSTART:20230312T070000
END:DAYLIGHT
BEGIN:STANDARD
TZOFFSETFROM:-0400
TZOFFSETTO:-0500
TZNAME:EST
DTSTART:20231105T060000
END:STANDARD
BEGIN:DAYLIGHT
TZOFFSETFROM:-0500
TZOFFSETTO:-0400
TZNAME:EDT
DTSTART:20240310T070000
END:DAYLIGHT
BEGIN:STANDARD
TZOFFSETFROM:-0400
TZOFFSETTO:-0500
TZNAME:EST
DTSTART:20241103T060000
END:STANDARD
BEGIN:DAYLIGHT
TZOFFSETFROM:-0500
TZOFFSETTO:-0400
TZNAME:EDT
DTSTART:20250309T070000
END:DAYLIGHT
BEGIN:STANDARD
TZOFFSETFROM:-0400
TZOFFSETTO:-0500
TZNAME:EST
DTSTART:20251102T060000
END:STANDARD
END:VTIMEZONE
BEGIN:VEVENT
DTSTART;TZID=America/New_York:20240930T180000
DTEND;TZID=America/New_York:20240930T193000
DTSTAMP:20260421T083833
CREATED:20240918T230856Z
LAST-MODIFIED:20240918T231025Z
UID:10000163-1727719200-1727724600@progressgrovecity.com
SUMMARY:Speed Activism - Final Stretch
DESCRIPTION:  \nAnother speed dating type education session designed to give you the information you need to help us create real progress in Grove City and across the nation!  Please go here to register and we’ll communicate the location closer to the time of the event!  See you there!! \nhttps://docs.google.com/forms/d/e/1FAIpQLSdhBn_8SFHcJIOmnDdM2m8DqOFHUbt3jD6S9ufynkIkEzEH2w/viewform \n  \n 
URL:https://progressgrovecity.com/event/speed-activism-final-stretch/
LOCATION:Location will be shared via email the night prior to the event.
CATEGORIES:Informational Meetings
ATTACH;FMTTYPE=image/png:https://progressgrovecity.com/wp-content/uploads/2024/09/SpeedActivism_9-30-24_WebBanner.png
END:VEVENT
END:VCALENDAR