BEGIN:VCALENDAR
VERSION:2.0
PRODID:-//Progress Grove City - ECPv6.15.20//NONSGML v1.0//EN
CALSCALE:GREGORIAN
METHOD:PUBLISH
X-ORIGINAL-URL:https://progressgrovecity.com
X-WR-CALDESC:Events for Progress Grove City
REFRESH-INTERVAL;VALUE=DURATION:PT1H
X-Robots-Tag:noindex
X-PUBLISHED-TTL:PT1H
BEGIN:VTIMEZONE
TZID:America/New_York
BEGIN:DAYLIGHT
TZOFFSETFROM:-0500
TZOFFSETTO:-0400
TZNAME:EDT
DTSTART:20230312T070000
END:DAYLIGHT
BEGIN:STANDARD
TZOFFSETFROM:-0400
TZOFFSETTO:-0500
TZNAME:EST
DTSTART:20231105T060000
END:STANDARD
BEGIN:DAYLIGHT
TZOFFSETFROM:-0500
TZOFFSETTO:-0400
TZNAME:EDT
DTSTART:20240310T070000
END:DAYLIGHT
BEGIN:STANDARD
TZOFFSETFROM:-0400
TZOFFSETTO:-0500
TZNAME:EST
DTSTART:20241103T060000
END:STANDARD
BEGIN:DAYLIGHT
TZOFFSETFROM:-0500
TZOFFSETTO:-0400
TZNAME:EDT
DTSTART:20250309T070000
END:DAYLIGHT
BEGIN:STANDARD
TZOFFSETFROM:-0400
TZOFFSETTO:-0500
TZNAME:EST
DTSTART:20251102T060000
END:STANDARD
END:VTIMEZONE
BEGIN:VEVENT
DTSTART;TZID=America/New_York:20240429T183000
DTEND;TZID=America/New_York:20240429T203000
DTSTAMP:20260421T215454
CREATED:20240118T043250Z
LAST-MODIFIED:20240118T043250Z
UID:10000016-1714415400-1714422600@progressgrovecity.com
SUMMARY:Pulse of Progress - LIVE
DESCRIPTION:Our live meeting to bring everyone up to speed.  Please join us to hear all the things we’re working on and get a little training at the same time!  We’ll see you there!!
URL:https://progressgrovecity.com/event/pulse-of-progress-live-4/
LOCATION:Jackson Township Admin Room\, 3756 Hoover Rd\, Grove City\, OH\, 431123\, United States
CATEGORIES:Informational Meetings
ATTACH;FMTTYPE=image/png:https://progressgrovecity.com/wp-content/uploads/2024/01/2-3.png
ORGANIZER;CN="Mary Mynatt":MAILTO:MaryMynatt@me.com
END:VEVENT
END:VCALENDAR