BEGIN:VCALENDAR
VERSION:2.0
PRODID:-//Progress Grove City - ECPv6.15.20//NONSGML v1.0//EN
CALSCALE:GREGORIAN
METHOD:PUBLISH
X-WR-CALNAME:Progress Grove City
X-ORIGINAL-URL:https://progressgrovecity.com
X-WR-CALDESC:Events for Progress Grove City
REFRESH-INTERVAL;VALUE=DURATION:PT1H
X-Robots-Tag:noindex
X-PUBLISHED-TTL:PT1H
BEGIN:VTIMEZONE
TZID:America/New_York
BEGIN:DAYLIGHT
TZOFFSETFROM:-0500
TZOFFSETTO:-0400
TZNAME:EDT
DTSTART:20230312T070000
END:DAYLIGHT
BEGIN:STANDARD
TZOFFSETFROM:-0400
TZOFFSETTO:-0500
TZNAME:EST
DTSTART:20231105T060000
END:STANDARD
BEGIN:DAYLIGHT
TZOFFSETFROM:-0500
TZOFFSETTO:-0400
TZNAME:EDT
DTSTART:20240310T070000
END:DAYLIGHT
BEGIN:STANDARD
TZOFFSETFROM:-0400
TZOFFSETTO:-0500
TZNAME:EST
DTSTART:20241103T060000
END:STANDARD
BEGIN:DAYLIGHT
TZOFFSETFROM:-0500
TZOFFSETTO:-0400
TZNAME:EDT
DTSTART:20250309T070000
END:DAYLIGHT
BEGIN:STANDARD
TZOFFSETFROM:-0400
TZOFFSETTO:-0500
TZNAME:EST
DTSTART:20251102T060000
END:STANDARD
END:VTIMEZONE
BEGIN:VEVENT
DTSTART;TZID=America/New_York:20240623T160000
DTEND;TZID=America/New_York:20240623T210000
DTSTAMP:20260421T195742
CREATED:20240528T201806Z
LAST-MODIFIED:20240528T201806Z
UID:10000083-1719158400-1719176400@progressgrovecity.com
SUMMARY:Picnic for Progress
DESCRIPTION:Summer is here and we’re ready to enjoy some sunshine! Bring a dish and come hang with some likeminded folks to enjoy what our wonderful city has to offer. You’ll also be able to meet some community leaders and hear some of the big things we’ve got planned for the rest of 2024! \nPlease contact your local leaders for the location and signup info!  See you there!!
URL:https://progressgrovecity.com/event/picnic-for-progress/
LOCATION:OH
CATEGORIES:Informational Meetings,Social Events
ATTACH;FMTTYPE=image/png:https://progressgrovecity.com/wp-content/uploads/2024/05/PicnicForProgress-4.png
END:VEVENT
END:VCALENDAR