BEGIN:VCALENDAR
VERSION:2.0
PRODID:-//Progress Grove City - ECPv6.15.20//NONSGML v1.0//EN
CALSCALE:GREGORIAN
METHOD:PUBLISH
X-ORIGINAL-URL:https://progressgrovecity.com
X-WR-CALDESC:Events for Progress Grove City
REFRESH-INTERVAL;VALUE=DURATION:PT1H
X-Robots-Tag:noindex
X-PUBLISHED-TTL:PT1H
BEGIN:VTIMEZONE
TZID:America/New_York
BEGIN:DAYLIGHT
TZOFFSETFROM:-0500
TZOFFSETTO:-0400
TZNAME:EDT
DTSTART:20230312T070000
END:DAYLIGHT
BEGIN:STANDARD
TZOFFSETFROM:-0400
TZOFFSETTO:-0500
TZNAME:EST
DTSTART:20231105T060000
END:STANDARD
BEGIN:DAYLIGHT
TZOFFSETFROM:-0500
TZOFFSETTO:-0400
TZNAME:EDT
DTSTART:20240310T070000
END:DAYLIGHT
BEGIN:STANDARD
TZOFFSETFROM:-0400
TZOFFSETTO:-0500
TZNAME:EST
DTSTART:20241103T060000
END:STANDARD
BEGIN:DAYLIGHT
TZOFFSETFROM:-0500
TZOFFSETTO:-0400
TZNAME:EDT
DTSTART:20250309T070000
END:DAYLIGHT
BEGIN:STANDARD
TZOFFSETFROM:-0400
TZOFFSETTO:-0500
TZNAME:EST
DTSTART:20251102T060000
END:STANDARD
END:VTIMEZONE
BEGIN:VEVENT
DTSTART;TZID=America/New_York:20240818T180000
DTEND;TZID=America/New_York:20240818T193000
DTSTAMP:20260421T150003
CREATED:20240806T223432Z
LAST-MODIFIED:20240808T205404Z
UID:10000107-1724004000-1724009400@progressgrovecity.com
SUMMARY:Speed Activism - Back to School Edition
DESCRIPTION:We’re back with another installment of Speed Activism just in time for Back to School!  Come hang with us and rotate through stations where we’ll cover Critical Speech Writing\, Impactful Social Media\, Crucial Fake News Detection\, and Vital Digital Navigation!  Some of our community experts will walk you through the “how” and “why” on these topics in short presentations to enable you to start taking action today!  We’ll also have special guests and some social networking time\, so come on out and see what’s happening!!! \nSign up here for the location! \n 
URL:https://progressgrovecity.com/event/speed-activism-back-to-school-edition/
LOCATION:OH
CATEGORIES:Informational Meetings,Social Events
ATTACH;FMTTYPE=image/png:https://progressgrovecity.com/wp-content/uploads/2024/08/SpeedActivismBTS-2.png
END:VEVENT
END:VCALENDAR