BEGIN:VCALENDAR
VERSION:2.0
PRODID:-//Progress Grove City - ECPv6.15.20//NONSGML v1.0//EN
CALSCALE:GREGORIAN
METHOD:PUBLISH
X-ORIGINAL-URL:https://progressgrovecity.com
X-WR-CALDESC:Events for Progress Grove City
REFRESH-INTERVAL;VALUE=DURATION:PT1H
X-Robots-Tag:noindex
X-PUBLISHED-TTL:PT1H
BEGIN:VTIMEZONE
TZID:America/New_York
BEGIN:DAYLIGHT
TZOFFSETFROM:-0500
TZOFFSETTO:-0400
TZNAME:EDT
DTSTART:20240310T070000
END:DAYLIGHT
BEGIN:STANDARD
TZOFFSETFROM:-0400
TZOFFSETTO:-0500
TZNAME:EST
DTSTART:20241103T060000
END:STANDARD
BEGIN:DAYLIGHT
TZOFFSETFROM:-0500
TZOFFSETTO:-0400
TZNAME:EDT
DTSTART:20250309T070000
END:DAYLIGHT
BEGIN:STANDARD
TZOFFSETFROM:-0400
TZOFFSETTO:-0500
TZNAME:EST
DTSTART:20251102T060000
END:STANDARD
BEGIN:DAYLIGHT
TZOFFSETFROM:-0500
TZOFFSETTO:-0400
TZNAME:EDT
DTSTART:20260308T070000
END:DAYLIGHT
BEGIN:STANDARD
TZOFFSETFROM:-0400
TZOFFSETTO:-0500
TZNAME:EST
DTSTART:20261101T060000
END:STANDARD
END:VTIMEZONE
BEGIN:VEVENT
DTSTART;TZID=America/New_York:20250405T160000
DTEND;TZID=America/New_York:20250405T170000
DTSTAMP:20260420T210401
CREATED:20250402T202726Z
LAST-MODIFIED:20250402T202726Z
UID:10001349-1743868800-1743872400@progressgrovecity.com
SUMMARY:Hands Off! Grove City Fights Back Rally
DESCRIPTION:Did you ever imagine a time when we’d have 100 people rallying outside City Hall in downtown Grove City?  Well…we’re almost there right now.  We’ve got 90 people signed up for the non-partisan rally on Saturday 4/5 from 4-5 pm and we want you to help put us over the century mark!  Just sign up at the link below. \nhttps://www.mobilize.us/handso… \nBring your signs (and maybe your raincoat) and come join us in banding together to support our constitution\, advocate for the rule of law\, and to demand justice for ALL!! Please join us as we make our voices heard!
URL:https://progressgrovecity.com/event/hands-off-grove-city-fights-back-rally/
LOCATION:Grove City Hall\, 4035 Harrisburg Pike\, Grove City\, OH\, 43123\, United States
CATEGORIES:Rally or Protest
ATTACH;FMTTYPE=image/jpeg:https://progressgrovecity.com/wp-content/uploads/2025/04/IMG_0013.jpg
END:VEVENT
END:VCALENDAR