BEGIN:VCALENDAR
VERSION:2.0
PRODID:-//Progress Grove City - ECPv6.15.20//NONSGML v1.0//EN
CALSCALE:GREGORIAN
METHOD:PUBLISH
X-WR-CALNAME:Progress Grove City
X-ORIGINAL-URL:https://progressgrovecity.com
X-WR-CALDESC:Events for Progress Grove City
REFRESH-INTERVAL;VALUE=DURATION:PT1H
X-Robots-Tag:noindex
X-PUBLISHED-TTL:PT1H
BEGIN:VTIMEZONE
TZID:America/New_York
BEGIN:DAYLIGHT
TZOFFSETFROM:-0500
TZOFFSETTO:-0400
TZNAME:EDT
DTSTART:20240310T070000
END:DAYLIGHT
BEGIN:STANDARD
TZOFFSETFROM:-0400
TZOFFSETTO:-0500
TZNAME:EST
DTSTART:20241103T060000
END:STANDARD
BEGIN:DAYLIGHT
TZOFFSETFROM:-0500
TZOFFSETTO:-0400
TZNAME:EDT
DTSTART:20250309T070000
END:DAYLIGHT
BEGIN:STANDARD
TZOFFSETFROM:-0400
TZOFFSETTO:-0500
TZNAME:EST
DTSTART:20251102T060000
END:STANDARD
BEGIN:DAYLIGHT
TZOFFSETFROM:-0500
TZOFFSETTO:-0400
TZNAME:EDT
DTSTART:20260308T070000
END:DAYLIGHT
BEGIN:STANDARD
TZOFFSETFROM:-0400
TZOFFSETTO:-0500
TZNAME:EST
DTSTART:20261101T060000
END:STANDARD
END:VTIMEZONE
BEGIN:VEVENT
DTSTART;TZID=America/New_York:20250210T180000
DTEND;TZID=America/New_York:20250210T200000
DTSTAMP:20260421T012452
CREATED:20250128T162220Z
LAST-MODIFIED:20250128T162221Z
UID:10001310-1739210400-1739217600@progressgrovecity.com
SUMMARY:SWCSD Board Meeting
DESCRIPTION:Pre-Visioning Session Planning at 6:00 p.m. with Regular Meeting to follow at South-Western Career Academy\n\nClick HERE to access all board of education meeting agendas and presentations\, meeting minutes\, and board policies
URL:https://progressgrovecity.com/event/swcsd-board-meeting-17-2/
LOCATION:Event Center at the South-Western Career Academy\, 4750 Big Run South Rd\, Grove City\, OH\, 43123\, United States
CATEGORIES:School Board Meetings
ATTACH;FMTTYPE=image/png:https://progressgrovecity.com/wp-content/uploads/2024/01/SWCSD_Logo_Square.png
END:VEVENT
BEGIN:VEVENT
DTSTART;TZID=America/New_York:20250226T083000
DTEND;TZID=America/New_York:20250226T223000
DTSTAMP:20260421T012452
CREATED:20250128T162409Z
LAST-MODIFIED:20250128T162410Z
UID:10001311-1740558600-1740609000@progressgrovecity.com
SUMMARY:SWCSD Board Meeting
DESCRIPTION:Visioning Session (Wednesday at 8:30 a.m.) at South-Western Career Academy\n\nClick HERE to access all board of education meeting agendas and presentations\, meeting minutes\, and board policies
URL:https://progressgrovecity.com/event/swcsd-board-meeting-17-3/
LOCATION:Event Center at the South-Western Career Academy\, 4750 Big Run South Rd\, Grove City\, OH\, 43123\, United States
CATEGORIES:School Board Meetings
ATTACH;FMTTYPE=image/png:https://progressgrovecity.com/wp-content/uploads/2024/01/SWCSD_Logo_Square.png
END:VEVENT
END:VCALENDAR