BEGIN:VCALENDAR
VERSION:2.0
PRODID:-//Progress Grove City - ECPv6.15.20//NONSGML v1.0//EN
CALSCALE:GREGORIAN
METHOD:PUBLISH
X-WR-CALNAME:Progress Grove City
X-ORIGINAL-URL:https://progressgrovecity.com
X-WR-CALDESC:Events for Progress Grove City
REFRESH-INTERVAL;VALUE=DURATION:PT1H
X-Robots-Tag:noindex
X-PUBLISHED-TTL:PT1H
BEGIN:VTIMEZONE
TZID:America/New_York
BEGIN:DAYLIGHT
TZOFFSETFROM:-0500
TZOFFSETTO:-0400
TZNAME:EDT
DTSTART:20230312T070000
END:DAYLIGHT
BEGIN:STANDARD
TZOFFSETFROM:-0400
TZOFFSETTO:-0500
TZNAME:EST
DTSTART:20231105T060000
END:STANDARD
BEGIN:DAYLIGHT
TZOFFSETFROM:-0500
TZOFFSETTO:-0400
TZNAME:EDT
DTSTART:20240310T070000
END:DAYLIGHT
BEGIN:STANDARD
TZOFFSETFROM:-0400
TZOFFSETTO:-0500
TZNAME:EST
DTSTART:20241103T060000
END:STANDARD
BEGIN:DAYLIGHT
TZOFFSETFROM:-0500
TZOFFSETTO:-0400
TZNAME:EDT
DTSTART:20250309T070000
END:DAYLIGHT
BEGIN:STANDARD
TZOFFSETFROM:-0400
TZOFFSETTO:-0500
TZNAME:EST
DTSTART:20251102T060000
END:STANDARD
BEGIN:DAYLIGHT
TZOFFSETFROM:-0500
TZOFFSETTO:-0400
TZNAME:EDT
DTSTART:20260308T070000
END:DAYLIGHT
BEGIN:STANDARD
TZOFFSETFROM:-0400
TZOFFSETTO:-0500
TZNAME:EST
DTSTART:20261101T060000
END:STANDARD
END:VTIMEZONE
BEGIN:VEVENT
DTSTART;TZID=America/New_York:20250811T190000
DTEND;TZID=America/New_York:20250811T210000
DTSTAMP:20260420T064400
CREATED:20250128T161655Z
LAST-MODIFIED:20250128T161655Z
UID:10001319-1754938800-1754946000@progressgrovecity.com
SUMMARY:SWCSD Board Meeting
DESCRIPTION:All meetings will be held at the District Service Center\, 3805 Marlane Drive\, Grove City\, Ohio on Mondays beginning at 7:00 p.m. unless otherwise noted.\n\nClick HERE to access all board of education meeting agendas and presentations\, meeting minutes\, and board policies
URL:https://progressgrovecity.com/event/swcsd-board-meeting-17/2025-08-11/
LOCATION:South-Western City School District Building\, 3805 Marlane Dr\, Grove City\, OH\, 43123\, United States
CATEGORIES:School Board Meetings
ATTACH;FMTTYPE=image/png:https://progressgrovecity.com/wp-content/uploads/2024/01/SWCSD_Logo_Square.png
END:VEVENT
BEGIN:VEVENT
DTSTART;TZID=America/New_York:20250710T100000
DTEND;TZID=America/New_York:20250710T120000
DTSTAMP:20260420T064400
CREATED:20250128T161655Z
LAST-MODIFIED:20250128T161655Z
UID:10001318-1752141600-1752148800@progressgrovecity.com
SUMMARY:SWCSD Board Meeting
DESCRIPTION:All meetings will be held at the District Service Center\, 3805 Marlane Drive\, Grove City\, Ohio on Mondays beginning at 7:00 p.m. unless otherwise noted.\n\nClick HERE to access all board of education meeting agendas and presentations\, meeting minutes\, and board policies
URL:https://progressgrovecity.com/event/swcsd-board-meeting-17/2025-07-10/
LOCATION:South-Western City School District Building\, 3805 Marlane Dr\, Grove City\, OH\, 43123\, United States
CATEGORIES:School Board Meetings
ATTACH;FMTTYPE=image/png:https://progressgrovecity.com/wp-content/uploads/2024/01/SWCSD_Logo_Square.png
END:VEVENT
BEGIN:VEVENT
DTSTART;TZID=America/New_York:20250625T190000
DTEND;TZID=America/New_York:20250625T210000
DTSTAMP:20260420T064400
CREATED:20250128T161655Z
LAST-MODIFIED:20250128T161655Z
UID:10001317-1750878000-1750885200@progressgrovecity.com
SUMMARY:SWCSD Board Meeting
DESCRIPTION:All meetings will be held at the District Service Center\, 3805 Marlane Drive\, Grove City\, Ohio on Mondays beginning at 7:00 p.m. unless otherwise noted.\n\nClick HERE to access all board of education meeting agendas and presentations\, meeting minutes\, and board policies
URL:https://progressgrovecity.com/event/swcsd-board-meeting-17/2025-06-25/
LOCATION:South-Western City School District Building\, 3805 Marlane Dr\, Grove City\, OH\, 43123\, United States
CATEGORIES:School Board Meetings
ATTACH;FMTTYPE=image/png:https://progressgrovecity.com/wp-content/uploads/2024/01/SWCSD_Logo_Square.png
END:VEVENT
BEGIN:VEVENT
DTSTART;TZID=America/New_York:20250609T190000
DTEND;TZID=America/New_York:20250609T210000
DTSTAMP:20260420T064400
CREATED:20250128T161655Z
LAST-MODIFIED:20250128T161655Z
UID:10001316-1749495600-1749502800@progressgrovecity.com
SUMMARY:SWCSD Board Meeting
DESCRIPTION:All meetings will be held at the District Service Center\, 3805 Marlane Drive\, Grove City\, Ohio on Mondays beginning at 7:00 p.m. unless otherwise noted.\n\nClick HERE to access all board of education meeting agendas and presentations\, meeting minutes\, and board policies
URL:https://progressgrovecity.com/event/swcsd-board-meeting-17/2025-06-09/
LOCATION:South-Western City School District Building\, 3805 Marlane Dr\, Grove City\, OH\, 43123\, United States
CATEGORIES:School Board Meetings
ATTACH;FMTTYPE=image/png:https://progressgrovecity.com/wp-content/uploads/2024/01/SWCSD_Logo_Square.png
END:VEVENT
BEGIN:VEVENT
DTSTART;TZID=America/New_York:20250519T190000
DTEND;TZID=America/New_York:20250519T210000
DTSTAMP:20260420T064400
CREATED:20250128T161655Z
LAST-MODIFIED:20250128T161655Z
UID:10001315-1747681200-1747688400@progressgrovecity.com
SUMMARY:SWCSD Board Meeting
DESCRIPTION:All meetings will be held at the District Service Center\, 3805 Marlane Drive\, Grove City\, Ohio on Mondays beginning at 7:00 p.m. unless otherwise noted.\n\nClick HERE to access all board of education meeting agendas and presentations\, meeting minutes\, and board policies
URL:https://progressgrovecity.com/event/swcsd-board-meeting-17/2025-05-19/
LOCATION:South-Western City School District Building\, 3805 Marlane Dr\, Grove City\, OH\, 43123\, United States
CATEGORIES:School Board Meetings
ATTACH;FMTTYPE=image/png:https://progressgrovecity.com/wp-content/uploads/2024/01/SWCSD_Logo_Square.png
END:VEVENT
BEGIN:VEVENT
DTSTART;TZID=America/New_York:20250428T190000
DTEND;TZID=America/New_York:20250428T210000
DTSTAMP:20260420T064400
CREATED:20250128T161655Z
LAST-MODIFIED:20250128T161655Z
UID:10001314-1745866800-1745874000@progressgrovecity.com
SUMMARY:SWCSD Board Meeting
DESCRIPTION:All meetings will be held at the District Service Center\, 3805 Marlane Drive\, Grove City\, Ohio on Mondays beginning at 7:00 p.m. unless otherwise noted.\n\nClick HERE to access all board of education meeting agendas and presentations\, meeting minutes\, and board policies
URL:https://progressgrovecity.com/event/swcsd-board-meeting-17/2025-04-28/
LOCATION:South-Western City School District Building\, 3805 Marlane Dr\, Grove City\, OH\, 43123\, United States
CATEGORIES:School Board Meetings
ATTACH;FMTTYPE=image/png:https://progressgrovecity.com/wp-content/uploads/2024/01/SWCSD_Logo_Square.png
END:VEVENT
BEGIN:VEVENT
DTSTART;TZID=America/New_York:20250414T190000
DTEND;TZID=America/New_York:20250414T210000
DTSTAMP:20260420T064400
CREATED:20250128T161655Z
LAST-MODIFIED:20250128T161655Z
UID:10001313-1744657200-1744664400@progressgrovecity.com
SUMMARY:SWCSD Board Meeting
DESCRIPTION:All meetings will be held at the District Service Center\, 3805 Marlane Drive\, Grove City\, Ohio on Mondays beginning at 7:00 p.m. unless otherwise noted.\n\nClick HERE to access all board of education meeting agendas and presentations\, meeting minutes\, and board policies
URL:https://progressgrovecity.com/event/swcsd-board-meeting-17/2025-04-14/
LOCATION:South-Western City School District Building\, 3805 Marlane Dr\, Grove City\, OH\, 43123\, United States
CATEGORIES:School Board Meetings
ATTACH;FMTTYPE=image/png:https://progressgrovecity.com/wp-content/uploads/2024/01/SWCSD_Logo_Square.png
END:VEVENT
BEGIN:VEVENT
DTSTART;TZID=America/New_York:20250317T190000
DTEND;TZID=America/New_York:20250317T210000
DTSTAMP:20260420T064400
CREATED:20250128T161655Z
LAST-MODIFIED:20250128T161655Z
UID:10001312-1742238000-1742245200@progressgrovecity.com
SUMMARY:SWCSD Board Meeting
DESCRIPTION:All meetings will be held at the District Service Center\, 3805 Marlane Drive\, Grove City\, Ohio on Mondays beginning at 7:00 p.m. unless otherwise noted.\n\nClick HERE to access all board of education meeting agendas and presentations\, meeting minutes\, and board policies
URL:https://progressgrovecity.com/event/swcsd-board-meeting-17/2025-03-17/
LOCATION:South-Western City School District Building\, 3805 Marlane Dr\, Grove City\, OH\, 43123\, United States
CATEGORIES:School Board Meetings
ATTACH;FMTTYPE=image/png:https://progressgrovecity.com/wp-content/uploads/2024/01/SWCSD_Logo_Square.png
END:VEVENT
BEGIN:VEVENT
DTSTART;TZID=America/New_York:20250226T083000
DTEND;TZID=America/New_York:20250226T223000
DTSTAMP:20260420T064400
CREATED:20250128T162409Z
LAST-MODIFIED:20250128T162410Z
UID:10001311-1740558600-1740609000@progressgrovecity.com
SUMMARY:SWCSD Board Meeting
DESCRIPTION:Visioning Session (Wednesday at 8:30 a.m.) at South-Western Career Academy\n\nClick HERE to access all board of education meeting agendas and presentations\, meeting minutes\, and board policies
URL:https://progressgrovecity.com/event/swcsd-board-meeting-17-3/
LOCATION:Event Center at the South-Western Career Academy\, 4750 Big Run South Rd\, Grove City\, OH\, 43123\, United States
CATEGORIES:School Board Meetings
ATTACH;FMTTYPE=image/png:https://progressgrovecity.com/wp-content/uploads/2024/01/SWCSD_Logo_Square.png
END:VEVENT
BEGIN:VEVENT
DTSTART;TZID=America/New_York:20250210T180000
DTEND;TZID=America/New_York:20250210T200000
DTSTAMP:20260420T064400
CREATED:20250128T162220Z
LAST-MODIFIED:20250128T162221Z
UID:10001310-1739210400-1739217600@progressgrovecity.com
SUMMARY:SWCSD Board Meeting
DESCRIPTION:Pre-Visioning Session Planning at 6:00 p.m. with Regular Meeting to follow at South-Western Career Academy\n\nClick HERE to access all board of education meeting agendas and presentations\, meeting minutes\, and board policies
URL:https://progressgrovecity.com/event/swcsd-board-meeting-17-2/
LOCATION:Event Center at the South-Western Career Academy\, 4750 Big Run South Rd\, Grove City\, OH\, 43123\, United States
CATEGORIES:School Board Meetings
ATTACH;FMTTYPE=image/png:https://progressgrovecity.com/wp-content/uploads/2024/01/SWCSD_Logo_Square.png
END:VEVENT
BEGIN:VEVENT
DTSTART;TZID=America/New_York:20241209T190000
DTEND;TZID=America/New_York:20241209T210000
DTSTAMP:20260420T064400
CREATED:20240130T134334Z
LAST-MODIFIED:20240130T134334Z
UID:10000034-1733770800-1733778000@progressgrovecity.com
SUMMARY:SWCSD Board Meeting
DESCRIPTION:Regular Meeting – Please wear red shirts if possible
URL:https://progressgrovecity.com/event/swcsd-board-meeting-14/
LOCATION:South-Western City School District Building\, 3805 Marlane Dr\, Grove City\, OH\, 43123\, United States
CATEGORIES:School Board Meetings
ATTACH;FMTTYPE=image/png:https://progressgrovecity.com/wp-content/uploads/2024/01/SWCSD_Logo_Square.png
END:VEVENT
BEGIN:VEVENT
DTSTART;TZID=America/New_York:20241118T190000
DTEND;TZID=America/New_York:20241118T210000
DTSTAMP:20260420T064400
CREATED:20240130T134240Z
LAST-MODIFIED:20240130T134240Z
UID:10000033-1731956400-1731963600@progressgrovecity.com
SUMMARY:SWCSB Board Meeting
DESCRIPTION:Regular Meeting – Please wear red shirts if possible
URL:https://progressgrovecity.com/event/swcsb-board-meeting/
LOCATION:South-Western City School District Building\, 3805 Marlane Dr\, Grove City\, OH\, 43123\, United States
CATEGORIES:School Board Meetings
ATTACH;FMTTYPE=image/png:https://progressgrovecity.com/wp-content/uploads/2024/01/SWCSD_Logo_Square.png
END:VEVENT
BEGIN:VEVENT
DTSTART;TZID=America/New_York:20241028T190000
DTEND;TZID=America/New_York:20241028T210000
DTSTAMP:20260420T064400
CREATED:20240130T134138Z
LAST-MODIFIED:20240130T134138Z
UID:10000032-1730142000-1730149200@progressgrovecity.com
SUMMARY:SWCSD Board Meeting
DESCRIPTION:Regular Meeting – Please wear red shirts if possible
URL:https://progressgrovecity.com/event/swcsd-board-meeting-13/
LOCATION:South-Western City School District Building\, 3805 Marlane Dr\, Grove City\, OH\, 43123\, United States
CATEGORIES:School Board Meetings
ATTACH;FMTTYPE=image/png:https://progressgrovecity.com/wp-content/uploads/2024/01/SWCSD_Logo_Square.png
END:VEVENT
BEGIN:VEVENT
DTSTART;TZID=America/New_York:20241014T190000
DTEND;TZID=America/New_York:20241014T210000
DTSTAMP:20260420T064400
CREATED:20240130T134044Z
LAST-MODIFIED:20240130T134044Z
UID:10000031-1728932400-1728939600@progressgrovecity.com
SUMMARY:SWCSD Board Meeting
DESCRIPTION:Regular Meeting – Please wear red shirts if possible
URL:https://progressgrovecity.com/event/swcsd-board-meeting-12/
LOCATION:South-Western City School District Building\, 3805 Marlane Dr\, Grove City\, OH\, 43123\, United States
CATEGORIES:School Board Meetings
ATTACH;FMTTYPE=image/png:https://progressgrovecity.com/wp-content/uploads/2024/01/SWCSD_Logo_Square.png
END:VEVENT
BEGIN:VEVENT
DTSTART;TZID=America/New_York:20240923T190000
DTEND;TZID=America/New_York:20240923T210000
DTSTAMP:20260420T064400
CREATED:20240130T133937Z
LAST-MODIFIED:20240130T133937Z
UID:10000030-1727118000-1727125200@progressgrovecity.com
SUMMARY:SWCSD Board Meeting
DESCRIPTION:Regular Meeting – Please wear red shirts if possible
URL:https://progressgrovecity.com/event/swcsd-board-meeting-11/
LOCATION:South-Western City School District Building\, 3805 Marlane Dr\, Grove City\, OH\, 43123\, United States
CATEGORIES:School Board Meetings
ATTACH;FMTTYPE=image/png:https://progressgrovecity.com/wp-content/uploads/2024/01/SWCSD_Logo_Square.png
END:VEVENT
BEGIN:VEVENT
DTSTART;TZID=America/New_York:20240909T190000
DTEND;TZID=America/New_York:20240909T210000
DTSTAMP:20260420T064400
CREATED:20240130T133818Z
LAST-MODIFIED:20240130T133818Z
UID:10000029-1725908400-1725915600@progressgrovecity.com
SUMMARY:SWCSD Board Meeting
DESCRIPTION:Regular Meeting – Please wear red shirts if possible
URL:https://progressgrovecity.com/event/swcsd-board-meeting-10/
LOCATION:South-Western City School District Building\, 3805 Marlane Dr\, Grove City\, OH\, 43123\, United States
CATEGORIES:School Board Meetings
ATTACH;FMTTYPE=image/png:https://progressgrovecity.com/wp-content/uploads/2024/01/SWCSD_Logo_Square.png
END:VEVENT
BEGIN:VEVENT
DTSTART;TZID=America/New_York:20240826T190000
DTEND;TZID=America/New_York:20240826T210000
DTSTAMP:20260420T064400
CREATED:20240130T133717Z
LAST-MODIFIED:20240130T133717Z
UID:10000028-1724698800-1724706000@progressgrovecity.com
SUMMARY:SWCSD Board Meeting
DESCRIPTION:Regular Meeting – Please wear red shirts if possible
URL:https://progressgrovecity.com/event/swcsd-board-meeting-9/
LOCATION:South-Western City School District Building\, 3805 Marlane Dr\, Grove City\, OH\, 43123\, United States
CATEGORIES:School Board Meetings
ATTACH;FMTTYPE=image/png:https://progressgrovecity.com/wp-content/uploads/2024/01/SWCSD_Logo_Square.png
END:VEVENT
BEGIN:VEVENT
DTSTART;TZID=America/New_York:20240812T190000
DTEND;TZID=America/New_York:20240812T210000
DTSTAMP:20260420T064400
CREATED:20240130T133619Z
LAST-MODIFIED:20240130T133619Z
UID:10000027-1723489200-1723496400@progressgrovecity.com
SUMMARY:SWCSD Board Meeting
DESCRIPTION:Regular Meeting – Please wear red shirts if possible
URL:https://progressgrovecity.com/event/swcsd-board-meeting-8/
LOCATION:South-Western City School District Building\, 3805 Marlane Dr\, Grove City\, OH\, 43123\, United States
CATEGORIES:School Board Meetings
ATTACH;FMTTYPE=image/png:https://progressgrovecity.com/wp-content/uploads/2024/01/SWCSD_Logo_Square.png
END:VEVENT
BEGIN:VEVENT
DTSTART;TZID=America/New_York:20240722T190000
DTEND;TZID=America/New_York:20240722T210000
DTSTAMP:20260420T064400
CREATED:20240719T143315Z
LAST-MODIFIED:20240719T143315Z
UID:10000105-1721674800-1721682000@progressgrovecity.com
SUMMARY:SWCSD Board Meeting
DESCRIPTION:The SWCSD School Board now has a meeting scheduled for the evening of July 22\, including voting on a new\, very pricy contract for Omar Tarazi.\nThe school board’s Special Meeting will be 7pm at the Event Center at the South-Western Career Academy – 4750 Big Run South Rd. Grove City\, OH 43123
URL:https://progressgrovecity.com/event/swcsd-board-meeting-16/
LOCATION:Event Center at the South-Western Career Academy\, 4750 Big Run South Rd\, Grove City\, OH\, 43123\, United States
CATEGORIES:School Board Meetings
ATTACH;FMTTYPE=image/png:https://progressgrovecity.com/wp-content/uploads/2024/01/SWCSD_Logo_Square.png
END:VEVENT
BEGIN:VEVENT
DTSTART;TZID=America/New_York:20240708T190000
DTEND;TZID=America/New_York:20240708T210000
DTSTAMP:20260420T064400
CREATED:20240130T133522Z
LAST-MODIFIED:20240130T133522Z
UID:10000026-1720465200-1720472400@progressgrovecity.com
SUMMARY:SWCSD Board Meeting
DESCRIPTION:Regular Meeting – Please wear red shirts if possible
URL:https://progressgrovecity.com/event/swcsd-board-meeting-7/
LOCATION:South-Western City School District Building\, 3805 Marlane Dr\, Grove City\, OH\, 43123\, United States
CATEGORIES:School Board Meetings
ATTACH;FMTTYPE=image/png:https://progressgrovecity.com/wp-content/uploads/2024/01/SWCSD_Logo_Square.png
END:VEVENT
BEGIN:VEVENT
DTSTART;TZID=America/New_York:20240626T073000
DTEND;TZID=America/New_York:20240626T093000
DTSTAMP:20260420T064400
CREATED:20240130T133425Z
LAST-MODIFIED:20240130T133425Z
UID:10000025-1719387000-1719394200@progressgrovecity.com
SUMMARY:SWCSD Board Meeting
DESCRIPTION:  \nSpecial Time….7:30AM \nRegular Meeting – Please wear red shirts if possible
URL:https://progressgrovecity.com/event/swcsd-board-meeting-6/
LOCATION:South-Western City School District Building\, 3805 Marlane Dr\, Grove City\, OH\, 43123\, United States
CATEGORIES:School Board Meetings
ATTACH;FMTTYPE=image/png:https://progressgrovecity.com/wp-content/uploads/2024/01/SWCSD_Logo_Square.png
END:VEVENT
BEGIN:VEVENT
DTSTART;TZID=America/New_York:20240610T190000
DTEND;TZID=America/New_York:20240610T210000
DTSTAMP:20260420T064400
CREATED:20240130T133308Z
LAST-MODIFIED:20240130T133308Z
UID:10000024-1718046000-1718053200@progressgrovecity.com
SUMMARY:SWCSD Board Meeting
DESCRIPTION:Regular Meeting – Please wear red shirts if possible
URL:https://progressgrovecity.com/event/swcsd-board-meeting-5/
LOCATION:South-Western City School District Building\, 3805 Marlane Dr\, Grove City\, OH\, 43123\, United States
CATEGORIES:School Board Meetings
ATTACH;FMTTYPE=image/png:https://progressgrovecity.com/wp-content/uploads/2024/01/SWCSD_Logo_Square.png
END:VEVENT
BEGIN:VEVENT
DTSTART;TZID=America/New_York:20240513T190000
DTEND;TZID=America/New_York:20240513T210000
DTSTAMP:20260420T064400
CREATED:20240130T133208Z
LAST-MODIFIED:20240130T133208Z
UID:10000023-1715626800-1715634000@progressgrovecity.com
SUMMARY:SWCSD Board Member
DESCRIPTION:Regular Meeting – Please wear red shirts if possible
URL:https://progressgrovecity.com/event/swcsd-board-member/
LOCATION:South-Western City School District Building\, 3805 Marlane Dr\, Grove City\, OH\, 43123\, United States
CATEGORIES:School Board Meetings
ATTACH;FMTTYPE=image/png:https://progressgrovecity.com/wp-content/uploads/2024/01/SWCSD_Logo_Square.png
END:VEVENT
BEGIN:VEVENT
DTSTART;TZID=America/New_York:20240422T190000
DTEND;TZID=America/New_York:20240422T210000
DTSTAMP:20260420T064400
CREATED:20240130T133108Z
LAST-MODIFIED:20240130T133108Z
UID:10000022-1713812400-1713819600@progressgrovecity.com
SUMMARY:SWCSD Board Meeting
DESCRIPTION:Regular Meeting – Please wear red shirts if possible
URL:https://progressgrovecity.com/event/swcsd-board-meeting-4/
LOCATION:South-Western City School District Building\, 3805 Marlane Dr\, Grove City\, OH\, 43123\, United States
CATEGORIES:School Board Meetings
ATTACH;FMTTYPE=image/png:https://progressgrovecity.com/wp-content/uploads/2024/01/SWCSD_Logo_Square.png
END:VEVENT
BEGIN:VEVENT
DTSTART;TZID=America/New_York:20240401T190000
DTEND;TZID=America/New_York:20240401T210000
DTSTAMP:20260420T064400
CREATED:20240330T202820Z
LAST-MODIFIED:20240330T202820Z
UID:10000082-1711998000-1712005200@progressgrovecity.com
SUMMARY:SWCSD Board Meeting
DESCRIPTION:
URL:https://progressgrovecity.com/event/swcsd-board-meeting-15/
LOCATION:South-Western City School District Building\, 3805 Marlane Dr\, Grove City\, OH\, 43123\, United States
CATEGORIES:School Board Meetings
ATTACH;FMTTYPE=image/png:https://progressgrovecity.com/wp-content/uploads/2024/01/LogoHeader.png
END:VEVENT
BEGIN:VEVENT
DTSTART;TZID=America/New_York:20240311T190000
DTEND;TZID=America/New_York:20240311T210000
DTSTAMP:20260420T064400
CREATED:20240130T132903Z
LAST-MODIFIED:20240130T132903Z
UID:10000020-1710183600-1710190800@progressgrovecity.com
SUMMARY:SWCSD Board Meeting
DESCRIPTION:Regular Meeting – Please wear red shirts if possible
URL:https://progressgrovecity.com/event/swcsd-board-meeting-2/
LOCATION:South-Western City School District Building\, 3805 Marlane Dr\, Grove City\, OH\, 43123\, United States
CATEGORIES:School Board Meetings
ATTACH;FMTTYPE=image/png:https://progressgrovecity.com/wp-content/uploads/2024/01/SWCSD_Logo_Square.png
END:VEVENT
BEGIN:VEVENT
DTSTART;TZID=America/New_York:20240221T083000
DTEND;TZID=America/New_York:20240221T103000
DTSTAMP:20260420T064400
CREATED:20240130T132758Z
LAST-MODIFIED:20240130T132758Z
UID:10000019-1708504200-1708511400@progressgrovecity.com
SUMMARY:SWCSD Board Meeting (Visioning Session)
DESCRIPTION:Visioning Session – Please wear red shirts if possible
URL:https://progressgrovecity.com/event/swcsd-board-meeting-visioning-session/
LOCATION:South-Western City School District Building\, 3805 Marlane Dr\, Grove City\, OH\, 43123\, United States
CATEGORIES:School Board Meetings
ATTACH;FMTTYPE=image/png:https://progressgrovecity.com/wp-content/uploads/2024/01/SWCSD_Logo_Square.png
END:VEVENT
BEGIN:VEVENT
DTSTART;TZID=America/New_York:20240212T190000
DTEND;TZID=America/New_York:20240212T210000
DTSTAMP:20260420T064400
CREATED:20240130T132557Z
LAST-MODIFIED:20240130T132557Z
UID:10000018-1707764400-1707771600@progressgrovecity.com
SUMMARY:SWCSD Board Meeting
DESCRIPTION:Regular Meeting – Please wear red shirts if possible
URL:https://progressgrovecity.com/event/swcsd-board-meeting/
LOCATION:South-Western City School District Building\, 3805 Marlane Dr\, Grove City\, OH\, 43123\, United States
CATEGORIES:School Board Meetings
ATTACH;FMTTYPE=image/png:https://progressgrovecity.com/wp-content/uploads/2024/01/SWCSD_Logo_Square.png
END:VEVENT
BEGIN:VEVENT
DTSTART;TZID=America/New_York:20240205T170000
DTEND;TZID=America/New_York:20240205T190000
DTSTAMP:20260420T064400
CREATED:20240205T195534Z
LAST-MODIFIED:20240205T195534Z
UID:10000035-1707152400-1707159600@progressgrovecity.com
SUMMARY:SWCSD Board Meeting (last minute add)
DESCRIPTION:This meeting was added at the last minute… \n 
URL:https://progressgrovecity.com/event/swcsd-board-meeting-last-minute-add/
LOCATION:South-Western City School District Building\, 3805 Marlane Dr\, Grove City\, OH\, 43123\, United States
CATEGORIES:School Board Meetings
ATTACH;FMTTYPE=image/png:https://progressgrovecity.com/wp-content/uploads/2024/01/SWCSD_Logo_Square.png
END:VEVENT
BEGIN:VEVENT
DTSTART;TZID=America/New_York:20240108T190000
DTEND;TZID=America/New_York:20240108T200000
DTSTAMP:20260420T064400
CREATED:20240104T231917Z
LAST-MODIFIED:20240104T232721Z
UID:10000011-1704740400-1704744000@progressgrovecity.com
SUMMARY:SWCSD School Board Meeting
DESCRIPTION:Public meeting for the SWCSD Board.
URL:https://progressgrovecity.com/event/swcsd-school-board-meeting/
LOCATION:South-Western City School District Building\, 3805 Marlane Dr\, Grove City\, OH\, 43123\, United States
CATEGORIES:School Board Meetings
ATTACH;FMTTYPE=image/png:https://progressgrovecity.com/wp-content/uploads/2024/01/LogoHeader.png
END:VEVENT
END:VCALENDAR