BEGIN:VCALENDAR
VERSION:2.0
PRODID:-//Progress Grove City - ECPv6.15.20//NONSGML v1.0//EN
CALSCALE:GREGORIAN
METHOD:PUBLISH
X-ORIGINAL-URL:https://progressgrovecity.com
X-WR-CALDESC:Events for Progress Grove City
REFRESH-INTERVAL;VALUE=DURATION:PT1H
X-Robots-Tag:noindex
X-PUBLISHED-TTL:PT1H
BEGIN:VTIMEZONE
TZID:America/New_York
BEGIN:DAYLIGHT
TZOFFSETFROM:-0500
TZOFFSETTO:-0400
TZNAME:EDT
DTSTART:20240310T070000
END:DAYLIGHT
BEGIN:STANDARD
TZOFFSETFROM:-0400
TZOFFSETTO:-0500
TZNAME:EST
DTSTART:20241103T060000
END:STANDARD
BEGIN:DAYLIGHT
TZOFFSETFROM:-0500
TZOFFSETTO:-0400
TZNAME:EDT
DTSTART:20250309T070000
END:DAYLIGHT
BEGIN:STANDARD
TZOFFSETFROM:-0400
TZOFFSETTO:-0500
TZNAME:EST
DTSTART:20251102T060000
END:STANDARD
BEGIN:DAYLIGHT
TZOFFSETFROM:-0500
TZOFFSETTO:-0400
TZNAME:EDT
DTSTART:20260308T070000
END:DAYLIGHT
BEGIN:STANDARD
TZOFFSETFROM:-0400
TZOFFSETTO:-0500
TZNAME:EST
DTSTART:20261101T060000
END:STANDARD
BEGIN:DAYLIGHT
TZOFFSETFROM:-0500
TZOFFSETTO:-0400
TZNAME:EDT
DTSTART:20270314T070000
END:DAYLIGHT
BEGIN:STANDARD
TZOFFSETFROM:-0400
TZOFFSETTO:-0500
TZNAME:EST
DTSTART:20271107T060000
END:STANDARD
END:VTIMEZONE
BEGIN:VEVENT
DTSTART;TZID=America/New_York:20251215T190000
DTEND;TZID=America/New_York:20251215T210000
DTSTAMP:20260420T235206
CREATED:20250128T161655Z
LAST-MODIFIED:20250128T161655Z
UID:10001326-1765825200-1765832400@progressgrovecity.com
SUMMARY:SWCSD Board Meeting
DESCRIPTION:All meetings will be held at the District Service Center\, 3805 Marlane Drive\, Grove City\, Ohio on Mondays beginning at 7:00 p.m. unless otherwise noted.\n\nClick HERE to access all board of education meeting agendas and presentations\, meeting minutes\, and board policies
URL:https://progressgrovecity.com/event/swcsd-board-meeting-17/2025-12-15/
LOCATION:South-Western City School District Building\, 3805 Marlane Dr\, Grove City\, OH\, 43123\, United States
CATEGORIES:School Board Meetings
ATTACH;FMTTYPE=image/png:https://progressgrovecity.com/wp-content/uploads/2024/01/SWCSD_Logo_Square.png
END:VEVENT
BEGIN:VEVENT
DTSTART;TZID=America/New_York:20260223T190000
DTEND;TZID=America/New_York:20260223T210000
DTSTAMP:20260420T235206
CREATED:20260215T184324Z
LAST-MODIFIED:20260215T184325Z
UID:10001476-1771873200-1771880400@progressgrovecity.com
SUMMARY:School Board
DESCRIPTION:
URL:https://progressgrovecity.com/event/school-board-2-2/
LOCATION:Event Center at the South-Western Career Academy\, 4750 Big Run South Rd\, Grove City\, OH\, 43123\, United States
CATEGORIES:School Board Meetings
ATTACH;FMTTYPE=image/png:https://progressgrovecity.com/wp-content/uploads/2024/01/SWCSD_Logo_Square.png
END:VEVENT
BEGIN:VEVENT
DTSTART;TZID=America/New_York:20260224T170000
DTEND;TZID=America/New_York:20260224T190000
DTSTAMP:20260420T235206
CREATED:20260215T183609Z
LAST-MODIFIED:20260215T184158Z
UID:10001474-1771952400-1771959600@progressgrovecity.com
SUMMARY:School Board
DESCRIPTION:BOE Training with OSBA (5 p.m.) (4750 Big Run South Rd.\, Grove City\, OH 43123) (Tuesday)
URL:https://progressgrovecity.com/event/school-board/
LOCATION:Event Center at the South-Western Career Academy\, 4750 Big Run South Rd\, Grove City\, OH\, 43123\, United States
CATEGORIES:School Board Meetings
ATTACH;FMTTYPE=image/png:https://progressgrovecity.com/wp-content/uploads/2024/01/SWCSD_Logo_Square.png
END:VEVENT
BEGIN:VEVENT
DTSTART;TZID=America/New_York:20260316T190000
DTEND;TZID=America/New_York:20260316T210000
DTSTAMP:20260420T235206
CREATED:20260215T184121Z
LAST-MODIFIED:20260215T184121Z
UID:10001477-1773687600-1773694800@progressgrovecity.com
SUMMARY:School Board
DESCRIPTION:
URL:https://progressgrovecity.com/event/school-board-2/2026-03-16/
LOCATION:South-Western City School District Building\, 3805 Marlane Dr\, Grove City\, OH\, 43123\, United States
CATEGORIES:School Board Meetings
ATTACH;FMTTYPE=image/png:https://progressgrovecity.com/wp-content/uploads/2024/01/SWCSD_Logo_Square.png
END:VEVENT
BEGIN:VEVENT
DTSTART;TZID=America/New_York:20260413T190000
DTEND;TZID=America/New_York:20260413T210000
DTSTAMP:20260420T235206
CREATED:20260215T184121Z
LAST-MODIFIED:20260215T184121Z
UID:10001478-1776106800-1776114000@progressgrovecity.com
SUMMARY:School Board
DESCRIPTION:
URL:https://progressgrovecity.com/event/school-board-2/2026-04-13/
LOCATION:South-Western City School District Building\, 3805 Marlane Dr\, Grove City\, OH\, 43123\, United States
CATEGORIES:School Board Meetings
ATTACH;FMTTYPE=image/png:https://progressgrovecity.com/wp-content/uploads/2024/01/SWCSD_Logo_Square.png
END:VEVENT
BEGIN:VEVENT
DTSTART;TZID=America/New_York:20260427T190000
DTEND;TZID=America/New_York:20260427T210000
DTSTAMP:20260420T235206
CREATED:20260215T184121Z
LAST-MODIFIED:20260215T184121Z
UID:10001479-1777316400-1777323600@progressgrovecity.com
SUMMARY:School Board
DESCRIPTION:
URL:https://progressgrovecity.com/event/school-board-2/2026-04-27/
LOCATION:South-Western City School District Building\, 3805 Marlane Dr\, Grove City\, OH\, 43123\, United States
CATEGORIES:School Board Meetings
ATTACH;FMTTYPE=image/png:https://progressgrovecity.com/wp-content/uploads/2024/01/SWCSD_Logo_Square.png
END:VEVENT
BEGIN:VEVENT
DTSTART;TZID=America/New_York:20260518T190000
DTEND;TZID=America/New_York:20260518T210000
DTSTAMP:20260420T235206
CREATED:20260215T184121Z
LAST-MODIFIED:20260215T184121Z
UID:10001480-1779130800-1779138000@progressgrovecity.com
SUMMARY:School Board
DESCRIPTION:
URL:https://progressgrovecity.com/event/school-board-2/2026-05-18/
LOCATION:South-Western City School District Building\, 3805 Marlane Dr\, Grove City\, OH\, 43123\, United States
CATEGORIES:School Board Meetings
ATTACH;FMTTYPE=image/png:https://progressgrovecity.com/wp-content/uploads/2024/01/SWCSD_Logo_Square.png
END:VEVENT
BEGIN:VEVENT
DTSTART;TZID=America/New_York:20260608T190000
DTEND;TZID=America/New_York:20260608T210000
DTSTAMP:20260420T235206
CREATED:20260215T184121Z
LAST-MODIFIED:20260215T184121Z
UID:10001481-1780945200-1780952400@progressgrovecity.com
SUMMARY:School Board
DESCRIPTION:
URL:https://progressgrovecity.com/event/school-board-2/2026-06-08/
LOCATION:South-Western City School District Building\, 3805 Marlane Dr\, Grove City\, OH\, 43123\, United States
CATEGORIES:School Board Meetings
ATTACH;FMTTYPE=image/png:https://progressgrovecity.com/wp-content/uploads/2024/01/SWCSD_Logo_Square.png
END:VEVENT
END:VCALENDAR