BEGIN:VCALENDAR
VERSION:2.0
PRODID:-//Progress Grove City - ECPv6.15.20//NONSGML v1.0//EN
CALSCALE:GREGORIAN
METHOD:PUBLISH
X-ORIGINAL-URL:https://progressgrovecity.com
X-WR-CALDESC:Events for Progress Grove City
REFRESH-INTERVAL;VALUE=DURATION:PT1H
X-Robots-Tag:noindex
X-PUBLISHED-TTL:PT1H
BEGIN:VTIMEZONE
TZID:America/New_York
BEGIN:DAYLIGHT
TZOFFSETFROM:-0500
TZOFFSETTO:-0400
TZNAME:EDT
DTSTART:20230312T070000
END:DAYLIGHT
BEGIN:STANDARD
TZOFFSETFROM:-0400
TZOFFSETTO:-0500
TZNAME:EST
DTSTART:20231105T060000
END:STANDARD
BEGIN:DAYLIGHT
TZOFFSETFROM:-0500
TZOFFSETTO:-0400
TZNAME:EDT
DTSTART:20240310T070000
END:DAYLIGHT
BEGIN:STANDARD
TZOFFSETFROM:-0400
TZOFFSETTO:-0500
TZNAME:EST
DTSTART:20241103T060000
END:STANDARD
BEGIN:DAYLIGHT
TZOFFSETFROM:-0500
TZOFFSETTO:-0400
TZNAME:EDT
DTSTART:20250309T070000
END:DAYLIGHT
BEGIN:STANDARD
TZOFFSETFROM:-0400
TZOFFSETTO:-0500
TZNAME:EST
DTSTART:20251102T060000
END:STANDARD
END:VTIMEZONE
BEGIN:VEVENT
DTSTART;TZID=America/New_York:20240801T180000
DTEND;TZID=America/New_York:20240801T200000
DTSTAMP:20260421T080837
CREATED:20240629T155254Z
LAST-MODIFIED:20240629T155254Z
UID:10000098-1722535200-1722542400@progressgrovecity.com
SUMMARY:Progressive People's Happy Hour!
DESCRIPTION:Our weekly social event.  A safe place for anyone to come hang with other progressives and a great place to meet others involved in moving our city forward! \nWe’ll be in the front room tonight since Jodi has an event in the back…
URL:https://progressgrovecity.com/event/progressive-peoples-happy-hour-30/
LOCATION:Grove City Brewing Company\, 3946 Broadway Rd\, Grove City\, OH\, 43123\, United States
CATEGORIES:Social Events
ATTACH;FMTTYPE=image/png:https://progressgrovecity.com/wp-content/uploads/2024/01/Progressive-People-Happy-Hour.png
END:VEVENT
BEGIN:VEVENT
DTSTART;TZID=America/New_York:20240808T180000
DTEND;TZID=America/New_York:20240808T200000
DTSTAMP:20260421T080837
CREATED:20240629T155349Z
LAST-MODIFIED:20240629T155349Z
UID:10000099-1723140000-1723147200@progressgrovecity.com
SUMMARY:Progressive People's Happy Hour!
DESCRIPTION:Our weekly social event.  A safe place for anyone to come hang with other progressives and a great place to meet others involved in moving our city forward!
URL:https://progressgrovecity.com/event/progressive-peoples-happy-hour-31/
LOCATION:Grove City Brewing Company\, 3946 Broadway Rd\, Grove City\, OH\, 43123\, United States
CATEGORIES:Social Events
ATTACH;FMTTYPE=image/png:https://progressgrovecity.com/wp-content/uploads/2024/01/Progressive-People-Happy-Hour.png
END:VEVENT
BEGIN:VEVENT
DTSTART;TZID=America/New_York:20240810T000000
DTEND;TZID=America/New_York:20240810T235959
DTSTAMP:20260421T080837
CREATED:20240322T133831Z
LAST-MODIFIED:20240322T133831Z
UID:10000080-1723248000-1723334399@progressgrovecity.com
SUMMARY:Grove City Bourbon and Spirits Festival
DESCRIPTION:Bourbon and Spirits Festival in downtown Grove City.  More details to come.
URL:https://progressgrovecity.com/event/grove-city-bourbon-and-spirits-festival/
LOCATION:Downtown Grove City\, 4035 Harrisburg Pike\, Grove City\, OH\, 43123\, United States
CATEGORIES:Social Events
ATTACH;FMTTYPE=image/png:https://progressgrovecity.com/wp-content/uploads/2024/03/BourbonFest.png
END:VEVENT
BEGIN:VEVENT
DTSTART;TZID=America/New_York:20240811T140000
DTEND;TZID=America/New_York:20240811T160000
DTSTAMP:20260421T080837
CREATED:20240809T141020Z
LAST-MODIFIED:20240809T141020Z
UID:10000108-1723384800-1723392000@progressgrovecity.com
SUMMARY:Sunday Funday!
DESCRIPTION:A park meetup for families and individuals\, providing an additional opportunity for members of the groups to meet and socialize with like-minded people.  Please view the Facebook post for the particular event to see the location as it rotates between different Grove City Parks.
URL:https://progressgrovecity.com/event/sunday-funday-4/
LOCATION:Location will be shared via email the night prior to the event.
CATEGORIES:Social Events
ATTACH;FMTTYPE=image/png:https://progressgrovecity.com/wp-content/uploads/2024/06/SundayFunday.png
END:VEVENT
BEGIN:VEVENT
DTSTART;TZID=America/New_York:20240815T180000
DTEND;TZID=America/New_York:20240815T200000
DTSTAMP:20260421T080837
CREATED:20240629T155445Z
LAST-MODIFIED:20240629T155445Z
UID:10000100-1723744800-1723752000@progressgrovecity.com
SUMMARY:Progressive People's Happy Hour!
DESCRIPTION:Our weekly social event.  A safe place for anyone to come hang with other progressives and a great place to meet others involved in moving our city forward!
URL:https://progressgrovecity.com/event/progressive-peoples-happy-hour-32/
LOCATION:Grove City Brewing Company\, 3946 Broadway Rd\, Grove City\, OH\, 43123\, United States
CATEGORIES:Social Events
ATTACH;FMTTYPE=image/png:https://progressgrovecity.com/wp-content/uploads/2024/01/Progressive-People-Happy-Hour.png
END:VEVENT
BEGIN:VEVENT
DTSTART;TZID=America/New_York:20240818T180000
DTEND;TZID=America/New_York:20240818T193000
DTSTAMP:20260421T080837
CREATED:20240806T223432Z
LAST-MODIFIED:20240808T205404Z
UID:10000107-1724004000-1724009400@progressgrovecity.com
SUMMARY:Speed Activism - Back to School Edition
DESCRIPTION:We’re back with another installment of Speed Activism just in time for Back to School!  Come hang with us and rotate through stations where we’ll cover Critical Speech Writing\, Impactful Social Media\, Crucial Fake News Detection\, and Vital Digital Navigation!  Some of our community experts will walk you through the “how” and “why” on these topics in short presentations to enable you to start taking action today!  We’ll also have special guests and some social networking time\, so come on out and see what’s happening!!! \nSign up here for the location! \n 
URL:https://progressgrovecity.com/event/speed-activism-back-to-school-edition/
CATEGORIES:Informational Meetings,Social Events
ATTACH;FMTTYPE=image/png:https://progressgrovecity.com/wp-content/uploads/2024/08/SpeedActivismBTS-2.png
END:VEVENT
BEGIN:VEVENT
DTSTART;TZID=America/New_York:20240822T180000
DTEND;TZID=America/New_York:20240822T200000
DTSTAMP:20260421T080837
CREATED:20240629T155626Z
LAST-MODIFIED:20240629T155626Z
UID:10000101-1724349600-1724356800@progressgrovecity.com
SUMMARY:Progressive People's Happy Hour!
DESCRIPTION:Our weekly social event.  A safe place for anyone to come hang with other progressives and a great place to meet others involved in moving our city forward!
URL:https://progressgrovecity.com/event/progressive-peoples-happy-hour-33/
LOCATION:Grove City Brewing Company\, 3946 Broadway Rd\, Grove City\, OH\, 43123\, United States
CATEGORIES:Social Events
ATTACH;FMTTYPE=image/png:https://progressgrovecity.com/wp-content/uploads/2024/01/Progressive-People-Happy-Hour.png
END:VEVENT
BEGIN:VEVENT
DTSTART;TZID=America/New_York:20240825T140000
DTEND;TZID=America/New_York:20240825T160000
DTSTAMP:20260421T080837
CREATED:20240809T141207Z
LAST-MODIFIED:20240809T141207Z
UID:10000109-1724594400-1724601600@progressgrovecity.com
SUMMARY:Sunday Funday!
DESCRIPTION:A park meetup for families and individuals\, providing an additional opportunity for members of the groups to meet and socialize with like-minded people.  Please view the Facebook post for the particular event to see the location as it rotates between different Grove City Parks.
URL:https://progressgrovecity.com/event/sunday-funday-6/
CATEGORIES:Social Events
ATTACH;FMTTYPE=image/png:https://progressgrovecity.com/wp-content/uploads/2024/06/SundayFunday.png
END:VEVENT
BEGIN:VEVENT
DTSTART;TZID=America/New_York:20240829T180000
DTEND;TZID=America/New_York:20240829T200000
DTSTAMP:20260421T080837
CREATED:20240629T155910Z
LAST-MODIFIED:20240629T155910Z
UID:10000102-1724954400-1724961600@progressgrovecity.com
SUMMARY:Progressive People's Happy Hour!
DESCRIPTION:Our weekly social event.  A safe place for anyone to come hang with other progressives and a great place to meet others involved in moving our city forward!
URL:https://progressgrovecity.com/event/progressive-peoples-happy-hour-34/
LOCATION:Grove City Brewing Company\, 3946 Broadway Rd\, Grove City\, OH\, 43123\, United States
CATEGORIES:Social Events
ATTACH;FMTTYPE=image/png:https://progressgrovecity.com/wp-content/uploads/2024/01/Progressive-People-Happy-Hour.png
END:VEVENT
END:VCALENDAR