BEGIN:VCALENDAR
VERSION:2.0
PRODID:-//Progress Grove City - ECPv6.15.20//NONSGML v1.0//EN
CALSCALE:GREGORIAN
METHOD:PUBLISH
X-WR-CALNAME:Progress Grove City
X-ORIGINAL-URL:https://progressgrovecity.com
X-WR-CALDESC:Events for Progress Grove City
REFRESH-INTERVAL;VALUE=DURATION:PT1H
X-Robots-Tag:noindex
X-PUBLISHED-TTL:PT1H
BEGIN:VTIMEZONE
TZID:America/New_York
BEGIN:DAYLIGHT
TZOFFSETFROM:-0500
TZOFFSETTO:-0400
TZNAME:EDT
DTSTART:20230312T070000
END:DAYLIGHT
BEGIN:STANDARD
TZOFFSETFROM:-0400
TZOFFSETTO:-0500
TZNAME:EST
DTSTART:20231105T060000
END:STANDARD
BEGIN:DAYLIGHT
TZOFFSETFROM:-0500
TZOFFSETTO:-0400
TZNAME:EDT
DTSTART:20240310T070000
END:DAYLIGHT
BEGIN:STANDARD
TZOFFSETFROM:-0400
TZOFFSETTO:-0500
TZNAME:EST
DTSTART:20241103T060000
END:STANDARD
BEGIN:DAYLIGHT
TZOFFSETFROM:-0500
TZOFFSETTO:-0400
TZNAME:EDT
DTSTART:20250309T070000
END:DAYLIGHT
BEGIN:STANDARD
TZOFFSETFROM:-0400
TZOFFSETTO:-0500
TZNAME:EST
DTSTART:20251102T060000
END:STANDARD
END:VTIMEZONE
BEGIN:VEVENT
DTSTART;TZID=America/New_York:20241205T180000
DTEND;TZID=America/New_York:20241205T200000
DTSTAMP:20260421T014829
CREATED:20240830T142121Z
LAST-MODIFIED:20240830T142121Z
UID:10000133-1733421600-1733428800@progressgrovecity.com
SUMMARY:Progressive People's Happy Hour
DESCRIPTION:Our weekly social event.  A safe place for anyone to come hang with other progressives and a great place to meet others involved in moving our city forward!
URL:https://progressgrovecity.com/event/progressive-peoples-happy-hour-49/
LOCATION:Location will be shared via email the night prior to the event.
CATEGORIES:Social Events
ATTACH;FMTTYPE=image/png:https://progressgrovecity.com/wp-content/uploads/2024/02/Progressive-People-Happy-Hour-Vertical-500-x-850-px.png
END:VEVENT
BEGIN:VEVENT
DTSTART;TZID=America/New_York:20241206T103000
DTEND;TZID=America/New_York:20241206T120000
DTSTAMP:20260421T014829
CREATED:20240830T144909Z
LAST-MODIFIED:20240830T145259Z
UID:10000148-1733481000-1733486400@progressgrovecity.com
SUMMARY:Coffee Talk
DESCRIPTION:Got some free time this morning?  Swing by Panera and chat with some like minded folks about the goings on in our fine city!  We can’t wait to see you!
URL:https://progressgrovecity.com/event/coffee-talk-12/
LOCATION:Panera on Stringtown\, 1786 Stringtown Rd\, Grove City\, OH\, 43123\, United States
CATEGORIES:Social Events
ATTACH;FMTTYPE=image/png:https://progressgrovecity.com/wp-content/uploads/2024/08/CoffeeTalk-2.png
END:VEVENT
BEGIN:VEVENT
DTSTART;TZID=America/New_York:20241212T180000
DTEND;TZID=America/New_York:20241212T200000
DTSTAMP:20260421T014829
CREATED:20240830T142225Z
LAST-MODIFIED:20240830T142225Z
UID:10000134-1734026400-1734033600@progressgrovecity.com
SUMMARY:Progressive People's Happy Hour
DESCRIPTION:Our weekly social event.  A safe place for anyone to come hang with other progressives and a great place to meet others involved in moving our city forward!
URL:https://progressgrovecity.com/event/progressive-peoples-happy-hour-50/
LOCATION:Location will be shared via email the night prior to the event.
CATEGORIES:Social Events
ATTACH;FMTTYPE=image/png:https://progressgrovecity.com/wp-content/uploads/2024/02/Progressive-People-Happy-Hour-Vertical-500-x-850-px.png
END:VEVENT
BEGIN:VEVENT
DTSTART;TZID=America/New_York:20241213T103000
DTEND;TZID=America/New_York:20241213T120000
DTSTAMP:20260421T014830
CREATED:20240830T145407Z
LAST-MODIFIED:20240830T145407Z
UID:10000151-1734085800-1734091200@progressgrovecity.com
SUMMARY:Coffee Talk
DESCRIPTION:Got some free time this morning?  Swing by Panera and chat with some like minded folks about the goings on in our fine city!  We can’t wait to see you!
URL:https://progressgrovecity.com/event/coffee-talk-15/
LOCATION:Panera on Stringtown\, 1786 Stringtown Rd\, Grove City\, OH\, 43123\, United States
CATEGORIES:Social Events
ATTACH;FMTTYPE=image/png:https://progressgrovecity.com/wp-content/uploads/2024/08/CoffeeTalk-2.png
END:VEVENT
BEGIN:VEVENT
DTSTART;TZID=America/New_York:20241219T180000
DTEND;TZID=America/New_York:20241219T200000
DTSTAMP:20260421T014830
CREATED:20240830T142322Z
LAST-MODIFIED:20240830T142322Z
UID:10000135-1734631200-1734638400@progressgrovecity.com
SUMMARY:Progressive People's Happy Hour
DESCRIPTION:Our weekly social event.  A safe place for anyone to come hang with other progressives and a great place to meet others involved in moving our city forward!
URL:https://progressgrovecity.com/event/progressive-peoples-happy-hour-51/
LOCATION:Grove City Brewing Company\, 3946 Broadway Rd\, Grove City\, OH\, 43123\, United States
CATEGORIES:Social Events
ATTACH;FMTTYPE=image/png:https://progressgrovecity.com/wp-content/uploads/2024/02/Progressive-People-Happy-Hour-Vertical-500-x-850-px.png
END:VEVENT
BEGIN:VEVENT
DTSTART;TZID=America/New_York:20241220T100000
DTEND;TZID=America/New_York:20241220T120000
DTSTAMP:20260421T014830
CREATED:20240830T145456Z
LAST-MODIFIED:20241213T150555Z
UID:10000166-1734688800-1734696000@progressgrovecity.com
SUMMARY:Coffee Talk
DESCRIPTION:Got some free time this morning?  Swing by Panera and chat with some like minded folks about the goings on in our fine city!  We can’t wait to see you!
URL:https://progressgrovecity.com/event/coffee-talk-16/2024-12-20/
LOCATION:Panera on Stringtown\, 1786 Stringtown Rd\, Grove City\, OH\, 43123\, United States
CATEGORIES:Social Events
ATTACH;FMTTYPE=image/png:https://progressgrovecity.com/wp-content/uploads/2024/08/Coffee-Talk-Holiday.png
END:VEVENT
BEGIN:VEVENT
DTSTART;TZID=America/New_York:20241226T180000
DTEND;TZID=America/New_York:20241226T200000
DTSTAMP:20260421T014830
CREATED:20240830T142425Z
LAST-MODIFIED:20240830T142425Z
UID:10000136-1735236000-1735243200@progressgrovecity.com
SUMMARY:Progressive People's Happy Hour
DESCRIPTION:Our weekly social event.  A safe place for anyone to come hang with other progressives and a great place to meet others involved in moving our city forward!
URL:https://progressgrovecity.com/event/progressive-peoples-happy-hour-52/
LOCATION:Location will be shared via email the night prior to the event.
CATEGORIES:Social Events
ATTACH;FMTTYPE=image/png:https://progressgrovecity.com/wp-content/uploads/2024/02/Progressive-People-Happy-Hour-Vertical-500-x-850-px.png
END:VEVENT
BEGIN:VEVENT
DTSTART;TZID=America/New_York:20241227T100000
DTEND;TZID=America/New_York:20241227T120000
DTSTAMP:20260421T014830
CREATED:20240830T145456Z
LAST-MODIFIED:20241213T150555Z
UID:10000167-1735293600-1735300800@progressgrovecity.com
SUMMARY:Coffee Talk
DESCRIPTION:Got some free time this morning?  Swing by Panera and chat with some like minded folks about the goings on in our fine city!  We can’t wait to see you!
URL:https://progressgrovecity.com/event/coffee-talk-16/2024-12-27/
LOCATION:Panera on Stringtown\, 1786 Stringtown Rd\, Grove City\, OH\, 43123\, United States
CATEGORIES:Social Events
ATTACH;FMTTYPE=image/png:https://progressgrovecity.com/wp-content/uploads/2024/08/Coffee-Talk-Holiday.png
END:VEVENT
BEGIN:VEVENT
DTSTART;TZID=America/New_York:20241227T103000
DTEND;TZID=America/New_York:20241227T120000
DTSTAMP:20260421T014830
CREATED:20240830T145539Z
LAST-MODIFIED:20241129T152827Z
UID:10000153-1735295400-1735300800@progressgrovecity.com
SUMMARY:Coffee Talk
DESCRIPTION:Got some free time this morning?  Swing by Panera and chat with some like minded folks about the goings on in our fine city!  We can’t wait to see you!
URL:https://progressgrovecity.com/event/coffee-talk-17/
LOCATION:Panera on Stringtown\, 1786 Stringtown Rd\, Grove City\, OH\, 43123\, United States
CATEGORIES:Social Events
ATTACH;FMTTYPE=image/png:https://progressgrovecity.com/wp-content/uploads/2024/08/CoffeeTalk-2.png
END:VEVENT
END:VCALENDAR