BEGIN:VCALENDAR
VERSION:2.0
PRODID:-//Progress Grove City - ECPv6.15.20//NONSGML v1.0//EN
CALSCALE:GREGORIAN
METHOD:PUBLISH
X-ORIGINAL-URL:https://progressgrovecity.com
X-WR-CALDESC:Events for Progress Grove City
REFRESH-INTERVAL;VALUE=DURATION:PT1H
X-Robots-Tag:noindex
X-PUBLISHED-TTL:PT1H
BEGIN:VTIMEZONE
TZID:America/New_York
BEGIN:DAYLIGHT
TZOFFSETFROM:-0500
TZOFFSETTO:-0400
TZNAME:EDT
DTSTART:20240310T070000
END:DAYLIGHT
BEGIN:STANDARD
TZOFFSETFROM:-0400
TZOFFSETTO:-0500
TZNAME:EST
DTSTART:20241103T060000
END:STANDARD
BEGIN:DAYLIGHT
TZOFFSETFROM:-0500
TZOFFSETTO:-0400
TZNAME:EDT
DTSTART:20250309T070000
END:DAYLIGHT
BEGIN:STANDARD
TZOFFSETFROM:-0400
TZOFFSETTO:-0500
TZNAME:EST
DTSTART:20251102T060000
END:STANDARD
BEGIN:DAYLIGHT
TZOFFSETFROM:-0500
TZOFFSETTO:-0400
TZNAME:EDT
DTSTART:20260308T070000
END:DAYLIGHT
BEGIN:STANDARD
TZOFFSETFROM:-0400
TZOFFSETTO:-0500
TZNAME:EST
DTSTART:20261101T060000
END:STANDARD
END:VTIMEZONE
BEGIN:VEVENT
DTSTART;TZID=America/New_York:20250127T183000
DTEND;TZID=America/New_York:20250127T200000
DTSTAMP:20260421T000927
CREATED:20250112T172002Z
LAST-MODIFIED:20250112T172002Z
UID:10001303-1738002600-1738008000@progressgrovecity.com
SUMMARY:Progress 2025 Meeting
DESCRIPTION:Come join us for an recap of our Progress Grove City activities from 2024 and meet some of the people and organizations that are providing opportunities for us (as a group and as individuals) to give back to our community this year!
URL:https://progressgrovecity.com/event/progress-2025-meeting/
LOCATION:Location will be shared via email the night prior to the event.
CATEGORIES:Informational Meetings,Social Events
ATTACH;FMTTYPE=image/png:https://progressgrovecity.com/wp-content/uploads/2025/01/Progress2025_600x850.png
END:VEVENT
END:VCALENDAR