BEGIN:VCALENDAR
VERSION:2.0
PRODID:-//Progress Grove City - ECPv6.15.20//NONSGML v1.0//EN
CALSCALE:GREGORIAN
METHOD:PUBLISH
X-ORIGINAL-URL:https://progressgrovecity.com
X-WR-CALDESC:Events for Progress Grove City
REFRESH-INTERVAL;VALUE=DURATION:PT1H
X-Robots-Tag:noindex
X-PUBLISHED-TTL:PT1H
BEGIN:VTIMEZONE
TZID:America/New_York
BEGIN:DAYLIGHT
TZOFFSETFROM:-0500
TZOFFSETTO:-0400
TZNAME:EDT
DTSTART:20240310T070000
END:DAYLIGHT
BEGIN:STANDARD
TZOFFSETFROM:-0400
TZOFFSETTO:-0500
TZNAME:EST
DTSTART:20241103T060000
END:STANDARD
BEGIN:DAYLIGHT
TZOFFSETFROM:-0500
TZOFFSETTO:-0400
TZNAME:EDT
DTSTART:20250309T070000
END:DAYLIGHT
BEGIN:STANDARD
TZOFFSETFROM:-0400
TZOFFSETTO:-0500
TZNAME:EST
DTSTART:20251102T060000
END:STANDARD
BEGIN:DAYLIGHT
TZOFFSETFROM:-0500
TZOFFSETTO:-0400
TZNAME:EDT
DTSTART:20260308T070000
END:DAYLIGHT
BEGIN:STANDARD
TZOFFSETFROM:-0400
TZOFFSETTO:-0500
TZNAME:EST
DTSTART:20261101T060000
END:STANDARD
END:VTIMEZONE
BEGIN:VEVENT
DTSTART;TZID=America/New_York:20250228T100000
DTEND;TZID=America/New_York:20250228T120000
DTSTAMP:20260420T223146
CREATED:20240830T145456Z
LAST-MODIFIED:20241213T150555Z
UID:10000176-1740736800-1740744000@progressgrovecity.com
SUMMARY:Coffee Talk
DESCRIPTION:Got some free time this morning?  Swing by Panera and chat with some like minded folks about the goings on in our fine city!  We can’t wait to see you!
URL:https://progressgrovecity.com/event/coffee-talk-16/2025-02-28/
LOCATION:Panera on Stringtown\, 1786 Stringtown Rd\, Grove City\, OH\, 43123\, United States
CATEGORIES:Social Events
ATTACH;FMTTYPE=image/png:https://progressgrovecity.com/wp-content/uploads/2024/08/Coffee-Talk-Holiday.png
END:VEVENT
BEGIN:VEVENT
DTSTART;TZID=America/New_York:20250228T190000
DTEND;TZID=America/New_York:20250228T200000
DTSTAMP:20260420T223146
CREATED:20250221T145046Z
LAST-MODIFIED:20250221T150130Z
UID:10001330-1740769200-1740772800@progressgrovecity.com
SUMMARY:Urbancrest Black History Month Celebration
DESCRIPTION:The Village of Urbancrest is having a Black History Month celebration on Friday\, February 28th at 7:00 pm. The event will be held in the Quinichett Pavilion at 3464 First Avenue\, Urbancrest\, which is right behind the Martin Luther King Park area. The event is open to the public and all are welcome!
URL:https://progressgrovecity.com/event/urbancrest-black-history-month-celebration/
LOCATION:Quinichett Pavilion\, 3464 First Avenue\, urbancrest\, OH\, 43123\, United States
CATEGORIES:City Meetings,Social Events
ATTACH;FMTTYPE=image/jpeg:https://progressgrovecity.com/wp-content/uploads/2025/02/map_of_urbancrest_oh.jpg
END:VEVENT
END:VCALENDAR