BEGIN:VCALENDAR
VERSION:2.0
PRODID:-//Progress Grove City - ECPv6.15.20//NONSGML v1.0//EN
CALSCALE:GREGORIAN
METHOD:PUBLISH
X-WR-CALNAME:Progress Grove City
X-ORIGINAL-URL:https://progressgrovecity.com
X-WR-CALDESC:Events for Progress Grove City
REFRESH-INTERVAL;VALUE=DURATION:PT1H
X-Robots-Tag:noindex
X-PUBLISHED-TTL:PT1H
BEGIN:VTIMEZONE
TZID:America/New_York
BEGIN:DAYLIGHT
TZOFFSETFROM:-0500
TZOFFSETTO:-0400
TZNAME:EDT
DTSTART:20240310T070000
END:DAYLIGHT
BEGIN:STANDARD
TZOFFSETFROM:-0400
TZOFFSETTO:-0500
TZNAME:EST
DTSTART:20241103T060000
END:STANDARD
BEGIN:DAYLIGHT
TZOFFSETFROM:-0500
TZOFFSETTO:-0400
TZNAME:EDT
DTSTART:20250309T070000
END:DAYLIGHT
BEGIN:STANDARD
TZOFFSETFROM:-0400
TZOFFSETTO:-0500
TZNAME:EST
DTSTART:20251102T060000
END:STANDARD
BEGIN:DAYLIGHT
TZOFFSETFROM:-0500
TZOFFSETTO:-0400
TZNAME:EDT
DTSTART:20260308T070000
END:DAYLIGHT
BEGIN:STANDARD
TZOFFSETFROM:-0400
TZOFFSETTO:-0500
TZNAME:EST
DTSTART:20261101T060000
END:STANDARD
END:VTIMEZONE
BEGIN:VEVENT
DTSTART;TZID=America/New_York:20250530T100000
DTEND;TZID=America/New_York:20250530T120000
DTSTAMP:20260420T212615
CREATED:20240830T145456Z
LAST-MODIFIED:20241213T150555Z
UID:10000189-1748599200-1748606400@progressgrovecity.com
SUMMARY:Coffee Talk
DESCRIPTION:Got some free time this morning?  Swing by Panera and chat with some like minded folks about the goings on in our fine city!  We can’t wait to see you!
URL:https://progressgrovecity.com/event/coffee-talk-16/2025-05-30/
LOCATION:Panera on Stringtown\, 1786 Stringtown Rd\, Grove City\, OH\, 43123\, United States
CATEGORIES:Social Events
ATTACH;FMTTYPE=image/png:https://progressgrovecity.com/wp-content/uploads/2024/08/Coffee-Talk-Holiday.png
END:VEVENT
BEGIN:VEVENT
DTSTART;TZID=America/New_York:20250601T140000
DTEND;TZID=America/New_York:20250601T160000
DTSTAMP:20260420T212615
CREATED:20250416T193438Z
LAST-MODIFIED:20250416T193439Z
UID:10000827-1748786400-1748793600@progressgrovecity.com
SUMMARY:Sunday Funday!
DESCRIPTION:We will be moving to the outdoors as long as the weather allows. If you plan to attend please sign up here and one of the admins will message you the location prior to the event. Please join us for some family friendly fun and some good old fashioned togetherness!\nCan’t wait to see you!
URL:https://progressgrovecity.com/event/sunday-funday-10-3/2025-06-01/
LOCATION:Location will be shared via email the night prior to the event.
CATEGORIES:Social Events
ATTACH;FMTTYPE=image/png:https://progressgrovecity.com/wp-content/uploads/2025/01/IMG_5810.png
END:VEVENT
BEGIN:VEVENT
DTSTART;TZID=America/New_York:20250605T180000
DTEND;TZID=America/New_York:20250605T200000
DTSTAMP:20260420T212615
CREATED:20250106T220920Z
LAST-MODIFIED:20250106T220920Z
UID:10000567-1749146400-1749153600@progressgrovecity.com
SUMMARY:Progressive People’s Happy Hour
DESCRIPTION:Our weekly social event.  A safe place for anyone to come hang with other progressives and a great place to meet others involved in moving our city forward!
URL:https://progressgrovecity.com/event/progressive-peoples-happy-hour-53/2025-06-05/
LOCATION:Grove City Brewing Company\, 3946 Broadway Rd\, Grove City\, OH\, 43123\, United States
CATEGORIES:Social Events
ATTACH;FMTTYPE=image/png:https://progressgrovecity.com/wp-content/uploads/2024/02/Progressive-People-Happy-Hour-Vertical-500-x-850-px.png
END:VEVENT
BEGIN:VEVENT
DTSTART;TZID=America/New_York:20250606T100000
DTEND;TZID=America/New_York:20250606T120000
DTSTAMP:20260420T212615
CREATED:20240830T145456Z
LAST-MODIFIED:20241213T150555Z
UID:10000190-1749204000-1749211200@progressgrovecity.com
SUMMARY:Coffee Talk
DESCRIPTION:Got some free time this morning?  Swing by Panera and chat with some like minded folks about the goings on in our fine city!  We can’t wait to see you!
URL:https://progressgrovecity.com/event/coffee-talk-16/2025-06-06/
LOCATION:Panera on Stringtown\, 1786 Stringtown Rd\, Grove City\, OH\, 43123\, United States
CATEGORIES:Social Events
ATTACH;FMTTYPE=image/png:https://progressgrovecity.com/wp-content/uploads/2024/08/Coffee-Talk-Holiday.png
END:VEVENT
BEGIN:VEVENT
DTSTART;TZID=America/New_York:20250608T140000
DTEND;TZID=America/New_York:20250608T160000
DTSTAMP:20260420T212615
CREATED:20250416T193438Z
LAST-MODIFIED:20250416T193439Z
UID:10000828-1749391200-1749398400@progressgrovecity.com
SUMMARY:Sunday Funday!
DESCRIPTION:We will be moving to the outdoors as long as the weather allows. If you plan to attend please sign up here and one of the admins will message you the location prior to the event. Please join us for some family friendly fun and some good old fashioned togetherness!\nCan’t wait to see you!
URL:https://progressgrovecity.com/event/sunday-funday-10-3/2025-06-08/
LOCATION:Location will be shared via email the night prior to the event.
CATEGORIES:Social Events
ATTACH;FMTTYPE=image/png:https://progressgrovecity.com/wp-content/uploads/2025/01/IMG_5810.png
END:VEVENT
BEGIN:VEVENT
DTSTART;TZID=America/New_York:20250612T180000
DTEND;TZID=America/New_York:20250612T200000
DTSTAMP:20260420T212615
CREATED:20250106T220920Z
LAST-MODIFIED:20250106T220920Z
UID:10000568-1749751200-1749758400@progressgrovecity.com
SUMMARY:Progressive People’s Happy Hour
DESCRIPTION:Our weekly social event.  A safe place for anyone to come hang with other progressives and a great place to meet others involved in moving our city forward!
URL:https://progressgrovecity.com/event/progressive-peoples-happy-hour-53/2025-06-12/
LOCATION:Grove City Brewing Company\, 3946 Broadway Rd\, Grove City\, OH\, 43123\, United States
CATEGORIES:Social Events
ATTACH;FMTTYPE=image/png:https://progressgrovecity.com/wp-content/uploads/2024/02/Progressive-People-Happy-Hour-Vertical-500-x-850-px.png
END:VEVENT
BEGIN:VEVENT
DTSTART;TZID=America/New_York:20250613T100000
DTEND;TZID=America/New_York:20250613T120000
DTSTAMP:20260420T212615
CREATED:20240830T145456Z
LAST-MODIFIED:20241213T150555Z
UID:10000191-1749808800-1749816000@progressgrovecity.com
SUMMARY:Coffee Talk
DESCRIPTION:Got some free time this morning?  Swing by Panera and chat with some like minded folks about the goings on in our fine city!  We can’t wait to see you!
URL:https://progressgrovecity.com/event/coffee-talk-16/2025-06-13/
LOCATION:Panera on Stringtown\, 1786 Stringtown Rd\, Grove City\, OH\, 43123\, United States
CATEGORIES:Social Events
ATTACH;FMTTYPE=image/png:https://progressgrovecity.com/wp-content/uploads/2024/08/Coffee-Talk-Holiday.png
END:VEVENT
BEGIN:VEVENT
DTSTART;TZID=America/New_York:20250615T140000
DTEND;TZID=America/New_York:20250615T160000
DTSTAMP:20260420T212615
CREATED:20250416T193438Z
LAST-MODIFIED:20250416T193439Z
UID:10000829-1749996000-1750003200@progressgrovecity.com
SUMMARY:Sunday Funday!
DESCRIPTION:We will be moving to the outdoors as long as the weather allows. If you plan to attend please sign up here and one of the admins will message you the location prior to the event. Please join us for some family friendly fun and some good old fashioned togetherness!\nCan’t wait to see you!
URL:https://progressgrovecity.com/event/sunday-funday-10-3/2025-06-15/
LOCATION:Location will be shared via email the night prior to the event.
CATEGORIES:Social Events
ATTACH;FMTTYPE=image/png:https://progressgrovecity.com/wp-content/uploads/2025/01/IMG_5810.png
END:VEVENT
BEGIN:VEVENT
DTSTART;TZID=America/New_York:20250619T180000
DTEND;TZID=America/New_York:20250619T200000
DTSTAMP:20260420T212615
CREATED:20250106T220920Z
LAST-MODIFIED:20250106T220920Z
UID:10000569-1750356000-1750363200@progressgrovecity.com
SUMMARY:Progressive People’s Happy Hour
DESCRIPTION:Our weekly social event.  A safe place for anyone to come hang with other progressives and a great place to meet others involved in moving our city forward!
URL:https://progressgrovecity.com/event/progressive-peoples-happy-hour-53/2025-06-19/
LOCATION:Grove City Brewing Company\, 3946 Broadway Rd\, Grove City\, OH\, 43123\, United States
CATEGORIES:Social Events
ATTACH;FMTTYPE=image/png:https://progressgrovecity.com/wp-content/uploads/2024/02/Progressive-People-Happy-Hour-Vertical-500-x-850-px.png
END:VEVENT
BEGIN:VEVENT
DTSTART;TZID=America/New_York:20250620T100000
DTEND;TZID=America/New_York:20250620T120000
DTSTAMP:20260420T212615
CREATED:20240830T145456Z
LAST-MODIFIED:20241213T150555Z
UID:10000192-1750413600-1750420800@progressgrovecity.com
SUMMARY:Coffee Talk
DESCRIPTION:Got some free time this morning?  Swing by Panera and chat with some like minded folks about the goings on in our fine city!  We can’t wait to see you!
URL:https://progressgrovecity.com/event/coffee-talk-16/2025-06-20/
LOCATION:Panera on Stringtown\, 1786 Stringtown Rd\, Grove City\, OH\, 43123\, United States
CATEGORIES:Social Events
ATTACH;FMTTYPE=image/png:https://progressgrovecity.com/wp-content/uploads/2024/08/Coffee-Talk-Holiday.png
END:VEVENT
BEGIN:VEVENT
DTSTART;TZID=America/New_York:20250621T120000
DTEND;TZID=America/New_York:20250621T190000
DTSTAMP:20260420T212615
CREATED:20250323T001747Z
LAST-MODIFIED:20250323T001747Z
UID:10001348-1750507200-1750532400@progressgrovecity.com
SUMMARY:Pridefest Grove City
DESCRIPTION:Pride in GC PrideFest is happening in JUNE this year! 🎊 Join us on Saturday\, June 21st at Town Center Park in Grove City for a day of love\, celebration\, and community! 🌈🎶✨Mark your calendars & stay tuned for details! 🏳️‍🌈
URL:https://progressgrovecity.com/event/pridefest-grove-city/
LOCATION:Town Center Park\, 3359 Park St\, Grove City\, Ohio\, 43123
CATEGORIES:Social Events
ATTACH;FMTTYPE=image/jpeg:https://progressgrovecity.com/wp-content/uploads/2025/03/IMG_5057.jpeg
END:VEVENT
BEGIN:VEVENT
DTSTART;TZID=America/New_York:20250622T140000
DTEND;TZID=America/New_York:20250622T160000
DTSTAMP:20260420T212615
CREATED:20250622T140907Z
LAST-MODIFIED:20250622T140909Z
UID:10000830-1750600800-1750608000@progressgrovecity.com
SUMMARY:Sunday Funday!
DESCRIPTION:Hey everyone.\n\n\nYou know how much we love having consistently having all of our events\, but today just isnt’ going to work out. Between the heat today and the exhaustion from yesterday’s Pridefest we are going to cancel Sunday Funday this week. We take our responsibility to this community very seriously\, but the safety and wellbeing of our members dictates that we take a day off.\n\n\nSorry again for the late notice. We’ll see you at another event VERY soon. Have a great day!!\n\n\nProgress Gove City
URL:https://progressgrovecity.com/event/sunday-funday-10-3-3/
LOCATION:Location will be shared via email the night prior to the event.
CATEGORIES:Social Events
ATTACH;FMTTYPE=image/png:https://progressgrovecity.com/wp-content/uploads/2025/04/Sunday-Funday-Cancel.png
END:VEVENT
BEGIN:VEVENT
DTSTART;TZID=America/New_York:20250626T180000
DTEND;TZID=America/New_York:20250626T200000
DTSTAMP:20260420T212615
CREATED:20250106T220920Z
LAST-MODIFIED:20250106T220920Z
UID:10000570-1750960800-1750968000@progressgrovecity.com
SUMMARY:Progressive People’s Happy Hour
DESCRIPTION:Our weekly social event.  A safe place for anyone to come hang with other progressives and a great place to meet others involved in moving our city forward!
URL:https://progressgrovecity.com/event/progressive-peoples-happy-hour-53/2025-06-26/
LOCATION:Grove City Brewing Company\, 3946 Broadway Rd\, Grove City\, OH\, 43123\, United States
CATEGORIES:Social Events
ATTACH;FMTTYPE=image/png:https://progressgrovecity.com/wp-content/uploads/2024/02/Progressive-People-Happy-Hour-Vertical-500-x-850-px.png
END:VEVENT
BEGIN:VEVENT
DTSTART;TZID=America/New_York:20250627T100000
DTEND;TZID=America/New_York:20250627T120000
DTSTAMP:20260420T212615
CREATED:20240830T145456Z
LAST-MODIFIED:20241213T150555Z
UID:10000193-1751018400-1751025600@progressgrovecity.com
SUMMARY:Coffee Talk
DESCRIPTION:Got some free time this morning?  Swing by Panera and chat with some like minded folks about the goings on in our fine city!  We can’t wait to see you!
URL:https://progressgrovecity.com/event/coffee-talk-16/2025-06-27/
LOCATION:Panera on Stringtown\, 1786 Stringtown Rd\, Grove City\, OH\, 43123\, United States
CATEGORIES:Social Events
ATTACH;FMTTYPE=image/png:https://progressgrovecity.com/wp-content/uploads/2024/08/Coffee-Talk-Holiday.png
END:VEVENT
BEGIN:VEVENT
DTSTART;TZID=America/New_York:20250627T120000
DTEND;TZID=America/New_York:20250629T170000
DTSTAMP:20260420T212615
CREATED:20250323T000925Z
LAST-MODIFIED:20250323T000925Z
UID:10001347-1751025600-1751216400@progressgrovecity.com
SUMMARY:ComFest
DESCRIPTION:Columbus Community Festival in Gooddale Park! \nComFest continues to shine a progressive light on the Columbus community with this year’s Logo. Thanks to all the local artists who submitted their designs this year.
URL:https://progressgrovecity.com/event/comfest/
LOCATION:Goodale Park\, 120 W Goodale St\, Columbus\, OH\, 43215\, United States
CATEGORIES:Social Events
ATTACH;FMTTYPE=image/jpeg:https://progressgrovecity.com/wp-content/uploads/2025/03/IMG_5056.jpeg
END:VEVENT
BEGIN:VEVENT
DTSTART;TZID=America/New_York:20250629T140000
DTEND;TZID=America/New_York:20250629T160000
DTSTAMP:20260420T212615
CREATED:20250416T193438Z
LAST-MODIFIED:20250416T193439Z
UID:10000831-1751205600-1751212800@progressgrovecity.com
SUMMARY:Sunday Funday!
DESCRIPTION:We will be moving to the outdoors as long as the weather allows. If you plan to attend please sign up here and one of the admins will message you the location prior to the event. Please join us for some family friendly fun and some good old fashioned togetherness!\nCan’t wait to see you!
URL:https://progressgrovecity.com/event/sunday-funday-10-3/2025-06-29/
LOCATION:Location will be shared via email the night prior to the event.
CATEGORIES:Social Events
ATTACH;FMTTYPE=image/png:https://progressgrovecity.com/wp-content/uploads/2025/01/IMG_5810.png
END:VEVENT
BEGIN:VEVENT
DTSTART;TZID=America/New_York:20250703T180000
DTEND;TZID=America/New_York:20250703T200000
DTSTAMP:20260420T212615
CREATED:20250106T220920Z
LAST-MODIFIED:20250106T220920Z
UID:10000571-1751565600-1751572800@progressgrovecity.com
SUMMARY:Progressive People’s Happy Hour
DESCRIPTION:Our weekly social event.  A safe place for anyone to come hang with other progressives and a great place to meet others involved in moving our city forward!
URL:https://progressgrovecity.com/event/progressive-peoples-happy-hour-53/2025-07-03/
LOCATION:Grove City Brewing Company\, 3946 Broadway Rd\, Grove City\, OH\, 43123\, United States
CATEGORIES:Social Events
ATTACH;FMTTYPE=image/png:https://progressgrovecity.com/wp-content/uploads/2024/02/Progressive-People-Happy-Hour-Vertical-500-x-850-px.png
END:VEVENT
BEGIN:VEVENT
DTSTART;TZID=America/New_York:20250704T100000
DTEND;TZID=America/New_York:20250704T120000
DTSTAMP:20260420T212615
CREATED:20240830T145456Z
LAST-MODIFIED:20241213T150555Z
UID:10000194-1751623200-1751630400@progressgrovecity.com
SUMMARY:Coffee Talk
DESCRIPTION:Got some free time this morning?  Swing by Panera and chat with some like minded folks about the goings on in our fine city!  We can’t wait to see you!
URL:https://progressgrovecity.com/event/coffee-talk-16/2025-07-04/
LOCATION:Panera on Stringtown\, 1786 Stringtown Rd\, Grove City\, OH\, 43123\, United States
CATEGORIES:Social Events
ATTACH;FMTTYPE=image/png:https://progressgrovecity.com/wp-content/uploads/2024/08/Coffee-Talk-Holiday.png
END:VEVENT
BEGIN:VEVENT
DTSTART;TZID=America/New_York:20250706T140000
DTEND;TZID=America/New_York:20250706T160000
DTSTAMP:20260420T212615
CREATED:20250416T193438Z
LAST-MODIFIED:20250416T193439Z
UID:10000832-1751810400-1751817600@progressgrovecity.com
SUMMARY:Sunday Funday!
DESCRIPTION:We will be moving to the outdoors as long as the weather allows. If you plan to attend please sign up here and one of the admins will message you the location prior to the event. Please join us for some family friendly fun and some good old fashioned togetherness!\nCan’t wait to see you!
URL:https://progressgrovecity.com/event/sunday-funday-10-3/2025-07-06/
LOCATION:Location will be shared via email the night prior to the event.
CATEGORIES:Social Events
ATTACH;FMTTYPE=image/png:https://progressgrovecity.com/wp-content/uploads/2025/01/IMG_5810.png
END:VEVENT
BEGIN:VEVENT
DTSTART;TZID=America/New_York:20250710T180000
DTEND;TZID=America/New_York:20250710T200000
DTSTAMP:20260420T212615
CREATED:20250106T220920Z
LAST-MODIFIED:20250106T220920Z
UID:10000572-1752170400-1752177600@progressgrovecity.com
SUMMARY:Progressive People’s Happy Hour
DESCRIPTION:Our weekly social event.  A safe place for anyone to come hang with other progressives and a great place to meet others involved in moving our city forward!
URL:https://progressgrovecity.com/event/progressive-peoples-happy-hour-53/2025-07-10/
LOCATION:Grove City Brewing Company\, 3946 Broadway Rd\, Grove City\, OH\, 43123\, United States
CATEGORIES:Social Events
ATTACH;FMTTYPE=image/png:https://progressgrovecity.com/wp-content/uploads/2024/02/Progressive-People-Happy-Hour-Vertical-500-x-850-px.png
END:VEVENT
BEGIN:VEVENT
DTSTART;TZID=America/New_York:20250711T100000
DTEND;TZID=America/New_York:20250711T120000
DTSTAMP:20260420T212615
CREATED:20240830T145456Z
LAST-MODIFIED:20241213T150555Z
UID:10000195-1752228000-1752235200@progressgrovecity.com
SUMMARY:Coffee Talk
DESCRIPTION:Got some free time this morning?  Swing by Panera and chat with some like minded folks about the goings on in our fine city!  We can’t wait to see you!
URL:https://progressgrovecity.com/event/coffee-talk-16/2025-07-11/
LOCATION:Panera on Stringtown\, 1786 Stringtown Rd\, Grove City\, OH\, 43123\, United States
CATEGORIES:Social Events
ATTACH;FMTTYPE=image/png:https://progressgrovecity.com/wp-content/uploads/2024/08/Coffee-Talk-Holiday.png
END:VEVENT
BEGIN:VEVENT
DTSTART;TZID=America/New_York:20250713T140000
DTEND;TZID=America/New_York:20250713T160000
DTSTAMP:20260420T212615
CREATED:20250416T193438Z
LAST-MODIFIED:20250416T193439Z
UID:10000833-1752415200-1752422400@progressgrovecity.com
SUMMARY:Sunday Funday!
DESCRIPTION:We will be moving to the outdoors as long as the weather allows. If you plan to attend please sign up here and one of the admins will message you the location prior to the event. Please join us for some family friendly fun and some good old fashioned togetherness!\nCan’t wait to see you!
URL:https://progressgrovecity.com/event/sunday-funday-10-3/2025-07-13/
LOCATION:Location will be shared via email the night prior to the event.
CATEGORIES:Social Events
ATTACH;FMTTYPE=image/png:https://progressgrovecity.com/wp-content/uploads/2025/01/IMG_5810.png
END:VEVENT
BEGIN:VEVENT
DTSTART;TZID=America/New_York:20250717T180000
DTEND;TZID=America/New_York:20250717T200000
DTSTAMP:20260420T212615
CREATED:20250106T220920Z
LAST-MODIFIED:20250106T220920Z
UID:10000573-1752775200-1752782400@progressgrovecity.com
SUMMARY:Progressive People’s Happy Hour
DESCRIPTION:Our weekly social event.  A safe place for anyone to come hang with other progressives and a great place to meet others involved in moving our city forward!
URL:https://progressgrovecity.com/event/progressive-peoples-happy-hour-53/2025-07-17/
LOCATION:Grove City Brewing Company\, 3946 Broadway Rd\, Grove City\, OH\, 43123\, United States
CATEGORIES:Social Events
ATTACH;FMTTYPE=image/png:https://progressgrovecity.com/wp-content/uploads/2024/02/Progressive-People-Happy-Hour-Vertical-500-x-850-px.png
END:VEVENT
BEGIN:VEVENT
DTSTART;TZID=America/New_York:20250718T100000
DTEND;TZID=America/New_York:20250718T120000
DTSTAMP:20260420T212615
CREATED:20240830T145456Z
LAST-MODIFIED:20241213T150555Z
UID:10000196-1752832800-1752840000@progressgrovecity.com
SUMMARY:Coffee Talk
DESCRIPTION:Got some free time this morning?  Swing by Panera and chat with some like minded folks about the goings on in our fine city!  We can’t wait to see you!
URL:https://progressgrovecity.com/event/coffee-talk-16/2025-07-18/
LOCATION:Panera on Stringtown\, 1786 Stringtown Rd\, Grove City\, OH\, 43123\, United States
CATEGORIES:Social Events
ATTACH;FMTTYPE=image/png:https://progressgrovecity.com/wp-content/uploads/2024/08/Coffee-Talk-Holiday.png
END:VEVENT
BEGIN:VEVENT
DTSTART;TZID=America/New_York:20250720T140000
DTEND;TZID=America/New_York:20250720T160000
DTSTAMP:20260420T212615
CREATED:20250416T193438Z
LAST-MODIFIED:20250416T193439Z
UID:10000834-1753020000-1753027200@progressgrovecity.com
SUMMARY:Sunday Funday!
DESCRIPTION:We will be moving to the outdoors as long as the weather allows. If you plan to attend please sign up here and one of the admins will message you the location prior to the event. Please join us for some family friendly fun and some good old fashioned togetherness!\nCan’t wait to see you!
URL:https://progressgrovecity.com/event/sunday-funday-10-3/2025-07-20/
LOCATION:Location will be shared via email the night prior to the event.
CATEGORIES:Social Events
ATTACH;FMTTYPE=image/png:https://progressgrovecity.com/wp-content/uploads/2025/01/IMG_5810.png
END:VEVENT
BEGIN:VEVENT
DTSTART;TZID=America/New_York:20250724T180000
DTEND;TZID=America/New_York:20250724T200000
DTSTAMP:20260420T212615
CREATED:20250106T220920Z
LAST-MODIFIED:20250106T220920Z
UID:10000574-1753380000-1753387200@progressgrovecity.com
SUMMARY:Progressive People’s Happy Hour
DESCRIPTION:Our weekly social event.  A safe place for anyone to come hang with other progressives and a great place to meet others involved in moving our city forward!
URL:https://progressgrovecity.com/event/progressive-peoples-happy-hour-53/2025-07-24/
LOCATION:Grove City Brewing Company\, 3946 Broadway Rd\, Grove City\, OH\, 43123\, United States
CATEGORIES:Social Events
ATTACH;FMTTYPE=image/png:https://progressgrovecity.com/wp-content/uploads/2024/02/Progressive-People-Happy-Hour-Vertical-500-x-850-px.png
END:VEVENT
BEGIN:VEVENT
DTSTART;TZID=America/New_York:20250725T100000
DTEND;TZID=America/New_York:20250725T120000
DTSTAMP:20260420T212615
CREATED:20240830T145456Z
LAST-MODIFIED:20241213T150555Z
UID:10000197-1753437600-1753444800@progressgrovecity.com
SUMMARY:Coffee Talk
DESCRIPTION:Got some free time this morning?  Swing by Panera and chat with some like minded folks about the goings on in our fine city!  We can’t wait to see you!
URL:https://progressgrovecity.com/event/coffee-talk-16/2025-07-25/
LOCATION:Panera on Stringtown\, 1786 Stringtown Rd\, Grove City\, OH\, 43123\, United States
CATEGORIES:Social Events
ATTACH;FMTTYPE=image/png:https://progressgrovecity.com/wp-content/uploads/2024/08/Coffee-Talk-Holiday.png
END:VEVENT
BEGIN:VEVENT
DTSTART;TZID=America/New_York:20250727T130000
DTEND;TZID=America/New_York:20250727T140000
DTSTAMP:20260420T212615
CREATED:20250724T205520Z
LAST-MODIFIED:20250724T205520Z
UID:10001381-1753621200-1753624800@progressgrovecity.com
SUMMARY:Hour of Action!
DESCRIPTION:Come make your voice heard! Help us move our city in a positive direction by dedicating one hour this week to taking action with some like-minded friends!
URL:https://progressgrovecity.com/event/hour-of-action-10/
LOCATION:OH
CATEGORIES:Informational Meetings,Social Events
ATTACH;FMTTYPE=image/png:https://progressgrovecity.com/wp-content/uploads/2025/07/Hour-of-Action.png
END:VEVENT
BEGIN:VEVENT
DTSTART;TZID=America/New_York:20250727T140000
DTEND;TZID=America/New_York:20250727T160000
DTSTAMP:20260420T212615
CREATED:20250416T193438Z
LAST-MODIFIED:20250416T193439Z
UID:10000835-1753624800-1753632000@progressgrovecity.com
SUMMARY:Sunday Funday!
DESCRIPTION:We will be moving to the outdoors as long as the weather allows. If you plan to attend please sign up here and one of the admins will message you the location prior to the event. Please join us for some family friendly fun and some good old fashioned togetherness!\nCan’t wait to see you!
URL:https://progressgrovecity.com/event/sunday-funday-10-3/2025-07-27/
LOCATION:Location will be shared via email the night prior to the event.
CATEGORIES:Social Events
ATTACH;FMTTYPE=image/png:https://progressgrovecity.com/wp-content/uploads/2025/01/IMG_5810.png
END:VEVENT
BEGIN:VEVENT
DTSTART;TZID=America/New_York:20250731T180000
DTEND;TZID=America/New_York:20250731T200000
DTSTAMP:20260420T212615
CREATED:20250106T220920Z
LAST-MODIFIED:20250106T220920Z
UID:10000575-1753984800-1753992000@progressgrovecity.com
SUMMARY:Progressive People’s Happy Hour
DESCRIPTION:Our weekly social event.  A safe place for anyone to come hang with other progressives and a great place to meet others involved in moving our city forward!
URL:https://progressgrovecity.com/event/progressive-peoples-happy-hour-53/2025-07-31/
LOCATION:Grove City Brewing Company\, 3946 Broadway Rd\, Grove City\, OH\, 43123\, United States
CATEGORIES:Social Events
ATTACH;FMTTYPE=image/png:https://progressgrovecity.com/wp-content/uploads/2024/02/Progressive-People-Happy-Hour-Vertical-500-x-850-px.png
END:VEVENT
END:VCALENDAR