BEGIN:VCALENDAR
VERSION:2.0
PRODID:-//Progress Grove City - ECPv6.15.20//NONSGML v1.0//EN
CALSCALE:GREGORIAN
METHOD:PUBLISH
X-ORIGINAL-URL:https://progressgrovecity.com
X-WR-CALDESC:Events for Progress Grove City
REFRESH-INTERVAL;VALUE=DURATION:PT1H
X-Robots-Tag:noindex
X-PUBLISHED-TTL:PT1H
BEGIN:VTIMEZONE
TZID:America/New_York
BEGIN:DAYLIGHT
TZOFFSETFROM:-0500
TZOFFSETTO:-0400
TZNAME:EDT
DTSTART:20230312T070000
END:DAYLIGHT
BEGIN:STANDARD
TZOFFSETFROM:-0400
TZOFFSETTO:-0500
TZNAME:EST
DTSTART:20231105T060000
END:STANDARD
BEGIN:DAYLIGHT
TZOFFSETFROM:-0500
TZOFFSETTO:-0400
TZNAME:EDT
DTSTART:20240310T070000
END:DAYLIGHT
BEGIN:STANDARD
TZOFFSETFROM:-0400
TZOFFSETTO:-0500
TZNAME:EST
DTSTART:20241103T060000
END:STANDARD
BEGIN:DAYLIGHT
TZOFFSETFROM:-0500
TZOFFSETTO:-0400
TZNAME:EDT
DTSTART:20250309T070000
END:DAYLIGHT
BEGIN:STANDARD
TZOFFSETFROM:-0400
TZOFFSETTO:-0500
TZNAME:EST
DTSTART:20251102T060000
END:STANDARD
END:VTIMEZONE
BEGIN:VEVENT
DTSTART;TZID=America/New_York:20240922T140000
DTEND;TZID=America/New_York:20240922T160000
DTSTAMP:20260421T131511
CREATED:20240830T134343Z
LAST-MODIFIED:20240830T134343Z
UID:10000114-1727013600-1727020800@progressgrovecity.com
SUMMARY:Sunday Funday!
DESCRIPTION:A park meetup for families and individuals\, providing an additional opportunity for members of the groups to meet and socialize with like-minded people.  Please view the Facebook post for the particular event to see the location as it rotates between different Grove City Parks.
URL:https://progressgrovecity.com/event/sunday-funday-11/
LOCATION:Location will be shared via email the night prior to the event.
CATEGORIES:Social Events
ATTACH;FMTTYPE=image/png:https://progressgrovecity.com/wp-content/uploads/2024/06/SundayFunday.png
END:VEVENT
BEGIN:VEVENT
DTSTART;TZID=America/New_York:20240926T180000
DTEND;TZID=America/New_York:20240926T200000
DTSTAMP:20260421T131511
CREATED:20240830T135807Z
LAST-MODIFIED:20240830T135807Z
UID:10000123-1727373600-1727380800@progressgrovecity.com
SUMMARY:Progressive People's Happy Hour
DESCRIPTION:Our weekly social event.  A safe place for anyone to come hang with other progressives and a great place to meet others involved in moving our city forward!
URL:https://progressgrovecity.com/event/progressive-peoples-happy-hour-39/
LOCATION:Location will be shared via email the night prior to the event.
CATEGORIES:Social Events
ATTACH;FMTTYPE=image/png:https://progressgrovecity.com/wp-content/uploads/2024/02/Progressive-People-Happy-Hour-Vertical-500-x-850-px.png
END:VEVENT
BEGIN:VEVENT
DTSTART;TZID=America/New_York:20240927T103000
DTEND;TZID=America/New_York:20240927T120000
DTSTAMP:20260421T131511
CREATED:20240830T143533Z
LAST-MODIFIED:20240830T143533Z
UID:10000140-1727433000-1727438400@progressgrovecity.com
SUMMARY:Coffee Talk
DESCRIPTION:Got some free time this morning?  Swing by Panera and chat with some like minded folks about the goings on in our fine city!  We can’t wait to see you!
URL:https://progressgrovecity.com/event/coffee-talk-4/
LOCATION:Panera on Stringtown\, 1786 Stringtown Rd\, Grove City\, OH\, 43123\, United States
CATEGORIES:Social Events
ATTACH;FMTTYPE=image/png:https://progressgrovecity.com/wp-content/uploads/2024/08/CoffeeTalk-2.png
END:VEVENT
BEGIN:VEVENT
DTSTART;TZID=America/New_York:20240929T130000
DTEND;TZID=America/New_York:20240929T140000
DTSTAMP:20260421T131511
CREATED:20240830T151741Z
LAST-MODIFIED:20240830T151741Z
UID:10000158-1727614800-1727618400@progressgrovecity.com
SUMMARY:Hour of Action!
DESCRIPTION:Kick off your Sunday by taking action in a simple\, yet effective way with other like minded people.  Social time that makes a difference!!  Sign me up!!
URL:https://progressgrovecity.com/event/hour-of-action-5/
LOCATION:Location will be shared via email the night prior to the event.
CATEGORIES:Social Events
ATTACH;FMTTYPE=image/png:https://progressgrovecity.com/wp-content/uploads/2024/08/ITEM.png
END:VEVENT
BEGIN:VEVENT
DTSTART;TZID=America/New_York:20240929T140000
DTEND;TZID=America/New_York:20240929T160000
DTSTAMP:20260421T131511
CREATED:20240830T134443Z
LAST-MODIFIED:20240830T134443Z
UID:10000115-1727618400-1727625600@progressgrovecity.com
SUMMARY:Sunday Funday!
DESCRIPTION:A park meetup for families and individuals\, providing an additional opportunity for members of the groups to meet and socialize with like-minded people.  Please view the Facebook post for the particular event to see the location as it rotates between different Grove City Parks.
URL:https://progressgrovecity.com/event/sunday-funday-12/
LOCATION:Location will be shared via email the night prior to the event.
CATEGORIES:Social Events
ATTACH;FMTTYPE=image/png:https://progressgrovecity.com/wp-content/uploads/2024/06/SundayFunday.png
END:VEVENT
BEGIN:VEVENT
DTSTART;TZID=America/New_York:20241003T180000
DTEND;TZID=America/New_York:20241003T200000
DTSTAMP:20260421T131511
CREATED:20240830T135941Z
LAST-MODIFIED:20240830T135941Z
UID:10000124-1727978400-1727985600@progressgrovecity.com
SUMMARY:Progressive People's Happy Hour
DESCRIPTION:Our weekly social event.  A safe place for anyone to come hang with other progressives and a great place to meet others involved in moving our city forward!
URL:https://progressgrovecity.com/event/progressive-peoples-happy-hour-40/
LOCATION:Location will be shared via email the night prior to the event.
CATEGORIES:Social Events
ATTACH;FMTTYPE=image/png:https://progressgrovecity.com/wp-content/uploads/2024/02/Progressive-People-Happy-Hour-Vertical-500-x-850-px.png
END:VEVENT
BEGIN:VEVENT
DTSTART;TZID=America/New_York:20241004T103000
DTEND;TZID=America/New_York:20241004T120000
DTSTAMP:20260421T131511
CREATED:20240830T143617Z
LAST-MODIFIED:20240830T143617Z
UID:10000141-1728037800-1728043200@progressgrovecity.com
SUMMARY:Coffee Talk
DESCRIPTION:Got some free time this morning?  Swing by Panera and chat with some like minded folks about the goings on in our fine city!  We can’t wait to see you!
URL:https://progressgrovecity.com/event/coffee-talk-5/
LOCATION:Panera on Stringtown\, 1786 Stringtown Rd\, Grove City\, OH\, 43123\, United States
CATEGORIES:Social Events
ATTACH;FMTTYPE=image/png:https://progressgrovecity.com/wp-content/uploads/2024/08/CoffeeTalk-2.png
END:VEVENT
BEGIN:VEVENT
DTSTART;TZID=America/New_York:20241006T130000
DTEND;TZID=America/New_York:20241006T140000
DTSTAMP:20260421T131511
CREATED:20240830T151842Z
LAST-MODIFIED:20240830T151842Z
UID:10000159-1728219600-1728223200@progressgrovecity.com
SUMMARY:Hour of Action!
DESCRIPTION:Kick off your Sunday by taking action in a simple\, yet effective way with other like minded people.  Social time that makes a difference!!  Sign me up!!
URL:https://progressgrovecity.com/event/hour-of-action-6/
LOCATION:Location will be shared via email the night prior to the event.
CATEGORIES:Social Events
ATTACH;FMTTYPE=image/png:https://progressgrovecity.com/wp-content/uploads/2024/08/ITEM.png
END:VEVENT
BEGIN:VEVENT
DTSTART;TZID=America/New_York:20241006T140000
DTEND;TZID=America/New_York:20241006T160000
DTSTAMP:20260421T131511
CREATED:20240830T134548Z
LAST-MODIFIED:20240830T134548Z
UID:10000116-1728223200-1728230400@progressgrovecity.com
SUMMARY:Sunday Funday!
DESCRIPTION:A park meetup for families and individuals\, providing an additional opportunity for members of the groups to meet and socialize with like-minded people.  Please view the Facebook post for the particular event to see the location as it rotates between different Grove City Parks.
URL:https://progressgrovecity.com/event/sunday-funday-13/
LOCATION:Location will be shared via email the night prior to the event.
CATEGORIES:Social Events
ATTACH;FMTTYPE=image/png:https://progressgrovecity.com/wp-content/uploads/2024/06/SundayFunday.png
END:VEVENT
BEGIN:VEVENT
DTSTART;TZID=America/New_York:20241010T180000
DTEND;TZID=America/New_York:20241010T200000
DTSTAMP:20260421T131511
CREATED:20240830T140336Z
LAST-MODIFIED:20240830T140336Z
UID:10000125-1728583200-1728590400@progressgrovecity.com
SUMMARY:Progressive People's Happy Hour
DESCRIPTION:Our weekly social event.  A safe place for anyone to come hang with other progressives and a great place to meet others involved in moving our city forward!
URL:https://progressgrovecity.com/event/progressive-peoples-happy-hour-41/
LOCATION:Location will be shared via email the night prior to the event.
CATEGORIES:Social Events
ATTACH;FMTTYPE=image/png:https://progressgrovecity.com/wp-content/uploads/2024/02/Progressive-People-Happy-Hour-Vertical-500-x-850-px.png
END:VEVENT
BEGIN:VEVENT
DTSTART;TZID=America/New_York:20241011T103000
DTEND;TZID=America/New_York:20241011T120000
DTSTAMP:20260421T131511
CREATED:20240830T143941Z
LAST-MODIFIED:20240830T143941Z
UID:10000142-1728642600-1728648000@progressgrovecity.com
SUMMARY:Coffee Talk
DESCRIPTION:Got some free time this morning?  Swing by Panera and chat with some like minded folks about the goings on in our fine city!  We can’t wait to see you!
URL:https://progressgrovecity.com/event/coffee-talk-6/
LOCATION:Panera on Stringtown\, 1786 Stringtown Rd\, Grove City\, OH\, 43123\, United States
CATEGORIES:Social Events
ATTACH;FMTTYPE=image/png:https://progressgrovecity.com/wp-content/uploads/2024/08/CoffeeTalk-2.png
END:VEVENT
BEGIN:VEVENT
DTSTART;TZID=America/New_York:20241013T130000
DTEND;TZID=America/New_York:20241013T140000
DTSTAMP:20260421T131511
CREATED:20240830T151935Z
LAST-MODIFIED:20240830T151935Z
UID:10000160-1728824400-1728828000@progressgrovecity.com
SUMMARY:Hour of Action!
DESCRIPTION:Kick off your Sunday by taking action in a simple\, yet effective way with other like minded people.  Social time that makes a difference!!  Sign me up!!
URL:https://progressgrovecity.com/event/hour-of-action-7/
LOCATION:Location will be shared via email the night prior to the event.
CATEGORIES:Social Events
ATTACH;FMTTYPE=image/png:https://progressgrovecity.com/wp-content/uploads/2024/08/ITEM.png
END:VEVENT
BEGIN:VEVENT
DTSTART;TZID=America/New_York:20241013T140000
DTEND;TZID=America/New_York:20241013T160000
DTSTAMP:20260421T131511
CREATED:20240830T134648Z
LAST-MODIFIED:20240830T134648Z
UID:10000117-1728828000-1728835200@progressgrovecity.com
SUMMARY:Sunday Funday!
DESCRIPTION:A park meetup for families and individuals\, providing an additional opportunity for members of the groups to meet and socialize with like-minded people.  Please view the Facebook post for the particular event to see the location as it rotates between different Grove City Parks.
URL:https://progressgrovecity.com/event/sunday-funday-14/
LOCATION:Location will be shared via email the night prior to the event.
CATEGORIES:Social Events
ATTACH;FMTTYPE=image/png:https://progressgrovecity.com/wp-content/uploads/2024/06/SundayFunday.png
END:VEVENT
BEGIN:VEVENT
DTSTART;TZID=America/New_York:20241017T180000
DTEND;TZID=America/New_York:20241017T200000
DTSTAMP:20260421T131511
CREATED:20240830T140750Z
LAST-MODIFIED:20240830T140750Z
UID:10000126-1729188000-1729195200@progressgrovecity.com
SUMMARY:Progressive People's Happy Hour
DESCRIPTION:Our weekly social event.  A safe place for anyone to come hang with other progressives and a great place to meet others involved in moving our city forward!
URL:https://progressgrovecity.com/event/progressive-peoples-happy-hour-42/
LOCATION:Location will be shared via email the night prior to the event.
CATEGORIES:Social Events
ATTACH;FMTTYPE=image/png:https://progressgrovecity.com/wp-content/uploads/2024/02/Progressive-People-Happy-Hour-Vertical-500-x-850-px.png
END:VEVENT
BEGIN:VEVENT
DTSTART;TZID=America/New_York:20241018T103000
DTEND;TZID=America/New_York:20241018T120000
DTSTAMP:20260421T131511
CREATED:20240830T144048Z
LAST-MODIFIED:20240830T144048Z
UID:10000143-1729247400-1729252800@progressgrovecity.com
SUMMARY:Coffee Talk
DESCRIPTION:Got some free time this morning?  Swing by Panera and chat with some like minded folks about the goings on in our fine city!  We can’t wait to see you!
URL:https://progressgrovecity.com/event/coffee-talk-7/
LOCATION:Panera on Stringtown\, 1786 Stringtown Rd\, Grove City\, OH\, 43123\, United States
CATEGORIES:Social Events
ATTACH;FMTTYPE=image/png:https://progressgrovecity.com/wp-content/uploads/2024/08/CoffeeTalk-2.png
END:VEVENT
BEGIN:VEVENT
DTSTART;TZID=America/New_York:20241020T130000
DTEND;TZID=America/New_York:20241020T140000
DTSTAMP:20260421T131511
CREATED:20240830T152205Z
LAST-MODIFIED:20240830T152205Z
UID:10000161-1729429200-1729432800@progressgrovecity.com
SUMMARY:Hour of Action!
DESCRIPTION:Kick off your Sunday by taking action in a simple\, yet effective way with other like minded people.  Social time that makes a difference!!  Sign me up!!
URL:https://progressgrovecity.com/event/hour-of-action-8/
LOCATION:Location will be shared via email the night prior to the event.
CATEGORIES:Social Events
ATTACH;FMTTYPE=image/png:https://progressgrovecity.com/wp-content/uploads/2024/08/ITEM.png
END:VEVENT
BEGIN:VEVENT
DTSTART;TZID=America/New_York:20241020T140000
DTEND;TZID=America/New_York:20241020T160000
DTSTAMP:20260421T131511
CREATED:20240830T134755Z
LAST-MODIFIED:20240830T134755Z
UID:10000118-1729432800-1729440000@progressgrovecity.com
SUMMARY:Sunday Funday!
DESCRIPTION:A park meetup for families and individuals\, providing an additional opportunity for members of the groups to meet and socialize with like-minded people.  Please view the Facebook post for the particular event to see the location as it rotates between different Grove City Parks.
URL:https://progressgrovecity.com/event/sunday-funday-15/
LOCATION:Location will be shared via email the night prior to the event.
CATEGORIES:Social Events
ATTACH;FMTTYPE=image/png:https://progressgrovecity.com/wp-content/uploads/2024/06/SundayFunday.png
END:VEVENT
BEGIN:VEVENT
DTSTART;TZID=America/New_York:20241024T180000
DTEND;TZID=America/New_York:20241024T200000
DTSTAMP:20260421T131511
CREATED:20240830T140901Z
LAST-MODIFIED:20240830T140901Z
UID:10000127-1729792800-1729800000@progressgrovecity.com
SUMMARY:Progressive People's Happy Hour
DESCRIPTION:Our weekly social event.  A safe place for anyone to come hang with other progressives and a great place to meet others involved in moving our city forward!
URL:https://progressgrovecity.com/event/progressive-peoples-happy-hour-43/
LOCATION:Location will be shared via email the night prior to the event.
CATEGORIES:Social Events
ATTACH;FMTTYPE=image/png:https://progressgrovecity.com/wp-content/uploads/2024/02/Progressive-People-Happy-Hour-Vertical-500-x-850-px.png
END:VEVENT
BEGIN:VEVENT
DTSTART;TZID=America/New_York:20241025T103000
DTEND;TZID=America/New_York:20241025T120000
DTSTAMP:20260421T131511
CREATED:20240830T144258Z
LAST-MODIFIED:20240830T144258Z
UID:10000144-1729852200-1729857600@progressgrovecity.com
SUMMARY:Coffee Talk
DESCRIPTION:Got some free time this morning?  Swing by Panera and chat with some like minded folks about the goings on in our fine city!  We can’t wait to see you!
URL:https://progressgrovecity.com/event/coffee-talk-8/
LOCATION:Panera on Stringtown\, 1786 Stringtown Rd\, Grove City\, OH\, 43123\, United States
CATEGORIES:Social Events
ATTACH;FMTTYPE=image/png:https://progressgrovecity.com/wp-content/uploads/2024/08/CoffeeTalk-2.png
END:VEVENT
BEGIN:VEVENT
DTSTART;TZID=America/New_York:20241027T130000
DTEND;TZID=America/New_York:20241027T140000
DTSTAMP:20260421T131511
CREATED:20240830T152307Z
LAST-MODIFIED:20240830T152307Z
UID:10000162-1730034000-1730037600@progressgrovecity.com
SUMMARY:Hour of Action!
DESCRIPTION:Kick off your Sunday by taking action in a simple\, yet effective way with other like minded people.  Social time that makes a difference!!  Sign me up!!
URL:https://progressgrovecity.com/event/hour-of-action-9/
LOCATION:Location will be shared via email the night prior to the event.
CATEGORIES:Social Events
ATTACH;FMTTYPE=image/png:https://progressgrovecity.com/wp-content/uploads/2024/08/ITEM.png
END:VEVENT
BEGIN:VEVENT
DTSTART;TZID=America/New_York:20241027T140000
DTEND;TZID=America/New_York:20241027T160000
DTSTAMP:20260421T131511
CREATED:20240830T134852Z
LAST-MODIFIED:20240830T134852Z
UID:10000119-1730037600-1730044800@progressgrovecity.com
SUMMARY:Sunday Funday!
DESCRIPTION:A park meetup for families and individuals\, providing an additional opportunity for members of the groups to meet and socialize with like-minded people.  Please view the Facebook post for the particular event to see the location as it rotates between different Grove City Parks.
URL:https://progressgrovecity.com/event/sunday-funday-16/
LOCATION:Location will be shared via email the night prior to the event.
CATEGORIES:Social Events
ATTACH;FMTTYPE=image/png:https://progressgrovecity.com/wp-content/uploads/2024/06/SundayFunday.png
END:VEVENT
BEGIN:VEVENT
DTSTART;TZID=America/New_York:20241031T180000
DTEND;TZID=America/New_York:20241031T200000
DTSTAMP:20260421T131511
CREATED:20240830T141019Z
LAST-MODIFIED:20240830T141019Z
UID:10000128-1730397600-1730404800@progressgrovecity.com
SUMMARY:Progressive People's Happy Hour
DESCRIPTION:Our weekly social event.  A safe place for anyone to come hang with other progressives and a great place to meet others involved in moving our city forward!
URL:https://progressgrovecity.com/event/progressive-peoples-happy-hour-44/
LOCATION:Location will be shared via email the night prior to the event.
CATEGORIES:Social Events
ATTACH;FMTTYPE=image/png:https://progressgrovecity.com/wp-content/uploads/2024/02/Progressive-People-Happy-Hour-Vertical-500-x-850-px.png
END:VEVENT
BEGIN:VEVENT
DTSTART;TZID=America/New_York:20241101T103000
DTEND;TZID=America/New_York:20241101T120000
DTSTAMP:20260421T131511
CREATED:20240830T144420Z
LAST-MODIFIED:20240830T144420Z
UID:10000145-1730457000-1730462400@progressgrovecity.com
SUMMARY:Coffee Talk
DESCRIPTION:Got some free time this morning?  Swing by Panera and chat with some like minded folks about the goings on in our fine city!  We can’t wait to see you!
URL:https://progressgrovecity.com/event/coffee-talk-9/
LOCATION:Location will be shared via email the night prior to the event.
CATEGORIES:Social Events
ATTACH;FMTTYPE=image/png:https://progressgrovecity.com/wp-content/uploads/2024/08/CoffeeTalk-2.png
END:VEVENT
BEGIN:VEVENT
DTSTART;TZID=America/New_York:20241103T140000
DTEND;TZID=America/New_York:20241103T170000
DTSTAMP:20260421T131511
CREATED:20241011T153351Z
LAST-MODIFIED:20241011T153351Z
UID:10000164-1730642400-1730653200@progressgrovecity.com
SUMMARY:Progress Grove City Family Reunion!!
DESCRIPTION:We want all of our chosen family to join us in celebrating the hard work we’ve done this year! We’ll review how far we’ve come and look forward to the next chapter… \nClick the link below to sign up!  Bring your favorite soup to share and come celebrate with us!!! \n  \nhttps://www.signupgenius.com/go/10C084EAFAD29A2F4CE9-52063655-gcprogress#/
URL:https://progressgrovecity.com/event/progress-grove-city-family-reunion/
LOCATION:Location will be shared via email the night prior to the event.
CATEGORIES:Informational Meetings,Social Events
ATTACH;FMTTYPE=image/png:https://progressgrovecity.com/wp-content/uploads/2024/10/Family_Reunion_SignUpGenius_Image.png
END:VEVENT
BEGIN:VEVENT
DTSTART;TZID=America/New_York:20241107T180000
DTEND;TZID=America/New_York:20241107T200000
DTSTAMP:20260421T131511
CREATED:20240830T141144Z
LAST-MODIFIED:20240830T141144Z
UID:10000129-1731002400-1731009600@progressgrovecity.com
SUMMARY:Progressive People's Happy Hour
DESCRIPTION:Our weekly social event.  A safe place for anyone to come hang with other progressives and a great place to meet others involved in moving our city forward!
URL:https://progressgrovecity.com/event/progressive-peoples-happy-hour-45/
LOCATION:Location will be shared via email the night prior to the event.
CATEGORIES:Social Events
ATTACH;FMTTYPE=image/png:https://progressgrovecity.com/wp-content/uploads/2024/02/Progressive-People-Happy-Hour-Vertical-500-x-850-px.png
END:VEVENT
BEGIN:VEVENT
DTSTART;TZID=America/New_York:20241108T103000
DTEND;TZID=America/New_York:20241108T120000
DTSTAMP:20260421T131511
CREATED:20240830T144517Z
LAST-MODIFIED:20240830T144517Z
UID:10000146-1731061800-1731067200@progressgrovecity.com
SUMMARY:Coffee Talk
DESCRIPTION:Got some free time this morning?  Swing by Panera and chat with some like minded folks about the goings on in our fine city!  We can’t wait to see you!
URL:https://progressgrovecity.com/event/coffee-talk-10/
LOCATION:Panera on Stringtown\, 1786 Stringtown Rd\, Grove City\, OH\, 43123\, United States
CATEGORIES:Social Events
ATTACH;FMTTYPE=image/png:https://progressgrovecity.com/wp-content/uploads/2024/08/CoffeeTalk-2.png
END:VEVENT
BEGIN:VEVENT
DTSTART;TZID=America/New_York:20241114T180000
DTEND;TZID=America/New_York:20241114T200000
DTSTAMP:20260421T131511
CREATED:20240830T141301Z
LAST-MODIFIED:20240830T141301Z
UID:10000130-1731607200-1731614400@progressgrovecity.com
SUMMARY:Progressive People's Happy Hour
DESCRIPTION:Our weekly social event.  A safe place for anyone to come hang with other progressives and a great place to meet others involved in moving our city forward!
URL:https://progressgrovecity.com/event/progressive-peoples-happy-hour-46/
LOCATION:Location will be shared via email the night prior to the event.
CATEGORIES:Social Events
ATTACH;FMTTYPE=image/png:https://progressgrovecity.com/wp-content/uploads/2024/02/Progressive-People-Happy-Hour-Vertical-500-x-850-px.png
END:VEVENT
BEGIN:VEVENT
DTSTART;TZID=America/New_York:20241115T103000
DTEND;TZID=America/New_York:20241115T120000
DTSTAMP:20260421T131511
CREATED:20240830T144740Z
LAST-MODIFIED:20240830T144740Z
UID:10000147-1731666600-1731672000@progressgrovecity.com
SUMMARY:Coffee Talk
DESCRIPTION:Got some free time this morning?  Swing by Panera and chat with some like minded folks about the goings on in our fine city!  We can’t wait to see you!
URL:https://progressgrovecity.com/event/coffee-talk-11/
LOCATION:Panera on Stringtown\, 1786 Stringtown Rd\, Grove City\, OH\, 43123\, United States
CATEGORIES:Social Events
ATTACH;FMTTYPE=image/png:https://progressgrovecity.com/wp-content/uploads/2024/08/CoffeeTalk-2.png
END:VEVENT
BEGIN:VEVENT
DTSTART;TZID=America/New_York:20241121T180000
DTEND;TZID=America/New_York:20241121T200000
DTSTAMP:20260421T131511
CREATED:20240830T141406Z
LAST-MODIFIED:20240830T141406Z
UID:10000131-1732212000-1732219200@progressgrovecity.com
SUMMARY:Progressive People's Happy Hour
DESCRIPTION:Our weekly social event.  A safe place for anyone to come hang with other progressives and a great place to meet others involved in moving our city forward!
URL:https://progressgrovecity.com/event/progressive-peoples-happy-hour-47/
LOCATION:Location will be shared via email the night prior to the event.
CATEGORIES:Social Events
ATTACH;FMTTYPE=image/png:https://progressgrovecity.com/wp-content/uploads/2024/02/Progressive-People-Happy-Hour-Vertical-500-x-850-px.png
END:VEVENT
BEGIN:VEVENT
DTSTART;TZID=America/New_York:20241122T103000
DTEND;TZID=America/New_York:20241122T120000
DTSTAMP:20260421T131511
CREATED:20240830T145015Z
LAST-MODIFIED:20240830T145015Z
UID:10000149-1732271400-1732276800@progressgrovecity.com
SUMMARY:Coffee Talk
DESCRIPTION:Got some free time this morning?  Swing by Panera and chat with some like minded folks about the goings on in our fine city!  We can’t wait to see you!
URL:https://progressgrovecity.com/event/coffee-talk-13/
LOCATION:Panera on Stringtown\, 1786 Stringtown Rd\, Grove City\, OH\, 43123\, United States
CATEGORIES:Social Events
ATTACH;FMTTYPE=image/png:https://progressgrovecity.com/wp-content/uploads/2024/08/CoffeeTalk-2.png
END:VEVENT
END:VCALENDAR