BEGIN:VCALENDAR
VERSION:2.0
PRODID:-//Progress Grove City - ECPv6.15.20//NONSGML v1.0//EN
CALSCALE:GREGORIAN
METHOD:PUBLISH
X-ORIGINAL-URL:https://progressgrovecity.com
X-WR-CALDESC:Events for Progress Grove City
REFRESH-INTERVAL;VALUE=DURATION:PT1H
X-Robots-Tag:noindex
X-PUBLISHED-TTL:PT1H
BEGIN:VTIMEZONE
TZID:America/New_York
BEGIN:DAYLIGHT
TZOFFSETFROM:-0500
TZOFFSETTO:-0400
TZNAME:EDT
DTSTART:20230312T070000
END:DAYLIGHT
BEGIN:STANDARD
TZOFFSETFROM:-0400
TZOFFSETTO:-0500
TZNAME:EST
DTSTART:20231105T060000
END:STANDARD
BEGIN:DAYLIGHT
TZOFFSETFROM:-0500
TZOFFSETTO:-0400
TZNAME:EDT
DTSTART:20240310T070000
END:DAYLIGHT
BEGIN:STANDARD
TZOFFSETFROM:-0400
TZOFFSETTO:-0500
TZNAME:EST
DTSTART:20241103T060000
END:STANDARD
BEGIN:DAYLIGHT
TZOFFSETFROM:-0500
TZOFFSETTO:-0400
TZNAME:EDT
DTSTART:20250309T070000
END:DAYLIGHT
BEGIN:STANDARD
TZOFFSETFROM:-0400
TZOFFSETTO:-0500
TZNAME:EST
DTSTART:20251102T060000
END:STANDARD
END:VTIMEZONE
BEGIN:VEVENT
DTSTART;TZID=America/New_York:20240516T180000
DTEND;TZID=America/New_York:20240516T200000
DTSTAMP:20260422T054343
CREATED:20240220T183619Z
LAST-MODIFIED:20240220T183619Z
UID:10000047-1715882400-1715889600@progressgrovecity.com
SUMMARY:Progressive People's Happy Hour!
DESCRIPTION:Our weekly social event.  A safe place for anyone to come hang with other progressives and a great place to meet others involved in moving our city forward!
URL:https://progressgrovecity.com/event/progressive-peoples-happy-hour-20/
LOCATION:Grove City Brewing Company\, 3946 Broadway Rd\, Grove City\, OH\, 43123\, United States
CATEGORIES:Social Events
ATTACH;FMTTYPE=image/png:https://progressgrovecity.com/wp-content/uploads/2024/01/Progressive-People-Happy-Hour.png
ORGANIZER;CN="Karen Church":MAILTO:krnchurch@gmail.com
END:VEVENT
BEGIN:VEVENT
DTSTART;TZID=America/New_York:20240509T180000
DTEND;TZID=America/New_York:20240509T200000
DTSTAMP:20260422T054343
CREATED:20240220T183222Z
LAST-MODIFIED:20240220T183222Z
UID:10000046-1715277600-1715284800@progressgrovecity.com
SUMMARY:Progressive People's Happy Hour!
DESCRIPTION:Our weekly social event.  A safe place for anyone to come hang with other progressives and a great place to meet others involved in moving our city forward!
URL:https://progressgrovecity.com/event/progressive-peoples-happy-hour-19/
LOCATION:Grove City Brewing Company\, 3946 Broadway Rd\, Grove City\, OH\, 43123\, United States
CATEGORIES:Social Events
ATTACH;FMTTYPE=image/png:https://progressgrovecity.com/wp-content/uploads/2024/01/Progressive-People-Happy-Hour.png
ORGANIZER;CN="Karen Church":MAILTO:krnchurch@gmail.com
END:VEVENT
BEGIN:VEVENT
DTSTART;TZID=America/New_York:20240502T180000
DTEND;TZID=America/New_York:20240502T200000
DTSTAMP:20260422T054343
CREATED:20240220T183058Z
LAST-MODIFIED:20240220T183058Z
UID:10000045-1714672800-1714680000@progressgrovecity.com
SUMMARY:Progressive People's Happy Hour!
DESCRIPTION:Our weekly social event.  A safe place for anyone to come hang with other progressives and a great place to meet others involved in moving our city forward!
URL:https://progressgrovecity.com/event/progressive-peoples-happy-hour-18/
LOCATION:Grove City Brewing Company\, 3946 Broadway Rd\, Grove City\, OH\, 43123\, United States
CATEGORIES:Social Events
ATTACH;FMTTYPE=image/png:https://progressgrovecity.com/wp-content/uploads/2024/01/Progressive-People-Happy-Hour.png
ORGANIZER;CN="Karen Church":MAILTO:krnchurch@gmail.com
END:VEVENT
BEGIN:VEVENT
DTSTART;TZID=America/New_York:20240425T180000
DTEND;TZID=America/New_York:20240425T200000
DTSTAMP:20260422T054343
CREATED:20240220T182943Z
LAST-MODIFIED:20240220T183453Z
UID:10000044-1714068000-1714075200@progressgrovecity.com
SUMMARY:Progressive People's Happy Hour!
DESCRIPTION:Our weekly social event.  A safe place for anyone to come hang with other progressives and a great place to meet others involved in moving our city forward!
URL:https://progressgrovecity.com/event/progressive-peoples-happy-hour-17/
LOCATION:Grove City Brewing Company\, 3946 Broadway Rd\, Grove City\, OH\, 43123\, United States
CATEGORIES:Social Events
ATTACH;FMTTYPE=image/png:https://progressgrovecity.com/wp-content/uploads/2024/01/Progressive-People-Happy-Hour.png
ORGANIZER;CN="Karen Church":MAILTO:krnchurch@gmail.com
END:VEVENT
BEGIN:VEVENT
DTSTART;TZID=America/New_York:20240418T180000
DTEND;TZID=America/New_York:20240418T200000
DTSTAMP:20260422T054343
CREATED:20240220T182833Z
LAST-MODIFIED:20240220T183413Z
UID:10000043-1713463200-1713470400@progressgrovecity.com
SUMMARY:Progressive People's Happy Hour!
DESCRIPTION:Our weekly social event.  A safe place for anyone to come hang with other progressives and a great place to meet others involved in moving our city forward!
URL:https://progressgrovecity.com/event/progressive-peoples-happy-hour-16/
LOCATION:Grove City Brewing Company\, 3946 Broadway Rd\, Grove City\, OH\, 43123\, United States
CATEGORIES:Social Events
ATTACH;FMTTYPE=image/png:https://progressgrovecity.com/wp-content/uploads/2024/01/Progressive-People-Happy-Hour.png
ORGANIZER;CN="Karen Church":MAILTO:krnchurch@gmail.com
END:VEVENT
BEGIN:VEVENT
DTSTART;TZID=America/New_York:20240411T180000
DTEND;TZID=America/New_York:20240411T200000
DTSTAMP:20260422T054343
CREATED:20240220T182704Z
LAST-MODIFIED:20240220T182704Z
UID:10000042-1712858400-1712865600@progressgrovecity.com
SUMMARY:Progressive People's Happy Hour!
DESCRIPTION:Our weekly social event.  A safe place for anyone to come hang with other progressives and a great place to meet others involved in moving our city forward!
URL:https://progressgrovecity.com/event/progressive-peoples-happy-hour-15/
LOCATION:Grove City Brewing Company\, 3946 Broadway Rd\, Grove City\, OH\, 43123\, United States
CATEGORIES:Social Events
ATTACH;FMTTYPE=image/png:https://progressgrovecity.com/wp-content/uploads/2024/01/Progressive-People-Happy-Hour.png
ORGANIZER;CN="Karen Church":MAILTO:krnchurch@gmail.com
END:VEVENT
BEGIN:VEVENT
DTSTART;TZID=America/New_York:20240408T190000
DTEND;TZID=America/New_York:20240408T210000
DTSTAMP:20260422T054343
CREATED:20240130T133005Z
LAST-MODIFIED:20240130T133005Z
UID:10000021-1712602800-1712610000@progressgrovecity.com
SUMMARY:SWCSD Board Meeting
DESCRIPTION:Regular Meeting – Please wear red shirts if possible
URL:https://progressgrovecity.com/event/swcsd-board-meeting-3/
LOCATION:South-Western City School District Building\, 3805 Marlane Dr\, Grove City\, OH\, 43123\, United States
CATEGORIES:Social Events
ATTACH;FMTTYPE=image/png:https://progressgrovecity.com/wp-content/uploads/2024/01/SWCSD_Logo_Square.png
END:VEVENT
BEGIN:VEVENT
DTSTART;TZID=America/New_York:20240404T180000
DTEND;TZID=America/New_York:20240404T200000
DTSTAMP:20260422T054343
CREATED:20240220T182512Z
LAST-MODIFIED:20240220T182512Z
UID:10000041-1712253600-1712260800@progressgrovecity.com
SUMMARY:Progressive People's Happy Hour!
DESCRIPTION:Our weekly social event.  A safe place for anyone to come hang with other progressives and a great place to meet others involved in moving our city forward!
URL:https://progressgrovecity.com/event/progressive-peoples-happy-hour-14/
LOCATION:Grove City Brewing Company\, 3946 Broadway Rd\, Grove City\, OH\, 43123\, United States
CATEGORIES:Social Events
ATTACH;FMTTYPE=image/png:https://progressgrovecity.com/wp-content/uploads/2024/01/Progressive-People-Happy-Hour.png
ORGANIZER;CN="Karen Church":MAILTO:krnchurch@gmail.com
END:VEVENT
BEGIN:VEVENT
DTSTART;TZID=America/New_York:20240403T193000
DTEND;TZID=America/New_York:20240403T213000
DTSTAMP:20260422T054343
CREATED:20240322T122711Z
LAST-MODIFIED:20240322T122711Z
UID:10000077-1712172600-1712179800@progressgrovecity.com
SUMMARY:Rank the Vote Benefit at Hot Chicken Takeover!!
DESCRIPTION:An anonymous donor has offered to match anything raised on our own up to $40\,000.  We will be there around 7:30PM and we would love to see some Grove City representation!  RSVP @ https://rankthevoteohio.org/hot_chicken_20240403 \n 
URL:https://progressgrovecity.com/event/rank-the-vote-benefit-at-hot-chicken-takeover/
LOCATION:Hot Chicken Takeover\, 4203 North High St\, Columbus\, OH\, 43214\, United States
CATEGORIES:fundraiser,Social Events
ATTACH;FMTTYPE=image/jpeg:https://progressgrovecity.com/wp-content/uploads/2024/03/434074997_10232857061592931_8826630436571803682_n.jpg
END:VEVENT
BEGIN:VEVENT
DTSTART;TZID=America/New_York:20240328T180000
DTEND;TZID=America/New_York:20240328T200000
DTSTAMP:20260422T054343
CREATED:20240220T182345Z
LAST-MODIFIED:20240220T182345Z
UID:10000040-1711648800-1711656000@progressgrovecity.com
SUMMARY:Progressive People's Happy Hour!
DESCRIPTION:Our weekly social event.  A safe place for anyone to come hang with other progressives and a great place to meet others involved in moving our city forward!
URL:https://progressgrovecity.com/event/progressive-peoples-happy-hour-13/
LOCATION:Grove City Brewing Company\, 3946 Broadway Rd\, Grove City\, OH\, 43123\, United States
CATEGORIES:Social Events
ATTACH;FMTTYPE=image/png:https://progressgrovecity.com/wp-content/uploads/2024/01/Progressive-People-Happy-Hour.png
ORGANIZER;CN="Karen Church":MAILTO:krnchurch@gmail.com
END:VEVENT
BEGIN:VEVENT
DTSTART;TZID=America/New_York:20240321T180000
DTEND;TZID=America/New_York:20240321T200000
DTSTAMP:20260422T054343
CREATED:20240220T182246Z
LAST-MODIFIED:20240220T182246Z
UID:10000039-1711044000-1711051200@progressgrovecity.com
SUMMARY:Progressive People's Happy Hour!
DESCRIPTION:Our weekly social event.  A safe place for anyone to come hang with other progressives and a great place to meet others involved in moving our city forward!
URL:https://progressgrovecity.com/event/progressive-peoples-happy-hour-12/
LOCATION:Grove City Brewing Company\, 3946 Broadway Rd\, Grove City\, OH\, 43123\, United States
CATEGORIES:Social Events
ATTACH;FMTTYPE=image/png:https://progressgrovecity.com/wp-content/uploads/2024/01/Progressive-People-Happy-Hour.png
ORGANIZER;CN="Karen Church":MAILTO:krnchurch@gmail.com
END:VEVENT
BEGIN:VEVENT
DTSTART;TZID=America/New_York:20240314T180000
DTEND;TZID=America/New_York:20240314T200000
DTSTAMP:20260422T054343
CREATED:20240220T182144Z
LAST-MODIFIED:20240220T182144Z
UID:10000038-1710439200-1710446400@progressgrovecity.com
SUMMARY:Progressive People's Happy Hour!
DESCRIPTION:Our weekly social event.  A safe place for anyone to come hang with other progressives and a great place to meet others involved in moving our city forward!
URL:https://progressgrovecity.com/event/progressive-peoples-happy-hour-11/
LOCATION:Grove City Brewing Company\, 3946 Broadway Rd\, Grove City\, OH\, 43123\, United States
CATEGORIES:Social Events
ATTACH;FMTTYPE=image/png:https://progressgrovecity.com/wp-content/uploads/2024/01/Progressive-People-Happy-Hour.png
ORGANIZER;CN="Karen Church":MAILTO:krnchurch@gmail.com
END:VEVENT
BEGIN:VEVENT
DTSTART;TZID=America/New_York:20240307T180000
DTEND;TZID=America/New_York:20240307T200000
DTSTAMP:20260422T054343
CREATED:20240220T182024Z
LAST-MODIFIED:20240220T182024Z
UID:10000037-1709834400-1709841600@progressgrovecity.com
SUMMARY:Progressive People's Happy Hour!
DESCRIPTION:Our weekly social event.  A safe place for anyone to come hang with other progressives and a great place to meet others involved in moving our city forward!
URL:https://progressgrovecity.com/event/progressive-peoples-happy-hour-10/
LOCATION:Grove City Brewing Company\, 3946 Broadway Rd\, Grove City\, OH\, 43123\, United States
CATEGORIES:Social Events
ATTACH;FMTTYPE=image/png:https://progressgrovecity.com/wp-content/uploads/2024/01/Progressive-People-Happy-Hour.png
ORGANIZER;CN="Karen Church":MAILTO:krnchurch@gmail.com
END:VEVENT
BEGIN:VEVENT
DTSTART;TZID=America/New_York:20240229T180000
DTEND;TZID=America/New_York:20240229T200000
DTSTAMP:20260422T054343
CREATED:20240104T231229Z
LAST-MODIFIED:20240206T035422Z
UID:10000010-1709229600-1709236800@progressgrovecity.com
SUMMARY:Progressive People's Happy Hour!
DESCRIPTION:Our weekly social event.  A safe place for anyone to come hang with other progressives and a great place to meet others involved in moving our city forward!
URL:https://progressgrovecity.com/event/progressive-peoples-happy-hour-9/
LOCATION:Grove City Brewing Company\, 3946 Broadway Rd\, Grove City\, OH\, 43123\, United States
CATEGORIES:Social Events
ATTACH;FMTTYPE=image/png:https://progressgrovecity.com/wp-content/uploads/2024/01/Progressive-People-Happy-Hour.png
ORGANIZER;CN="Karen Church":MAILTO:krnchurch@gmail.com
END:VEVENT
BEGIN:VEVENT
DTSTART;TZID=America/New_York:20240222T180000
DTEND;TZID=America/New_York:20240222T200000
DTSTAMP:20260422T054343
CREATED:20240104T231107Z
LAST-MODIFIED:20240206T035346Z
UID:10000009-1708624800-1708632000@progressgrovecity.com
SUMMARY:Progressive People's Happy Hour!
DESCRIPTION:Our weekly social event.  A safe place for anyone to come hang with other progressives and a great place to meet others involved in moving our city forward!
URL:https://progressgrovecity.com/event/progressive-peoples-happy-hour-8/
LOCATION:Grove City Brewing Company\, 3946 Broadway Rd\, Grove City\, OH\, 43123\, United States
CATEGORIES:Social Events
ATTACH;FMTTYPE=image/png:https://progressgrovecity.com/wp-content/uploads/2024/01/Progressive-People-Happy-Hour.png
ORGANIZER;CN="Karen Church":MAILTO:krnchurch@gmail.com
END:VEVENT
BEGIN:VEVENT
DTSTART;TZID=America/New_York:20240215T180000
DTEND;TZID=America/New_York:20240215T200000
DTSTAMP:20260422T054343
CREATED:20240104T230958Z
LAST-MODIFIED:20240206T035317Z
UID:10000008-1708020000-1708027200@progressgrovecity.com
SUMMARY:Progressive People's Happy Hour!
DESCRIPTION:Our weekly social event.  A safe place for anyone to come hang with other progressives and a great place to meet others involved in moving our city forward!
URL:https://progressgrovecity.com/event/progressive-peoples-happy-hour-7/
LOCATION:Grove City Brewing Company\, 3946 Broadway Rd\, Grove City\, OH\, 43123\, United States
CATEGORIES:Social Events
ATTACH;FMTTYPE=image/png:https://progressgrovecity.com/wp-content/uploads/2024/01/Progressive-People-Happy-Hour.png
ORGANIZER;CN="Karen Church":MAILTO:krnchurch@gmail.com
END:VEVENT
BEGIN:VEVENT
DTSTART;TZID=America/New_York:20240208T180000
DTEND;TZID=America/New_York:20240208T200000
DTSTAMP:20260422T054343
CREATED:20240104T230821Z
LAST-MODIFIED:20240206T035213Z
UID:10000007-1707415200-1707422400@progressgrovecity.com
SUMMARY:Progressive People's Happy Hour!
DESCRIPTION:Our weekly social event.  A safe place for anyone to come hang with other progressives and a great place to meet others involved in moving our city forward!
URL:https://progressgrovecity.com/event/progressive-peoples-happy-hour-6/
LOCATION:Grove City Brewing Company\, 3946 Broadway Rd\, Grove City\, OH\, 43123\, United States
CATEGORIES:Social Events
ATTACH;FMTTYPE=image/png:https://progressgrovecity.com/wp-content/uploads/2024/01/Progressive-People-Happy-Hour.png
ORGANIZER;CN="Karen Church":MAILTO:krnchurch@gmail.com
END:VEVENT
BEGIN:VEVENT
DTSTART;TZID=America/New_York:20240201T180000
DTEND;TZID=America/New_York:20240201T200000
DTSTAMP:20260422T054343
CREATED:20240104T230649Z
LAST-MODIFIED:20240104T233018Z
UID:10000006-1706810400-1706817600@progressgrovecity.com
SUMMARY:Progressive People's Happy Hour!
DESCRIPTION:Our weekly social event.  A safe place for anyone to come hang with other progressives and a great place to meet others involved in moving our city forward!
URL:https://progressgrovecity.com/event/progressive-peoples-happy-hour-5/
LOCATION:Grove City Brewing Company\, 3946 Broadway Rd\, Grove City\, OH\, 43123\, United States
CATEGORIES:Social Events
ATTACH;FMTTYPE=image/png:https://progressgrovecity.com/wp-content/uploads/2024/01/IMG_2820.png
ORGANIZER;CN="Karen Church":MAILTO:krnchurch@gmail.com
END:VEVENT
BEGIN:VEVENT
DTSTART;TZID=America/New_York:20240125T180000
DTEND;TZID=America/New_York:20240125T200000
DTSTAMP:20260422T054343
CREATED:20240104T230536Z
LAST-MODIFIED:20240104T233039Z
UID:10000005-1706205600-1706212800@progressgrovecity.com
SUMMARY:Progressive People's Happy Hour!
DESCRIPTION:Our weekly social event.  A safe place for anyone to come hang with other progressives and a great place to meet others involved in moving our city forward!
URL:https://progressgrovecity.com/event/progressive-peoples-happy-hour-4/
LOCATION:Grove City Brewing Company\, 3946 Broadway Rd\, Grove City\, OH\, 43123\, United States
CATEGORIES:Social Events
ATTACH;FMTTYPE=image/png:https://progressgrovecity.com/wp-content/uploads/2024/01/IMG_2820.png
ORGANIZER;CN="Karen Church":MAILTO:krnchurch@gmail.com
END:VEVENT
BEGIN:VEVENT
DTSTART;TZID=America/New_York:20240118T180000
DTEND;TZID=America/New_York:20240118T200000
DTSTAMP:20260422T054343
CREATED:20240104T230429Z
LAST-MODIFIED:20240206T035114Z
UID:10000004-1705600800-1705608000@progressgrovecity.com
SUMMARY:Progressive People's Happy Hour!
DESCRIPTION:Our weekly social event.  A safe place for anyone to come hang with other progressives and a great place to meet others involved in moving our city forward!
URL:https://progressgrovecity.com/event/progressive-peoples-happy-hour-3/
LOCATION:Grove City Brewing Company\, 3946 Broadway Rd\, Grove City\, OH\, 43123\, United States
CATEGORIES:Social Events
ATTACH;FMTTYPE=image/png:https://progressgrovecity.com/wp-content/uploads/2024/01/Progressive-People-Happy-Hour.png
ORGANIZER;CN="Karen Church":MAILTO:krnchurch@gmail.com
END:VEVENT
BEGIN:VEVENT
DTSTART;TZID=America/New_York:20240104T180000
DTEND;TZID=America/New_York:20240104T200000
DTSTAMP:20260422T054343
CREATED:20240104T210148Z
LAST-MODIFIED:20240206T035014Z
UID:10000001-1704391200-1704398400@progressgrovecity.com
SUMMARY:Progressive People's Happy Hour!
DESCRIPTION:Our weekly social event.  A safe place for anyone to come hang with other progressives and a great place to meet others involved in moving our city forward!
URL:https://progressgrovecity.com/event/progressive-peoples-happy-hour/
LOCATION:Grove City Brewing Company\, 3946 Broadway Rd\, Grove City\, OH\, 43123\, United States
CATEGORIES:Social Events
ATTACH;FMTTYPE=image/png:https://progressgrovecity.com/wp-content/uploads/2024/01/Progressive-People-Happy-Hour.png
ORGANIZER;CN="Karen Church":MAILTO:krnchurch@gmail.com
END:VEVENT
END:VCALENDAR