BEGIN:VCALENDAR
VERSION:2.0
PRODID:-//Progress Grove City - ECPv6.15.20//NONSGML v1.0//EN
CALSCALE:GREGORIAN
METHOD:PUBLISH
X-WR-CALNAME:Progress Grove City
X-ORIGINAL-URL:https://progressgrovecity.com
X-WR-CALDESC:Events for Progress Grove City
REFRESH-INTERVAL;VALUE=DURATION:PT1H
X-Robots-Tag:noindex
X-PUBLISHED-TTL:PT1H
BEGIN:VTIMEZONE
TZID:America/New_York
BEGIN:DAYLIGHT
TZOFFSETFROM:-0500
TZOFFSETTO:-0400
TZNAME:EDT
DTSTART:20240310T070000
END:DAYLIGHT
BEGIN:STANDARD
TZOFFSETFROM:-0400
TZOFFSETTO:-0500
TZNAME:EST
DTSTART:20241103T060000
END:STANDARD
BEGIN:DAYLIGHT
TZOFFSETFROM:-0500
TZOFFSETTO:-0400
TZNAME:EDT
DTSTART:20250309T070000
END:DAYLIGHT
BEGIN:STANDARD
TZOFFSETFROM:-0400
TZOFFSETTO:-0500
TZNAME:EST
DTSTART:20251102T060000
END:STANDARD
BEGIN:DAYLIGHT
TZOFFSETFROM:-0500
TZOFFSETTO:-0400
TZNAME:EDT
DTSTART:20260308T070000
END:DAYLIGHT
BEGIN:STANDARD
TZOFFSETFROM:-0400
TZOFFSETTO:-0500
TZNAME:EST
DTSTART:20261101T060000
END:STANDARD
END:VTIMEZONE
BEGIN:VEVENT
DTSTART;TZID=America/New_York:20250801T100000
DTEND;TZID=America/New_York:20250801T120000
DTSTAMP:20260420T212710
CREATED:20240830T145456Z
LAST-MODIFIED:20241213T150555Z
UID:10000198-1754042400-1754049600@progressgrovecity.com
SUMMARY:Coffee Talk
DESCRIPTION:Got some free time this morning?  Swing by Panera and chat with some like minded folks about the goings on in our fine city!  We can’t wait to see you!
URL:https://progressgrovecity.com/event/coffee-talk-16/2025-08-01/
LOCATION:Panera on Stringtown\, 1786 Stringtown Rd\, Grove City\, OH\, 43123\, United States
CATEGORIES:Social Events
ATTACH;FMTTYPE=image/png:https://progressgrovecity.com/wp-content/uploads/2024/08/Coffee-Talk-Holiday.png
END:VEVENT
BEGIN:VEVENT
DTSTART;TZID=America/New_York:20250803T140000
DTEND;TZID=America/New_York:20250803T160000
DTSTAMP:20260420T212710
CREATED:20250416T193438Z
LAST-MODIFIED:20250416T193439Z
UID:10000836-1754229600-1754236800@progressgrovecity.com
SUMMARY:Sunday Funday!
DESCRIPTION:We will be moving to the outdoors as long as the weather allows. If you plan to attend please sign up here and one of the admins will message you the location prior to the event. Please join us for some family friendly fun and some good old fashioned togetherness!\nCan’t wait to see you!
URL:https://progressgrovecity.com/event/sunday-funday-10-3/2025-08-03/
LOCATION:Location will be shared via email the night prior to the event.
CATEGORIES:Social Events
ATTACH;FMTTYPE=image/png:https://progressgrovecity.com/wp-content/uploads/2025/01/IMG_5810.png
END:VEVENT
BEGIN:VEVENT
DTSTART;TZID=America/New_York:20250807T180000
DTEND;TZID=America/New_York:20250807T200000
DTSTAMP:20260420T212710
CREATED:20250106T220920Z
LAST-MODIFIED:20250106T220920Z
UID:10000576-1754589600-1754596800@progressgrovecity.com
SUMMARY:Progressive People’s Happy Hour
DESCRIPTION:Our weekly social event.  A safe place for anyone to come hang with other progressives and a great place to meet others involved in moving our city forward!
URL:https://progressgrovecity.com/event/progressive-peoples-happy-hour-53/2025-08-07/
LOCATION:Grove City Brewing Company\, 3946 Broadway Rd\, Grove City\, OH\, 43123\, United States
CATEGORIES:Social Events
ATTACH;FMTTYPE=image/png:https://progressgrovecity.com/wp-content/uploads/2024/02/Progressive-People-Happy-Hour-Vertical-500-x-850-px.png
END:VEVENT
BEGIN:VEVENT
DTSTART;TZID=America/New_York:20250808T100000
DTEND;TZID=America/New_York:20250808T120000
DTSTAMP:20260420T212710
CREATED:20240830T145456Z
LAST-MODIFIED:20241213T150555Z
UID:10000199-1754647200-1754654400@progressgrovecity.com
SUMMARY:Coffee Talk
DESCRIPTION:Got some free time this morning?  Swing by Panera and chat with some like minded folks about the goings on in our fine city!  We can’t wait to see you!
URL:https://progressgrovecity.com/event/coffee-talk-16/2025-08-08/
LOCATION:Panera on Stringtown\, 1786 Stringtown Rd\, Grove City\, OH\, 43123\, United States
CATEGORIES:Social Events
ATTACH;FMTTYPE=image/png:https://progressgrovecity.com/wp-content/uploads/2024/08/Coffee-Talk-Holiday.png
END:VEVENT
BEGIN:VEVENT
DTSTART;TZID=America/New_York:20250809T140000
DTEND;TZID=America/New_York:20250809T153000
DTSTAMP:20260420T212710
CREATED:20250802T171135Z
LAST-MODIFIED:20250802T174913Z
UID:10001383-1754748000-1754753400@progressgrovecity.com
SUMMARY:Hands Along High Street
DESCRIPTION:I know many of you have seen the Hands Along High Street event being sponsored by Indivisible Central Ohio…and now we are officially partnering with them!!  Progress Grove City is responsible for filling ‘Section 24’ which runs from 10th Ave to King Ave.  We will meet at the sidewalk in front of the Columbus Library Northside Branch @ 1423 N High St.  You can park on any of the side streets for free or in the Gateway garage for a fee. \nPlease RSVP here so that we know how many are going from our group! \nBelow is info from the Indivisible Event: \n\n\n\n\n\n\n—————————————–\nWe Stand United\nTHIS IS A MULTISTEP SIGN UP PROCESS! Please read all the way to the end of this message.\nBefore you finish signing up here on mobilize\, please go to the Hands Along High Street SignUp Genius page to pick the exact location where you will be stationed (Section 24 for Progress Grove City) during the protest (the Sign Up slot you pick has the actual address where you will meet). Then come back here and complete your registration. \nRead more about this unique event here: \nJoin the final big resistance event of the summer before the beginning of the new school year! With your participation\, we will form a human chain of resistance 8 miles long on the public sidewalk along the west side of High Street from Route 161 in Worthington to downtown Columbus\, delivering the message that WE STAND UNITED for our common values as Americans: \nWe OPPOSE • The loss of health insurance and SNAP benefits for millions of Americans • Cuts to Medicaid\, Medicare and Social Security •Tax cuts that overwhelmingly favor the rich and add trillions to the national debt. \nWe DEFEND • The rights of law-abiding immigrants •The victims of abuse • Science-based research and policies focused on climate change and public health • The democratic principles that have defined the United States for 249 years! \nSee our full Statement of Values here. \nThis will be unlike any previous rally in Ohio\, and signup is a bit different too. You can confirm your participation here\, but to ensure that we have an unbroken chain\, we also need to know where along the route you plan to be. So once you’ve finished here\, please go to the Hands Along High Street SignUp Genius page and choose a location along the route. This will help our planning to make this event a success. \nNOTE: We will have a Moment of Unity where we link hands to form an 8-mile human chain. But leading up to that moment\, we want the people of Columbus to know why we’re here. Please bring your protest signs\, American flags\, cowbells\, etc. \nThis is a family-friendly\, peaceful event. Once you complete your registration\, you will receive details about a day that we hope to remember for years to come! \n\n\n\nRead less
URL:https://progressgrovecity.com/event/hands-along-high-street/
LOCATION:Columbus Library Northside Branch @ 1423 N High St\, 1423 N High St\, Columbus\, OH\, United States
CATEGORIES:Rally or Protest,Social Events
ATTACH;FMTTYPE=image/png:https://progressgrovecity.com/wp-content/uploads/2025/08/HandsAlongHighStreet_Sm.png
END:VEVENT
BEGIN:VEVENT
DTSTART;TZID=America/New_York:20250810T140000
DTEND;TZID=America/New_York:20250810T160000
DTSTAMP:20260420T212710
CREATED:20250416T193438Z
LAST-MODIFIED:20250416T193439Z
UID:10000837-1754834400-1754841600@progressgrovecity.com
SUMMARY:Sunday Funday!
DESCRIPTION:We will be moving to the outdoors as long as the weather allows. If you plan to attend please sign up here and one of the admins will message you the location prior to the event. Please join us for some family friendly fun and some good old fashioned togetherness!\nCan’t wait to see you!
URL:https://progressgrovecity.com/event/sunday-funday-10-3/2025-08-10/
LOCATION:Location will be shared via email the night prior to the event.
CATEGORIES:Social Events
ATTACH;FMTTYPE=image/png:https://progressgrovecity.com/wp-content/uploads/2025/01/IMG_5810.png
END:VEVENT
BEGIN:VEVENT
DTSTART;TZID=America/New_York:20250814T180000
DTEND;TZID=America/New_York:20250814T200000
DTSTAMP:20260420T212710
CREATED:20250106T220920Z
LAST-MODIFIED:20250106T220920Z
UID:10000577-1755194400-1755201600@progressgrovecity.com
SUMMARY:Progressive People’s Happy Hour
DESCRIPTION:Our weekly social event.  A safe place for anyone to come hang with other progressives and a great place to meet others involved in moving our city forward!
URL:https://progressgrovecity.com/event/progressive-peoples-happy-hour-53/2025-08-14/
LOCATION:Grove City Brewing Company\, 3946 Broadway Rd\, Grove City\, OH\, 43123\, United States
CATEGORIES:Social Events
ATTACH;FMTTYPE=image/png:https://progressgrovecity.com/wp-content/uploads/2024/02/Progressive-People-Happy-Hour-Vertical-500-x-850-px.png
END:VEVENT
BEGIN:VEVENT
DTSTART;TZID=America/New_York:20250815T100000
DTEND;TZID=America/New_York:20250815T120000
DTSTAMP:20260420T212710
CREATED:20240830T145456Z
LAST-MODIFIED:20241213T150555Z
UID:10000200-1755252000-1755259200@progressgrovecity.com
SUMMARY:Coffee Talk
DESCRIPTION:Got some free time this morning?  Swing by Panera and chat with some like minded folks about the goings on in our fine city!  We can’t wait to see you!
URL:https://progressgrovecity.com/event/coffee-talk-16/2025-08-15/
LOCATION:Panera on Stringtown\, 1786 Stringtown Rd\, Grove City\, OH\, 43123\, United States
CATEGORIES:Social Events
ATTACH;FMTTYPE=image/png:https://progressgrovecity.com/wp-content/uploads/2024/08/Coffee-Talk-Holiday.png
END:VEVENT
BEGIN:VEVENT
DTSTART;TZID=America/New_York:20250817T140000
DTEND;TZID=America/New_York:20250817T160000
DTSTAMP:20260420T212710
CREATED:20250416T193438Z
LAST-MODIFIED:20250416T193439Z
UID:10000838-1755439200-1755446400@progressgrovecity.com
SUMMARY:Sunday Funday!
DESCRIPTION:We will be moving to the outdoors as long as the weather allows. If you plan to attend please sign up here and one of the admins will message you the location prior to the event. Please join us for some family friendly fun and some good old fashioned togetherness!\nCan’t wait to see you!
URL:https://progressgrovecity.com/event/sunday-funday-10-3/2025-08-17/
LOCATION:Location will be shared via email the night prior to the event.
CATEGORIES:Social Events
ATTACH;FMTTYPE=image/png:https://progressgrovecity.com/wp-content/uploads/2025/01/IMG_5810.png
END:VEVENT
BEGIN:VEVENT
DTSTART;TZID=America/New_York:20250821T180000
DTEND;TZID=America/New_York:20250821T200000
DTSTAMP:20260420T212710
CREATED:20250106T220920Z
LAST-MODIFIED:20250106T220920Z
UID:10000578-1755799200-1755806400@progressgrovecity.com
SUMMARY:Progressive People’s Happy Hour
DESCRIPTION:Our weekly social event.  A safe place for anyone to come hang with other progressives and a great place to meet others involved in moving our city forward!
URL:https://progressgrovecity.com/event/progressive-peoples-happy-hour-53/2025-08-21/
LOCATION:Grove City Brewing Company\, 3946 Broadway Rd\, Grove City\, OH\, 43123\, United States
CATEGORIES:Social Events
ATTACH;FMTTYPE=image/png:https://progressgrovecity.com/wp-content/uploads/2024/02/Progressive-People-Happy-Hour-Vertical-500-x-850-px.png
END:VEVENT
BEGIN:VEVENT
DTSTART;TZID=America/New_York:20250822T100000
DTEND;TZID=America/New_York:20250822T120000
DTSTAMP:20260420T212710
CREATED:20240830T145456Z
LAST-MODIFIED:20241213T150555Z
UID:10000201-1755856800-1755864000@progressgrovecity.com
SUMMARY:Coffee Talk
DESCRIPTION:Got some free time this morning?  Swing by Panera and chat with some like minded folks about the goings on in our fine city!  We can’t wait to see you!
URL:https://progressgrovecity.com/event/coffee-talk-16/2025-08-22/
LOCATION:Panera on Stringtown\, 1786 Stringtown Rd\, Grove City\, OH\, 43123\, United States
CATEGORIES:Social Events
ATTACH;FMTTYPE=image/png:https://progressgrovecity.com/wp-content/uploads/2024/08/Coffee-Talk-Holiday.png
END:VEVENT
BEGIN:VEVENT
DTSTART;TZID=America/New_York:20250824T130000
DTEND;TZID=America/New_York:20250824T160000
DTSTAMP:20260420T212710
CREATED:20250606T145348Z
LAST-MODIFIED:20250727T153411Z
UID:10001369-1756040400-1756051200@progressgrovecity.com
SUMMARY:Progress 2025 - End of Summer Celebration
DESCRIPTION:We are combining our August meeting with an End of Summer Celebration.  More details to come\, but you can bet we’ll have some kind of fundraiser\, some people to speak\, and lots on fun and treats.  Books this time and we’ll see you soon!!! \nMake sure you RSVP below!!
URL:https://progressgrovecity.com/event/progress-2025-back-to-school-celebration/
LOCATION:Location will be shared via email the night prior to the event.
CATEGORIES:fundraiser,Informational Meetings,Social Events
ATTACH;FMTTYPE=image/png:https://progressgrovecity.com/wp-content/uploads/2025/06/EndOfSummerCelebration-Short.png
END:VEVENT
BEGIN:VEVENT
DTSTART;TZID=America/New_York:20250824T140000
DTEND;TZID=America/New_York:20250824T160000
DTSTAMP:20260420T212710
CREATED:20250416T193438Z
LAST-MODIFIED:20250416T193439Z
UID:10000839-1756044000-1756051200@progressgrovecity.com
SUMMARY:Sunday Funday!
DESCRIPTION:We will be moving to the outdoors as long as the weather allows. If you plan to attend please sign up here and one of the admins will message you the location prior to the event. Please join us for some family friendly fun and some good old fashioned togetherness!\nCan’t wait to see you!
URL:https://progressgrovecity.com/event/sunday-funday-10-3/2025-08-24/
LOCATION:Location will be shared via email the night prior to the event.
CATEGORIES:Social Events
ATTACH;FMTTYPE=image/png:https://progressgrovecity.com/wp-content/uploads/2025/01/IMG_5810.png
END:VEVENT
BEGIN:VEVENT
DTSTART;TZID=America/New_York:20250828T180000
DTEND;TZID=America/New_York:20250828T200000
DTSTAMP:20260420T212710
CREATED:20250106T220920Z
LAST-MODIFIED:20250106T220920Z
UID:10000579-1756404000-1756411200@progressgrovecity.com
SUMMARY:Progressive People’s Happy Hour
DESCRIPTION:Our weekly social event.  A safe place for anyone to come hang with other progressives and a great place to meet others involved in moving our city forward!
URL:https://progressgrovecity.com/event/progressive-peoples-happy-hour-53/2025-08-28/
LOCATION:Grove City Brewing Company\, 3946 Broadway Rd\, Grove City\, OH\, 43123\, United States
CATEGORIES:Social Events
ATTACH;FMTTYPE=image/png:https://progressgrovecity.com/wp-content/uploads/2024/02/Progressive-People-Happy-Hour-Vertical-500-x-850-px.png
END:VEVENT
BEGIN:VEVENT
DTSTART;TZID=America/New_York:20250829T100000
DTEND;TZID=America/New_York:20250829T120000
DTSTAMP:20260420T212710
CREATED:20240830T145456Z
LAST-MODIFIED:20241213T150555Z
UID:10000202-1756461600-1756468800@progressgrovecity.com
SUMMARY:Coffee Talk
DESCRIPTION:Got some free time this morning?  Swing by Panera and chat with some like minded folks about the goings on in our fine city!  We can’t wait to see you!
URL:https://progressgrovecity.com/event/coffee-talk-16/2025-08-29/
LOCATION:Panera on Stringtown\, 1786 Stringtown Rd\, Grove City\, OH\, 43123\, United States
CATEGORIES:Social Events
ATTACH;FMTTYPE=image/png:https://progressgrovecity.com/wp-content/uploads/2024/08/Coffee-Talk-Holiday.png
END:VEVENT
BEGIN:VEVENT
DTSTART;TZID=America/New_York:20250831T140000
DTEND;TZID=America/New_York:20250831T160000
DTSTAMP:20260420T212710
CREATED:20250416T193438Z
LAST-MODIFIED:20250416T193439Z
UID:10000840-1756648800-1756656000@progressgrovecity.com
SUMMARY:Sunday Funday!
DESCRIPTION:We will be moving to the outdoors as long as the weather allows. If you plan to attend please sign up here and one of the admins will message you the location prior to the event. Please join us for some family friendly fun and some good old fashioned togetherness!\nCan’t wait to see you!
URL:https://progressgrovecity.com/event/sunday-funday-10-3/2025-08-31/
LOCATION:Location will be shared via email the night prior to the event.
CATEGORIES:Social Events
ATTACH;FMTTYPE=image/png:https://progressgrovecity.com/wp-content/uploads/2025/01/IMG_5810.png
END:VEVENT
BEGIN:VEVENT
DTSTART;TZID=America/New_York:20250904T180000
DTEND;TZID=America/New_York:20250904T200000
DTSTAMP:20260420T212710
CREATED:20250106T220920Z
LAST-MODIFIED:20250106T220920Z
UID:10000580-1757008800-1757016000@progressgrovecity.com
SUMMARY:Progressive People’s Happy Hour
DESCRIPTION:Our weekly social event.  A safe place for anyone to come hang with other progressives and a great place to meet others involved in moving our city forward!
URL:https://progressgrovecity.com/event/progressive-peoples-happy-hour-53/2025-09-04/
LOCATION:Grove City Brewing Company\, 3946 Broadway Rd\, Grove City\, OH\, 43123\, United States
CATEGORIES:Social Events
ATTACH;FMTTYPE=image/png:https://progressgrovecity.com/wp-content/uploads/2024/02/Progressive-People-Happy-Hour-Vertical-500-x-850-px.png
END:VEVENT
BEGIN:VEVENT
DTSTART;TZID=America/New_York:20250905T100000
DTEND;TZID=America/New_York:20250905T120000
DTSTAMP:20260420T212710
CREATED:20240830T145456Z
LAST-MODIFIED:20241213T150555Z
UID:10000203-1757066400-1757073600@progressgrovecity.com
SUMMARY:Coffee Talk
DESCRIPTION:Got some free time this morning?  Swing by Panera and chat with some like minded folks about the goings on in our fine city!  We can’t wait to see you!
URL:https://progressgrovecity.com/event/coffee-talk-16/2025-09-05/
LOCATION:Panera on Stringtown\, 1786 Stringtown Rd\, Grove City\, OH\, 43123\, United States
CATEGORIES:Social Events
ATTACH;FMTTYPE=image/png:https://progressgrovecity.com/wp-content/uploads/2024/08/Coffee-Talk-Holiday.png
END:VEVENT
BEGIN:VEVENT
DTSTART;TZID=America/New_York:20250907T140000
DTEND;TZID=America/New_York:20250907T160000
DTSTAMP:20260420T212710
CREATED:20250416T193438Z
LAST-MODIFIED:20250416T193439Z
UID:10000841-1757253600-1757260800@progressgrovecity.com
SUMMARY:Sunday Funday!
DESCRIPTION:We will be moving to the outdoors as long as the weather allows. If you plan to attend please sign up here and one of the admins will message you the location prior to the event. Please join us for some family friendly fun and some good old fashioned togetherness!\nCan’t wait to see you!
URL:https://progressgrovecity.com/event/sunday-funday-10-3/2025-09-07/
LOCATION:Location will be shared via email the night prior to the event.
CATEGORIES:Social Events
ATTACH;FMTTYPE=image/png:https://progressgrovecity.com/wp-content/uploads/2025/01/IMG_5810.png
END:VEVENT
BEGIN:VEVENT
DTSTART;TZID=America/New_York:20250911T180000
DTEND;TZID=America/New_York:20250911T200000
DTSTAMP:20260420T212710
CREATED:20250106T220920Z
LAST-MODIFIED:20250106T220920Z
UID:10000581-1757613600-1757620800@progressgrovecity.com
SUMMARY:Progressive People’s Happy Hour
DESCRIPTION:Our weekly social event.  A safe place for anyone to come hang with other progressives and a great place to meet others involved in moving our city forward!
URL:https://progressgrovecity.com/event/progressive-peoples-happy-hour-53/2025-09-11/
LOCATION:Grove City Brewing Company\, 3946 Broadway Rd\, Grove City\, OH\, 43123\, United States
CATEGORIES:Social Events
ATTACH;FMTTYPE=image/png:https://progressgrovecity.com/wp-content/uploads/2024/02/Progressive-People-Happy-Hour-Vertical-500-x-850-px.png
END:VEVENT
BEGIN:VEVENT
DTSTART;TZID=America/New_York:20250912T100000
DTEND;TZID=America/New_York:20250912T120000
DTSTAMP:20260420T212710
CREATED:20240830T145456Z
LAST-MODIFIED:20241213T150555Z
UID:10000204-1757671200-1757678400@progressgrovecity.com
SUMMARY:Coffee Talk
DESCRIPTION:Got some free time this morning?  Swing by Panera and chat with some like minded folks about the goings on in our fine city!  We can’t wait to see you!
URL:https://progressgrovecity.com/event/coffee-talk-16/2025-09-12/
LOCATION:Panera on Stringtown\, 1786 Stringtown Rd\, Grove City\, OH\, 43123\, United States
CATEGORIES:Social Events
ATTACH;FMTTYPE=image/png:https://progressgrovecity.com/wp-content/uploads/2024/08/Coffee-Talk-Holiday.png
END:VEVENT
BEGIN:VEVENT
DTSTART;TZID=America/New_York:20250914T140000
DTEND;TZID=America/New_York:20250914T160000
DTSTAMP:20260420T212710
CREATED:20250416T193438Z
LAST-MODIFIED:20250416T193439Z
UID:10000842-1757858400-1757865600@progressgrovecity.com
SUMMARY:Sunday Funday!
DESCRIPTION:We will be moving to the outdoors as long as the weather allows. If you plan to attend please sign up here and one of the admins will message you the location prior to the event. Please join us for some family friendly fun and some good old fashioned togetherness!\nCan’t wait to see you!
URL:https://progressgrovecity.com/event/sunday-funday-10-3/2025-09-14/
LOCATION:Location will be shared via email the night prior to the event.
CATEGORIES:Social Events
ATTACH;FMTTYPE=image/png:https://progressgrovecity.com/wp-content/uploads/2025/01/IMG_5810.png
END:VEVENT
BEGIN:VEVENT
DTSTART;TZID=America/New_York:20250918T180000
DTEND;TZID=America/New_York:20250918T200000
DTSTAMP:20260420T212710
CREATED:20250106T220920Z
LAST-MODIFIED:20250106T220920Z
UID:10000582-1758218400-1758225600@progressgrovecity.com
SUMMARY:Progressive People’s Happy Hour
DESCRIPTION:Our weekly social event.  A safe place for anyone to come hang with other progressives and a great place to meet others involved in moving our city forward!
URL:https://progressgrovecity.com/event/progressive-peoples-happy-hour-53/2025-09-18/
LOCATION:Grove City Brewing Company\, 3946 Broadway Rd\, Grove City\, OH\, 43123\, United States
CATEGORIES:Social Events
ATTACH;FMTTYPE=image/png:https://progressgrovecity.com/wp-content/uploads/2024/02/Progressive-People-Happy-Hour-Vertical-500-x-850-px.png
END:VEVENT
BEGIN:VEVENT
DTSTART;TZID=America/New_York:20250919T100000
DTEND;TZID=America/New_York:20250919T120000
DTSTAMP:20260420T212710
CREATED:20240830T145456Z
LAST-MODIFIED:20241213T150555Z
UID:10000205-1758276000-1758283200@progressgrovecity.com
SUMMARY:Coffee Talk
DESCRIPTION:Got some free time this morning?  Swing by Panera and chat with some like minded folks about the goings on in our fine city!  We can’t wait to see you!
URL:https://progressgrovecity.com/event/coffee-talk-16/2025-09-19/
LOCATION:Panera on Stringtown\, 1786 Stringtown Rd\, Grove City\, OH\, 43123\, United States
CATEGORIES:Social Events
ATTACH;FMTTYPE=image/png:https://progressgrovecity.com/wp-content/uploads/2024/08/Coffee-Talk-Holiday.png
END:VEVENT
BEGIN:VEVENT
DTSTART;TZID=America/New_York:20250921T140000
DTEND;TZID=America/New_York:20250921T160000
DTSTAMP:20260420T212710
CREATED:20250416T193438Z
LAST-MODIFIED:20250416T193439Z
UID:10000843-1758463200-1758470400@progressgrovecity.com
SUMMARY:Sunday Funday!
DESCRIPTION:We will be moving to the outdoors as long as the weather allows. If you plan to attend please sign up here and one of the admins will message you the location prior to the event. Please join us for some family friendly fun and some good old fashioned togetherness!\nCan’t wait to see you!
URL:https://progressgrovecity.com/event/sunday-funday-10-3/2025-09-21/
LOCATION:Location will be shared via email the night prior to the event.
CATEGORIES:Social Events
ATTACH;FMTTYPE=image/png:https://progressgrovecity.com/wp-content/uploads/2025/01/IMG_5810.png
END:VEVENT
BEGIN:VEVENT
DTSTART;TZID=America/New_York:20250925T180000
DTEND;TZID=America/New_York:20250925T200000
DTSTAMP:20260420T212710
CREATED:20250106T220920Z
LAST-MODIFIED:20250106T220920Z
UID:10000583-1758823200-1758830400@progressgrovecity.com
SUMMARY:Progressive People’s Happy Hour
DESCRIPTION:Our weekly social event.  A safe place for anyone to come hang with other progressives and a great place to meet others involved in moving our city forward!
URL:https://progressgrovecity.com/event/progressive-peoples-happy-hour-53/2025-09-25/
LOCATION:Grove City Brewing Company\, 3946 Broadway Rd\, Grove City\, OH\, 43123\, United States
CATEGORIES:Social Events
ATTACH;FMTTYPE=image/png:https://progressgrovecity.com/wp-content/uploads/2024/02/Progressive-People-Happy-Hour-Vertical-500-x-850-px.png
END:VEVENT
BEGIN:VEVENT
DTSTART;TZID=America/New_York:20250926T100000
DTEND;TZID=America/New_York:20250926T120000
DTSTAMP:20260420T212710
CREATED:20240830T145456Z
LAST-MODIFIED:20241213T150555Z
UID:10000206-1758880800-1758888000@progressgrovecity.com
SUMMARY:Coffee Talk
DESCRIPTION:Got some free time this morning?  Swing by Panera and chat with some like minded folks about the goings on in our fine city!  We can’t wait to see you!
URL:https://progressgrovecity.com/event/coffee-talk-16/2025-09-26/
LOCATION:Panera on Stringtown\, 1786 Stringtown Rd\, Grove City\, OH\, 43123\, United States
CATEGORIES:Social Events
ATTACH;FMTTYPE=image/png:https://progressgrovecity.com/wp-content/uploads/2024/08/Coffee-Talk-Holiday.png
END:VEVENT
BEGIN:VEVENT
DTSTART;TZID=America/New_York:20250927T073000
DTEND;TZID=America/New_York:20250927T120000
DTSTAMP:20260420T212710
CREATED:20250822T155035Z
LAST-MODIFIED:20250822T155157Z
UID:10001385-1758958200-1758974400@progressgrovecity.com
SUMMARY:ZERO Prostate Cancer Run/Walk
DESCRIPTION:This is going to be a great event on Saturday\, September 27\, 2025 to support prostate cancer research.  Progress Grove City will have a team\, so please RSVP here if you are interested in walking with us. \nDay-of-Event Schedule:\n7:45AM – Registration Opens\n7:45AM – Sponsor Village Opens\n8:25AM – Survivor/Patient Photo\n8:30AM – Opening Ceremonies\n9:00AM – Event Start
URL:https://progressgrovecity.com/event/zero-prostate-cancer-run-walk/
LOCATION:Creekside Plaza\, 117 Mill Street\, Gahanna\, OH\, 43230\, United States
CATEGORIES:fundraiser,Rally or Protest,Social Events
ATTACH;FMTTYPE=image/jpeg:https://progressgrovecity.com/wp-content/uploads/2025/08/Image-1.jpeg
END:VEVENT
BEGIN:VEVENT
DTSTART;TZID=America/New_York:20250928T140000
DTEND;TZID=America/New_York:20250928T160000
DTSTAMP:20260420T212710
CREATED:20250416T193438Z
LAST-MODIFIED:20250416T193439Z
UID:10000844-1759068000-1759075200@progressgrovecity.com
SUMMARY:Sunday Funday!
DESCRIPTION:We will be moving to the outdoors as long as the weather allows. If you plan to attend please sign up here and one of the admins will message you the location prior to the event. Please join us for some family friendly fun and some good old fashioned togetherness!\nCan’t wait to see you!
URL:https://progressgrovecity.com/event/sunday-funday-10-3/2025-09-28/
LOCATION:Location will be shared via email the night prior to the event.
CATEGORIES:Social Events
ATTACH;FMTTYPE=image/png:https://progressgrovecity.com/wp-content/uploads/2025/01/IMG_5810.png
END:VEVENT
BEGIN:VEVENT
DTSTART;TZID=America/New_York:20251002T180000
DTEND;TZID=America/New_York:20251002T200000
DTSTAMP:20260420T212710
CREATED:20250106T220920Z
LAST-MODIFIED:20250106T220920Z
UID:10000584-1759428000-1759435200@progressgrovecity.com
SUMMARY:Progressive People’s Happy Hour
DESCRIPTION:Our weekly social event.  A safe place for anyone to come hang with other progressives and a great place to meet others involved in moving our city forward!
URL:https://progressgrovecity.com/event/progressive-peoples-happy-hour-53/2025-10-02/
LOCATION:Grove City Brewing Company\, 3946 Broadway Rd\, Grove City\, OH\, 43123\, United States
CATEGORIES:Social Events
ATTACH;FMTTYPE=image/png:https://progressgrovecity.com/wp-content/uploads/2024/02/Progressive-People-Happy-Hour-Vertical-500-x-850-px.png
END:VEVENT
END:VCALENDAR