BEGIN:VCALENDAR
VERSION:2.0
PRODID:-//Progress Grove City - ECPv6.15.20//NONSGML v1.0//EN
CALSCALE:GREGORIAN
METHOD:PUBLISH
X-WR-CALNAME:Progress Grove City
X-ORIGINAL-URL:https://progressgrovecity.com
X-WR-CALDESC:Events for Progress Grove City
REFRESH-INTERVAL;VALUE=DURATION:PT1H
X-Robots-Tag:noindex
X-PUBLISHED-TTL:PT1H
BEGIN:VTIMEZONE
TZID:America/New_York
BEGIN:DAYLIGHT
TZOFFSETFROM:-0500
TZOFFSETTO:-0400
TZNAME:EDT
DTSTART:20250309T070000
END:DAYLIGHT
BEGIN:STANDARD
TZOFFSETFROM:-0400
TZOFFSETTO:-0500
TZNAME:EST
DTSTART:20251102T060000
END:STANDARD
BEGIN:DAYLIGHT
TZOFFSETFROM:-0500
TZOFFSETTO:-0400
TZNAME:EDT
DTSTART:20260308T070000
END:DAYLIGHT
BEGIN:STANDARD
TZOFFSETFROM:-0400
TZOFFSETTO:-0500
TZNAME:EST
DTSTART:20261101T060000
END:STANDARD
BEGIN:DAYLIGHT
TZOFFSETFROM:-0500
TZOFFSETTO:-0400
TZNAME:EDT
DTSTART:20270314T070000
END:DAYLIGHT
BEGIN:STANDARD
TZOFFSETFROM:-0400
TZOFFSETTO:-0500
TZNAME:EST
DTSTART:20271107T060000
END:STANDARD
END:VTIMEZONE
BEGIN:VEVENT
DTSTART;TZID=America/New_York:20260604T180000
DTEND;TZID=America/New_York:20260604T200000
DTSTAMP:20260423T185107
CREATED:20250106T220920Z
LAST-MODIFIED:20250106T220920Z
UID:10000619-1780596000-1780603200@progressgrovecity.com
SUMMARY:Progressive People’s Happy Hour
DESCRIPTION:Our weekly social event.  A safe place for anyone to come hang with other progressives and a great place to meet others involved in moving our city forward!
URL:https://progressgrovecity.com/event/progressive-peoples-happy-hour-53/2026-06-04/
LOCATION:Grove City Brewing Company\, 3946 Broadway Rd\, Grove City\, OH\, 43123\, United States
CATEGORIES:Social Events
ATTACH;FMTTYPE=image/png:https://progressgrovecity.com/wp-content/uploads/2024/02/Progressive-People-Happy-Hour-Vertical-500-x-850-px.png
END:VEVENT
BEGIN:VEVENT
DTSTART;TZID=America/New_York:20260601T183000
DTEND;TZID=America/New_York:20260601T200000
DTSTAMP:20260423T185107
CREATED:20250106T220304Z
LAST-MODIFIED:20250106T220304Z
UID:10000443-1780338600-1780344000@progressgrovecity.com
SUMMARY:Grove City City Council Meeting
DESCRIPTION:All are invited to the Grove City Council meeting.\n• 6:30 p.m. Caucus\n• 7 p.m. Council Meeting
URL:https://progressgrovecity.com/event/grove-city-city-council-meeting-15/2026-06-01/
LOCATION:Grove City Hall\, 4035 Harrisburg Pike\, Grove City\, OH\, 43123\, United States
CATEGORIES:City Meetings
ATTACH;FMTTYPE=image/png:https://progressgrovecity.com/wp-content/uploads/2025/01/GroveCityLogo.png
END:VEVENT
BEGIN:VEVENT
DTSTART;TZID=America/New_York:20260531T140000
DTEND;TZID=America/New_York:20260531T160000
DTSTAMP:20260423T185107
CREATED:20250416T193438Z
LAST-MODIFIED:20250416T193439Z
UID:10000879-1780236000-1780243200@progressgrovecity.com
SUMMARY:Sunday Funday!
DESCRIPTION:We will be moving to the outdoors as long as the weather allows. If you plan to attend please sign up here and one of the admins will message you the location prior to the event. Please join us for some family friendly fun and some good old fashioned togetherness!\nCan’t wait to see you!
URL:https://progressgrovecity.com/event/sunday-funday-10-3/2026-05-31/
LOCATION:Location will be shared via email the night prior to the event.
CATEGORIES:Social Events
ATTACH;FMTTYPE=image/png:https://progressgrovecity.com/wp-content/uploads/2025/01/IMG_5810.png
END:VEVENT
BEGIN:VEVENT
DTSTART;TZID=America/New_York:20260529T100000
DTEND;TZID=America/New_York:20260529T120000
DTSTAMP:20260423T185107
CREATED:20240830T145456Z
LAST-MODIFIED:20241213T150555Z
UID:10000241-1780048800-1780056000@progressgrovecity.com
SUMMARY:Coffee Talk
DESCRIPTION:Got some free time this morning?  Swing by Panera and chat with some like minded folks about the goings on in our fine city!  We can’t wait to see you!
URL:https://progressgrovecity.com/event/coffee-talk-16/2026-05-29/
LOCATION:Panera on Stringtown\, 1786 Stringtown Rd\, Grove City\, OH\, 43123\, United States
CATEGORIES:Social Events
ATTACH;FMTTYPE=image/png:https://progressgrovecity.com/wp-content/uploads/2024/08/Coffee-Talk-Holiday.png
END:VEVENT
BEGIN:VEVENT
DTSTART;TZID=America/New_York:20260528T180000
DTEND;TZID=America/New_York:20260528T200000
DTSTAMP:20260423T185107
CREATED:20250106T220920Z
LAST-MODIFIED:20250106T220920Z
UID:10000618-1779991200-1779998400@progressgrovecity.com
SUMMARY:Progressive People’s Happy Hour
DESCRIPTION:Our weekly social event.  A safe place for anyone to come hang with other progressives and a great place to meet others involved in moving our city forward!
URL:https://progressgrovecity.com/event/progressive-peoples-happy-hour-53/2026-05-28/
LOCATION:Grove City Brewing Company\, 3946 Broadway Rd\, Grove City\, OH\, 43123\, United States
CATEGORIES:Social Events
ATTACH;FMTTYPE=image/png:https://progressgrovecity.com/wp-content/uploads/2024/02/Progressive-People-Happy-Hour-Vertical-500-x-850-px.png
END:VEVENT
BEGIN:VEVENT
DTSTART;TZID=America/New_York:20260526T190000
DTEND;TZID=America/New_York:20260526T200000
DTSTAMP:20260423T185107
CREATED:20260411T023549Z
LAST-MODIFIED:20260411T023549Z
UID:10001562-1779822000-1779825600@progressgrovecity.com
SUMMARY:Pleasant Township Trustee Meeting
DESCRIPTION:These meetings occur the second and fourth Tuesday of each month at 7PM.  The address is 5373 Norton Rd.
URL:https://progressgrovecity.com/event/pleasant-township-trustee-meeting-2/2026-05-26/
LOCATION:Pleasant Township Building\, 5373 Norton Rd\, Columbus\, OH\, 43123\, United States
CATEGORIES:City Meetings
ATTACH;FMTTYPE=image/png:https://progressgrovecity.com/wp-content/uploads/2026/04/PrairieTwshp.png
END:VEVENT
BEGIN:VEVENT
DTSTART;TZID=America/New_York:20260524T140000
DTEND;TZID=America/New_York:20260524T160000
DTSTAMP:20260423T185107
CREATED:20250416T193438Z
LAST-MODIFIED:20250416T193439Z
UID:10000878-1779631200-1779638400@progressgrovecity.com
SUMMARY:Sunday Funday!
DESCRIPTION:We will be moving to the outdoors as long as the weather allows. If you plan to attend please sign up here and one of the admins will message you the location prior to the event. Please join us for some family friendly fun and some good old fashioned togetherness!\nCan’t wait to see you!
URL:https://progressgrovecity.com/event/sunday-funday-10-3/2026-05-24/
LOCATION:Location will be shared via email the night prior to the event.
CATEGORIES:Social Events
ATTACH;FMTTYPE=image/png:https://progressgrovecity.com/wp-content/uploads/2025/01/IMG_5810.png
END:VEVENT
BEGIN:VEVENT
DTSTART;TZID=America/New_York:20260522T100000
DTEND;TZID=America/New_York:20260522T120000
DTSTAMP:20260423T185107
CREATED:20240830T145456Z
LAST-MODIFIED:20241213T150555Z
UID:10000240-1779444000-1779451200@progressgrovecity.com
SUMMARY:Coffee Talk
DESCRIPTION:Got some free time this morning?  Swing by Panera and chat with some like minded folks about the goings on in our fine city!  We can’t wait to see you!
URL:https://progressgrovecity.com/event/coffee-talk-16/2026-05-22/
LOCATION:Panera on Stringtown\, 1786 Stringtown Rd\, Grove City\, OH\, 43123\, United States
CATEGORIES:Social Events
ATTACH;FMTTYPE=image/png:https://progressgrovecity.com/wp-content/uploads/2024/08/Coffee-Talk-Holiday.png
END:VEVENT
BEGIN:VEVENT
DTSTART;TZID=America/New_York:20260521T180000
DTEND;TZID=America/New_York:20260521T200000
DTSTAMP:20260423T185107
CREATED:20250106T220920Z
LAST-MODIFIED:20250106T220920Z
UID:10000617-1779386400-1779393600@progressgrovecity.com
SUMMARY:Progressive People’s Happy Hour
DESCRIPTION:Our weekly social event.  A safe place for anyone to come hang with other progressives and a great place to meet others involved in moving our city forward!
URL:https://progressgrovecity.com/event/progressive-peoples-happy-hour-53/2026-05-21/
LOCATION:Grove City Brewing Company\, 3946 Broadway Rd\, Grove City\, OH\, 43123\, United States
CATEGORIES:Social Events
ATTACH;FMTTYPE=image/png:https://progressgrovecity.com/wp-content/uploads/2024/02/Progressive-People-Happy-Hour-Vertical-500-x-850-px.png
END:VEVENT
BEGIN:VEVENT
DTSTART;TZID=America/New_York:20260518T190000
DTEND;TZID=America/New_York:20260518T210000
DTSTAMP:20260423T185107
CREATED:20260215T184121Z
LAST-MODIFIED:20260215T184121Z
UID:10001480-1779130800-1779138000@progressgrovecity.com
SUMMARY:School Board
DESCRIPTION:
URL:https://progressgrovecity.com/event/school-board-2/2026-05-18/
LOCATION:South-Western City School District Building\, 3805 Marlane Dr\, Grove City\, OH\, 43123\, United States
CATEGORIES:School Board Meetings
ATTACH;FMTTYPE=image/png:https://progressgrovecity.com/wp-content/uploads/2024/01/SWCSD_Logo_Square.png
END:VEVENT
BEGIN:VEVENT
DTSTART;TZID=America/New_York:20260518T183000
DTEND;TZID=America/New_York:20260518T200000
DTSTAMP:20260423T185107
CREATED:20251216T234312Z
LAST-MODIFIED:20251216T234312Z
UID:10001258-1779129000-1779134400@progressgrovecity.com
SUMMARY:Grove City City Council Meeting
DESCRIPTION:All are invited to the Grove City Council meeting.\n• 6:30 p.m. Caucus\n• 7 p.m. Council Meeting
URL:https://progressgrovecity.com/event/grove-city-city-council-meeting-25-3/2026-05-18/
LOCATION:Grove City Hall\, 4035 Harrisburg Pike\, Grove City\, OH\, 43123\, United States
CATEGORIES:City Meetings
ATTACH;FMTTYPE=image/png:https://progressgrovecity.com/wp-content/uploads/2025/01/GroveCityLogo.png
END:VEVENT
BEGIN:VEVENT
DTSTART;TZID=America/New_York:20260517T140000
DTEND;TZID=America/New_York:20260517T160000
DTSTAMP:20260423T185107
CREATED:20250416T193438Z
LAST-MODIFIED:20250416T193439Z
UID:10000877-1779026400-1779033600@progressgrovecity.com
SUMMARY:Sunday Funday!
DESCRIPTION:We will be moving to the outdoors as long as the weather allows. If you plan to attend please sign up here and one of the admins will message you the location prior to the event. Please join us for some family friendly fun and some good old fashioned togetherness!\nCan’t wait to see you!
URL:https://progressgrovecity.com/event/sunday-funday-10-3/2026-05-17/
LOCATION:Location will be shared via email the night prior to the event.
CATEGORIES:Social Events
ATTACH;FMTTYPE=image/png:https://progressgrovecity.com/wp-content/uploads/2025/01/IMG_5810.png
END:VEVENT
BEGIN:VEVENT
DTSTART;TZID=America/New_York:20260515T100000
DTEND;TZID=America/New_York:20260515T120000
DTSTAMP:20260423T185107
CREATED:20240830T145456Z
LAST-MODIFIED:20241213T150555Z
UID:10000239-1778839200-1778846400@progressgrovecity.com
SUMMARY:Coffee Talk
DESCRIPTION:Got some free time this morning?  Swing by Panera and chat with some like minded folks about the goings on in our fine city!  We can’t wait to see you!
URL:https://progressgrovecity.com/event/coffee-talk-16/2026-05-15/
LOCATION:Panera on Stringtown\, 1786 Stringtown Rd\, Grove City\, OH\, 43123\, United States
CATEGORIES:Social Events
ATTACH;FMTTYPE=image/png:https://progressgrovecity.com/wp-content/uploads/2024/08/Coffee-Talk-Holiday.png
END:VEVENT
BEGIN:VEVENT
DTSTART;TZID=America/New_York:20260514T180000
DTEND;TZID=America/New_York:20260514T200000
DTSTAMP:20260423T185107
CREATED:20250106T220920Z
LAST-MODIFIED:20250106T220920Z
UID:10000616-1778781600-1778788800@progressgrovecity.com
SUMMARY:Progressive People’s Happy Hour
DESCRIPTION:Our weekly social event.  A safe place for anyone to come hang with other progressives and a great place to meet others involved in moving our city forward!
URL:https://progressgrovecity.com/event/progressive-peoples-happy-hour-53/2026-05-14/
LOCATION:Grove City Brewing Company\, 3946 Broadway Rd\, Grove City\, OH\, 43123\, United States
CATEGORIES:Social Events
ATTACH;FMTTYPE=image/png:https://progressgrovecity.com/wp-content/uploads/2024/02/Progressive-People-Happy-Hour-Vertical-500-x-850-px.png
END:VEVENT
BEGIN:VEVENT
DTSTART;TZID=America/New_York:20260512T190000
DTEND;TZID=America/New_York:20260512T200000
DTSTAMP:20260423T185107
CREATED:20260411T023253Z
LAST-MODIFIED:20260411T023253Z
UID:10001501-1778612400-1778616000@progressgrovecity.com
SUMMARY:Pleasant Township Trustee Meeting
DESCRIPTION:These meetings occur the second and fourth Tuesday of each month at 7PM.  The address is 5373 Norton Rd.
URL:https://progressgrovecity.com/event/pleasant-township-trustee-meeting/2026-05-12/
LOCATION:Pleasant Township Building\, 5373 Norton Rd\, Columbus\, OH\, 43123\, United States
CATEGORIES:City Meetings
ATTACH;FMTTYPE=image/png:https://progressgrovecity.com/wp-content/uploads/2026/04/PrairieTwshp.png
END:VEVENT
BEGIN:VEVENT
DTSTART;TZID=America/New_York:20260510T140000
DTEND;TZID=America/New_York:20260510T160000
DTSTAMP:20260423T185107
CREATED:20250416T193438Z
LAST-MODIFIED:20250416T193439Z
UID:10000876-1778421600-1778428800@progressgrovecity.com
SUMMARY:Sunday Funday!
DESCRIPTION:We will be moving to the outdoors as long as the weather allows. If you plan to attend please sign up here and one of the admins will message you the location prior to the event. Please join us for some family friendly fun and some good old fashioned togetherness!\nCan’t wait to see you!
URL:https://progressgrovecity.com/event/sunday-funday-10-3/2026-05-10/
LOCATION:Location will be shared via email the night prior to the event.
CATEGORIES:Social Events
ATTACH;FMTTYPE=image/png:https://progressgrovecity.com/wp-content/uploads/2025/01/IMG_5810.png
END:VEVENT
BEGIN:VEVENT
DTSTART;TZID=America/New_York:20260508T100000
DTEND;TZID=America/New_York:20260508T120000
DTSTAMP:20260423T185107
CREATED:20240830T145456Z
LAST-MODIFIED:20241213T150555Z
UID:10000238-1778234400-1778241600@progressgrovecity.com
SUMMARY:Coffee Talk
DESCRIPTION:Got some free time this morning?  Swing by Panera and chat with some like minded folks about the goings on in our fine city!  We can’t wait to see you!
URL:https://progressgrovecity.com/event/coffee-talk-16/2026-05-08/
LOCATION:Panera on Stringtown\, 1786 Stringtown Rd\, Grove City\, OH\, 43123\, United States
CATEGORIES:Social Events
ATTACH;FMTTYPE=image/png:https://progressgrovecity.com/wp-content/uploads/2024/08/Coffee-Talk-Holiday.png
END:VEVENT
BEGIN:VEVENT
DTSTART;TZID=America/New_York:20260507T180000
DTEND;TZID=America/New_York:20260507T200000
DTSTAMP:20260423T185107
CREATED:20250106T220920Z
LAST-MODIFIED:20250106T220920Z
UID:10000615-1778176800-1778184000@progressgrovecity.com
SUMMARY:Progressive People’s Happy Hour
DESCRIPTION:Our weekly social event.  A safe place for anyone to come hang with other progressives and a great place to meet others involved in moving our city forward!
URL:https://progressgrovecity.com/event/progressive-peoples-happy-hour-53/2026-05-07/
LOCATION:Grove City Brewing Company\, 3946 Broadway Rd\, Grove City\, OH\, 43123\, United States
CATEGORIES:Social Events
ATTACH;FMTTYPE=image/png:https://progressgrovecity.com/wp-content/uploads/2024/02/Progressive-People-Happy-Hour-Vertical-500-x-850-px.png
END:VEVENT
BEGIN:VEVENT
DTSTART;TZID=America/New_York:20260504T183000
DTEND;TZID=America/New_York:20260504T200000
DTSTAMP:20260423T185107
CREATED:20250106T220304Z
LAST-MODIFIED:20250106T220304Z
UID:10000442-1777919400-1777924800@progressgrovecity.com
SUMMARY:Grove City City Council Meeting
DESCRIPTION:All are invited to the Grove City Council meeting.\n• 6:30 p.m. Caucus\n• 7 p.m. Council Meeting
URL:https://progressgrovecity.com/event/grove-city-city-council-meeting-15/2026-05-04/
LOCATION:Grove City Hall\, 4035 Harrisburg Pike\, Grove City\, OH\, 43123\, United States
CATEGORIES:City Meetings
ATTACH;FMTTYPE=image/png:https://progressgrovecity.com/wp-content/uploads/2025/01/GroveCityLogo.png
END:VEVENT
BEGIN:VEVENT
DTSTART;TZID=America/New_York:20260503T140000
DTEND;TZID=America/New_York:20260503T160000
DTSTAMP:20260423T185107
CREATED:20250416T193438Z
LAST-MODIFIED:20250416T193439Z
UID:10000875-1777816800-1777824000@progressgrovecity.com
SUMMARY:Sunday Funday!
DESCRIPTION:We will be moving to the outdoors as long as the weather allows. If you plan to attend please sign up here and one of the admins will message you the location prior to the event. Please join us for some family friendly fun and some good old fashioned togetherness!\nCan’t wait to see you!
URL:https://progressgrovecity.com/event/sunday-funday-10-3/2026-05-03/
LOCATION:Location will be shared via email the night prior to the event.
CATEGORIES:Social Events
ATTACH;FMTTYPE=image/png:https://progressgrovecity.com/wp-content/uploads/2025/01/IMG_5810.png
END:VEVENT
BEGIN:VEVENT
DTSTART;TZID=America/New_York:20260501T100000
DTEND;TZID=America/New_York:20260501T120000
DTSTAMP:20260423T185107
CREATED:20240830T145456Z
LAST-MODIFIED:20241213T150555Z
UID:10000237-1777629600-1777636800@progressgrovecity.com
SUMMARY:Coffee Talk
DESCRIPTION:Got some free time this morning?  Swing by Panera and chat with some like minded folks about the goings on in our fine city!  We can’t wait to see you!
URL:https://progressgrovecity.com/event/coffee-talk-16/2026-05-01/
LOCATION:Panera on Stringtown\, 1786 Stringtown Rd\, Grove City\, OH\, 43123\, United States
CATEGORIES:Social Events
ATTACH;FMTTYPE=image/png:https://progressgrovecity.com/wp-content/uploads/2024/08/Coffee-Talk-Holiday.png
END:VEVENT
BEGIN:VEVENT
DTSTART;TZID=America/New_York:20260430T180000
DTEND;TZID=America/New_York:20260430T200000
DTSTAMP:20260423T185107
CREATED:20250106T220920Z
LAST-MODIFIED:20250106T220920Z
UID:10000614-1777572000-1777579200@progressgrovecity.com
SUMMARY:Progressive People’s Happy Hour
DESCRIPTION:Our weekly social event.  A safe place for anyone to come hang with other progressives and a great place to meet others involved in moving our city forward!
URL:https://progressgrovecity.com/event/progressive-peoples-happy-hour-53/2026-04-30/
LOCATION:Grove City Brewing Company\, 3946 Broadway Rd\, Grove City\, OH\, 43123\, United States
CATEGORIES:Social Events
ATTACH;FMTTYPE=image/png:https://progressgrovecity.com/wp-content/uploads/2024/02/Progressive-People-Happy-Hour-Vertical-500-x-850-px.png
END:VEVENT
BEGIN:VEVENT
DTSTART;TZID=America/New_York:20260428T190000
DTEND;TZID=America/New_York:20260428T200000
DTSTAMP:20260423T185107
CREATED:20260411T023549Z
LAST-MODIFIED:20260411T023549Z
UID:10001561-1777402800-1777406400@progressgrovecity.com
SUMMARY:Pleasant Township Trustee Meeting
DESCRIPTION:These meetings occur the second and fourth Tuesday of each month at 7PM.  The address is 5373 Norton Rd.
URL:https://progressgrovecity.com/event/pleasant-township-trustee-meeting-2/2026-04-28/
LOCATION:Pleasant Township Building\, 5373 Norton Rd\, Columbus\, OH\, 43123\, United States
CATEGORIES:City Meetings
ATTACH;FMTTYPE=image/png:https://progressgrovecity.com/wp-content/uploads/2026/04/PrairieTwshp.png
END:VEVENT
BEGIN:VEVENT
DTSTART;TZID=America/New_York:20260427T190000
DTEND;TZID=America/New_York:20260427T210000
DTSTAMP:20260423T185107
CREATED:20260215T184121Z
LAST-MODIFIED:20260215T184121Z
UID:10001479-1777316400-1777323600@progressgrovecity.com
SUMMARY:School Board
DESCRIPTION:
URL:https://progressgrovecity.com/event/school-board-2/2026-04-27/
LOCATION:South-Western City School District Building\, 3805 Marlane Dr\, Grove City\, OH\, 43123\, United States
CATEGORIES:School Board Meetings
ATTACH;FMTTYPE=image/png:https://progressgrovecity.com/wp-content/uploads/2024/01/SWCSD_Logo_Square.png
END:VEVENT
BEGIN:VEVENT
DTSTART;TZID=America/New_York:20260426T140000
DTEND;TZID=America/New_York:20260426T160000
DTSTAMP:20260423T185107
CREATED:20250416T193438Z
LAST-MODIFIED:20250416T193439Z
UID:10000874-1777212000-1777219200@progressgrovecity.com
SUMMARY:Sunday Funday!
DESCRIPTION:We will be moving to the outdoors as long as the weather allows. If you plan to attend please sign up here and one of the admins will message you the location prior to the event. Please join us for some family friendly fun and some good old fashioned togetherness!\nCan’t wait to see you!
URL:https://progressgrovecity.com/event/sunday-funday-10-3/2026-04-26/
LOCATION:Location will be shared via email the night prior to the event.
CATEGORIES:Social Events
ATTACH;FMTTYPE=image/png:https://progressgrovecity.com/wp-content/uploads/2025/01/IMG_5810.png
END:VEVENT
BEGIN:VEVENT
DTSTART;TZID=America/New_York:20260426T130000
DTEND;TZID=America/New_York:20260426T160000
DTSTAMP:20260423T185107
CREATED:20260406T173904Z
LAST-MODIFIED:20260416T004312Z
UID:10001498-1777208400-1777219200@progressgrovecity.com
SUMMARY:Progress 2026 - April Meeting!
DESCRIPTION:You’re invited to our S’mores Not Wars spring kickoff! Bring your partner\, your kids\, your friends\, your neighbors — the more the merrier! \nWe’ll have a bonfire going for s’mores\, so come hungry! Pack your favorite snacks to share\, a lawn chair\, and your favorite yard game or outdoor activity. Come enjoy great company with like-minded folks who care about making our community — and this world — a better place for everyone.
URL:https://progressgrovecity.com/event/progress-2026-april-meeting/
LOCATION:Location will be shared via email the night prior to the event.
CATEGORIES:Informational Meetings,Social Events
ATTACH;FMTTYPE=image/png:https://progressgrovecity.com/wp-content/uploads/2026/04/Progress2026_600x850_Apr-1.png
END:VEVENT
BEGIN:VEVENT
DTSTART;TZID=America/New_York:20260424T180000
DTEND;TZID=America/New_York:20260424T200000
DTSTAMP:20260423T185107
CREATED:20260409T212910Z
LAST-MODIFIED:20260423T160728Z
UID:10001499-1777053600-1777060800@progressgrovecity.com
SUMMARY:Ask the Experts - Data Center Expert Panel
DESCRIPTION:You’ve probably heard that a tech company is proposing a 310-acre data center development in Grove City and they held their own public presentations on April 21 and 22 to tell you all about it. \nWe hope you went to hear what they had to say. \nNow come see us on Friday\, April 24 – because we’ve assembled a panel of independent experts who have no vested interest in selling you something. Just answers. \nThese are people who study utility rates\, land use\, environmental policy\, and economic impact for a living. They’re not here to pitch a development. They’re here to help your community understand what’s actually at stake…and what you can do about it. \n\nTwo questions. One night.\nThis conversation runs on two tracks…and we’re trying to stay in both lanes. \n\n\n\n\nLane 1 \nShould this happen at all? \nWhat are the real costs and risks of a 310-acre data center â€” for your electric bill\, your neighborhood\, your water\, and your community’s future? \n\n\n\nLane 2 \nIf it’s coming anyway…what do we demand? \nWhat does a responsible development look like? What have other communities won? And how do residents fight for it before the window closes? \n\n\n\n\n\nThis isn’t just about Grove City. These same decisions are playing out in communities across Ohio and across the country. The questions we’re asking Friday night are questions every community facing a proposal like this deserves answered. \nYour Moderator \n\nModerator & Policy Expert \nBailey Sandin \nWork & Wages Fellow – Policy Matters Ohio \nBailey has been digging into the economic fine print on big tech deals in Ohio\, getting down to what they actually deliver for working families\, what gets promised versus what gets built\, and how communities can fight for a better deal. She’ll moderate our panel and weigh in directly on tax incentives\, community benefits agreements\, and the real jobs picture. \n\nThe Panel \n\nCathy Cowan Becker \nBoard President of Save Our Parks  and Hilliard Community Advocate \nCathy has been on the frontlines of data center fights across Ohio\, including challenging a fuel cell plant that slipped through with almost no public notice. She knows exactly how these projects get fast-tracked – and what communities can do about it. She’ll open our panel conversation by grounding everything that follows in lived reality. \n\n\nMaureen Willis \nOhio Consumers’ Counsel \nThe state’s official advocate for residential utility ratepayers. If your electric bill is going up because of data center growth … and it is … Maureen is the person who fights back. She’ll walk us through what’s already baked into your rates and what’s still on the table. \n\n\nDr. Amber Woodburn McNair \nFounder\, AV McNair LLC  =  Expert in Land Use Planning for Public Infrastructure \nDr. McNair specializes in understanding how large-scale infrastructure facilities reshape the communities around them – land use\, planning and zoning tools\, and what residents can demand before the permits are signed. She knows what leverage looks like and how long it lasts. \n\n\nBecca Pollard \nInterim Executive Director – Buckeye Environmental Network \nBecca leads BEN\, a Central Ohio environmental justice organization with deep roots in energy\, water\, and community organizing campaigns across the state. She’ll bring the environmental and community justice lens to what a facility this size actually means for the land\, the water\, and the people nearby. \n\n\nGrove City is our home. It’s where we’re raising our kids\, where our parents live down the street\, where we’ve put down roots and built something worth protecting. The decisions being made right now about what gets built here\, who pays for it\, and what it costs our families for the next 20 years…those decisions are happening fast and they deserve our full attention. \nWe deserve straight answers from people who don’t have a financial stake in the outcome. Not a sales pitch. Not a PowerPoint from a company that will be long gone when the bills come due. \nThis event is free and open to the public\, but space is limited. Doors open at 5:30 PM for RSVP guests\, and 5:50 PM for general admission. RSVP below to reserve your seat.
URL:https://progressgrovecity.com/event/ask-the-experts-data-center-expert-panel/
LOCATION:Urbancrest Quinichett Pavilion\, 3464 First Avenue\, Urbancrest\, OH\, 43123\, United States
CATEGORIES:City Meetings,Informational Meetings
ATTACH;FMTTYPE=image/png:https://progressgrovecity.com/wp-content/uploads/2026/04/AskTheExperts-DataCenters-1.png
END:VEVENT
BEGIN:VEVENT
DTSTART;TZID=America/New_York:20260424T100000
DTEND;TZID=America/New_York:20260424T120000
DTSTAMP:20260423T185107
CREATED:20240830T145456Z
LAST-MODIFIED:20241213T150555Z
UID:10000236-1777024800-1777032000@progressgrovecity.com
SUMMARY:Coffee Talk
DESCRIPTION:Got some free time this morning?  Swing by Panera and chat with some like minded folks about the goings on in our fine city!  We can’t wait to see you!
URL:https://progressgrovecity.com/event/coffee-talk-16/2026-04-24/
LOCATION:Panera on Stringtown\, 1786 Stringtown Rd\, Grove City\, OH\, 43123\, United States
CATEGORIES:Social Events
ATTACH;FMTTYPE=image/png:https://progressgrovecity.com/wp-content/uploads/2024/08/Coffee-Talk-Holiday.png
END:VEVENT
BEGIN:VEVENT
DTSTART;TZID=America/New_York:20260423T180000
DTEND;TZID=America/New_York:20260423T200000
DTSTAMP:20260423T185107
CREATED:20250106T220920Z
LAST-MODIFIED:20250106T220920Z
UID:10000613-1776967200-1776974400@progressgrovecity.com
SUMMARY:Progressive People’s Happy Hour
DESCRIPTION:Our weekly social event.  A safe place for anyone to come hang with other progressives and a great place to meet others involved in moving our city forward!
URL:https://progressgrovecity.com/event/progressive-peoples-happy-hour-53/2026-04-23/
LOCATION:Grove City Brewing Company\, 3946 Broadway Rd\, Grove City\, OH\, 43123\, United States
CATEGORIES:Social Events
ATTACH;FMTTYPE=image/png:https://progressgrovecity.com/wp-content/uploads/2024/02/Progressive-People-Happy-Hour-Vertical-500-x-850-px.png
END:VEVENT
BEGIN:VEVENT
DTSTART;TZID=America/New_York:20260420T183000
DTEND;TZID=America/New_York:20260420T200000
DTSTAMP:20260423T185107
CREATED:20251216T234312Z
LAST-MODIFIED:20251216T234312Z
UID:10001257-1776709800-1776715200@progressgrovecity.com
SUMMARY:Grove City City Council Meeting
DESCRIPTION:All are invited to the Grove City Council meeting.\n• 6:30 p.m. Caucus\n• 7 p.m. Council Meeting
URL:https://progressgrovecity.com/event/grove-city-city-council-meeting-25-3/2026-04-20/
LOCATION:Grove City Hall\, 4035 Harrisburg Pike\, Grove City\, OH\, 43123\, United States
CATEGORIES:City Meetings
ATTACH;FMTTYPE=image/png:https://progressgrovecity.com/wp-content/uploads/2025/01/GroveCityLogo.png
END:VEVENT
END:VCALENDAR