BEGIN:VCALENDAR
VERSION:2.0
PRODID:-//Progress Grove City - ECPv6.15.20//NONSGML v1.0//EN
CALSCALE:GREGORIAN
METHOD:PUBLISH
X-ORIGINAL-URL:https://progressgrovecity.com
X-WR-CALDESC:Events for Progress Grove City
REFRESH-INTERVAL;VALUE=DURATION:PT1H
X-Robots-Tag:noindex
X-PUBLISHED-TTL:PT1H
BEGIN:VTIMEZONE
TZID:America/New_York
BEGIN:DAYLIGHT
TZOFFSETFROM:-0500
TZOFFSETTO:-0400
TZNAME:EDT
DTSTART:20230312T070000
END:DAYLIGHT
BEGIN:STANDARD
TZOFFSETFROM:-0400
TZOFFSETTO:-0500
TZNAME:EST
DTSTART:20231105T060000
END:STANDARD
BEGIN:DAYLIGHT
TZOFFSETFROM:-0500
TZOFFSETTO:-0400
TZNAME:EDT
DTSTART:20240310T070000
END:DAYLIGHT
BEGIN:STANDARD
TZOFFSETFROM:-0400
TZOFFSETTO:-0500
TZNAME:EST
DTSTART:20241103T060000
END:STANDARD
BEGIN:DAYLIGHT
TZOFFSETFROM:-0500
TZOFFSETTO:-0400
TZNAME:EDT
DTSTART:20250309T070000
END:DAYLIGHT
BEGIN:STANDARD
TZOFFSETFROM:-0400
TZOFFSETTO:-0500
TZNAME:EST
DTSTART:20251102T060000
END:STANDARD
END:VTIMEZONE
BEGIN:VEVENT
DTSTART;TZID=America/New_York:20240701T183000
DTEND;TZID=America/New_York:20240701T200000
DTSTAMP:20260424T055715
CREATED:20240304T194413Z
LAST-MODIFIED:20240304T194855Z
UID:10000064-1719858600-1719864000@progressgrovecity.com
SUMMARY:Grove City - City Council Meeting
DESCRIPTION:All are invited to the Grove City Council meeting.\n• 6:30 p.m. Caucus\n• 7 p.m. Council Meeting
URL:https://progressgrovecity.com/event/grove-city-city-council-meeting-11/
LOCATION:Grove City Hall\, 4035 Harrisburg Pike\, Grove City\, OH\, 43123\, United States
CATEGORIES:City Meetings
ATTACH;FMTTYPE=image/png:https://progressgrovecity.com/wp-content/uploads/2024/01/Document.png
END:VEVENT
BEGIN:VEVENT
DTSTART;TZID=America/New_York:20240703T180000
DTEND;TZID=America/New_York:20240703T200000
DTSTAMP:20260424T055715
CREATED:20240629T160245Z
LAST-MODIFIED:20240629T160245Z
UID:10000103-1720029600-1720036800@progressgrovecity.com
SUMMARY:Progressive People's Happy Hour!
DESCRIPTION:Our weekly social event.  A safe place for anyone to come hang with other progressives and a great place to meet others involved in moving our city forward! \n  \nPLEASE NOTE THAT THIS IS A WEDNESDAY DUE TO JULY 4
URL:https://progressgrovecity.com/event/progressive-peoples-happy-hour-35/
LOCATION:Grove City Brewing Company\, 3946 Broadway Rd\, Grove City\, OH\, 43123\, United States
CATEGORIES:Social Events
ATTACH;FMTTYPE=image/png:https://progressgrovecity.com/wp-content/uploads/2024/01/Progressive-People-Happy-Hour.png
END:VEVENT
BEGIN:VEVENT
DTSTART;TZID=America/New_York:20240708T173000
DTEND;TZID=America/New_York:20240708T193000
DTSTAMP:20260424T055715
CREATED:20240617T174836Z
LAST-MODIFIED:20240617T174836Z
UID:10000089-1720459800-1720467000@progressgrovecity.com
SUMMARY:City Council Working Session
DESCRIPTION:This will be a meeting where the public can join to provide feedback to the council members for anything on the agenda.  Public participation is encouraged and appreiciated
URL:https://progressgrovecity.com/event/city-council-working-session/
LOCATION:Grove City Hall\, 4035 Harrisburg Pike\, Grove City\, OH\, 43123\, United States
CATEGORIES:City Meetings
ATTACH;FMTTYPE=image/png:https://progressgrovecity.com/wp-content/uploads/2024/06/CityCouncilLogo.png
END:VEVENT
BEGIN:VEVENT
DTSTART;TZID=America/New_York:20240708T190000
DTEND;TZID=America/New_York:20240708T210000
DTSTAMP:20260424T055715
CREATED:20240130T133522Z
LAST-MODIFIED:20240130T133522Z
UID:10000026-1720465200-1720472400@progressgrovecity.com
SUMMARY:SWCSD Board Meeting
DESCRIPTION:Regular Meeting – Please wear red shirts if possible
URL:https://progressgrovecity.com/event/swcsd-board-meeting-7/
LOCATION:South-Western City School District Building\, 3805 Marlane Dr\, Grove City\, OH\, 43123\, United States
CATEGORIES:School Board Meetings
ATTACH;FMTTYPE=image/png:https://progressgrovecity.com/wp-content/uploads/2024/01/SWCSD_Logo_Square.png
END:VEVENT
BEGIN:VEVENT
DTSTART;TZID=America/New_York:20240711T180000
DTEND;TZID=America/New_York:20240711T200000
DTSTAMP:20260424T055715
CREATED:20240629T154919Z
LAST-MODIFIED:20240629T154919Z
UID:10000095-1720720800-1720728000@progressgrovecity.com
SUMMARY:Progressive People's Happy Hour!
DESCRIPTION:Our weekly social event.  A safe place for anyone to come hang with other progressives and a great place to meet others involved in moving our city forward!
URL:https://progressgrovecity.com/event/progressive-peoples-happy-hour-27/
LOCATION:Grove City Brewing Company\, 3946 Broadway Rd\, Grove City\, OH\, 43123\, United States
CATEGORIES:Social Events
ATTACH;FMTTYPE=image/png:https://progressgrovecity.com/wp-content/uploads/2024/01/Progressive-People-Happy-Hour.png
END:VEVENT
BEGIN:VEVENT
DTSTART;TZID=America/New_York:20240713T000000
DTEND;TZID=America/New_York:20240713T235959
DTSTAMP:20260424T055715
CREATED:20240322T133254Z
LAST-MODIFIED:20240322T133254Z
UID:10000079-1720828800-1720915199@progressgrovecity.com
SUMMARY:Grove City Tacos and Tequila
DESCRIPTION:Tacos and Tequila festival in downtown Grove City.  More details to come…
URL:https://progressgrovecity.com/event/grove-city-tacos-and-tequila/
LOCATION:Downtown Grove City\, 4035 Harrisburg Pike\, Grove City\, OH\, 43123\, United States
CATEGORIES:Social Events
ATTACH;FMTTYPE=image/png:https://progressgrovecity.com/wp-content/uploads/2024/03/Blue-Book-TNT-Event-Graphic.png
END:VEVENT
BEGIN:VEVENT
DTSTART;TZID=America/New_York:20240715T183000
DTEND;TZID=America/New_York:20240715T200000
DTSTAMP:20260424T055715
CREATED:20240304T195138Z
LAST-MODIFIED:20240304T195138Z
UID:10000065-1721068200-1721073600@progressgrovecity.com
SUMMARY:Grove City - City Council Meeting
DESCRIPTION:All are invited to the Grove City Council meeting.\n• 6:30 p.m. Caucus\n• 7 p.m. Council Meeting
URL:https://progressgrovecity.com/event/grove-city-city-council-meeting-12/
LOCATION:Grove City Hall\, 4035 Harrisburg Pike\, Grove City\, OH\, 43123\, United States
CATEGORIES:City Meetings
ATTACH;FMTTYPE=image/png:https://progressgrovecity.com/wp-content/uploads/2024/01/Document.png
END:VEVENT
BEGIN:VEVENT
DTSTART;TZID=America/New_York:20240718T180000
DTEND;TZID=America/New_York:20240718T200000
DTSTAMP:20260424T055715
CREATED:20240629T155033Z
LAST-MODIFIED:20240629T155033Z
UID:10000096-1721325600-1721332800@progressgrovecity.com
SUMMARY:Progressive People's Happy Hour!
DESCRIPTION:Our weekly social event.  A safe place for anyone to come hang with other progressives and a great place to meet others involved in moving our city forward!
URL:https://progressgrovecity.com/event/progressive-peoples-happy-hour-28/
LOCATION:Grove City Brewing Company\, 3946 Broadway Rd\, Grove City\, OH\, 43123\, United States
CATEGORIES:Social Events
ATTACH;FMTTYPE=image/png:https://progressgrovecity.com/wp-content/uploads/2024/01/Progressive-People-Happy-Hour.png
END:VEVENT
BEGIN:VEVENT
DTSTART;TZID=America/New_York:20240722T190000
DTEND;TZID=America/New_York:20240722T210000
DTSTAMP:20260424T055715
CREATED:20240719T143315Z
LAST-MODIFIED:20240719T143315Z
UID:10000105-1721674800-1721682000@progressgrovecity.com
SUMMARY:SWCSD Board Meeting
DESCRIPTION:The SWCSD School Board now has a meeting scheduled for the evening of July 22\, including voting on a new\, very pricy contract for Omar Tarazi.\nThe school board’s Special Meeting will be 7pm at the Event Center at the South-Western Career Academy – 4750 Big Run South Rd. Grove City\, OH 43123
URL:https://progressgrovecity.com/event/swcsd-board-meeting-16/
LOCATION:Event Center at the South-Western Career Academy\, 4750 Big Run South Rd\, Grove City\, OH\, 43123\, United States
CATEGORIES:School Board Meetings
ATTACH;FMTTYPE=image/png:https://progressgrovecity.com/wp-content/uploads/2024/01/SWCSD_Logo_Square.png
END:VEVENT
BEGIN:VEVENT
DTSTART;TZID=America/New_York:20240725T180000
DTEND;TZID=America/New_York:20240725T200000
DTSTAMP:20260424T055715
CREATED:20240629T155130Z
LAST-MODIFIED:20240629T155130Z
UID:10000097-1721930400-1721937600@progressgrovecity.com
SUMMARY:Progressive People's Happy Hour!
DESCRIPTION:Our weekly social event.  A safe place for anyone to come hang with other progressives and a great place to meet others involved in moving our city forward!
URL:https://progressgrovecity.com/event/progressive-peoples-happy-hour-29/
LOCATION:Grove City Brewing Company\, 3946 Broadway Rd\, Grove City\, OH\, 43123\, United States
CATEGORIES:Social Events
ATTACH;FMTTYPE=image/png:https://progressgrovecity.com/wp-content/uploads/2024/01/Progressive-People-Happy-Hour.png
END:VEVENT
END:VCALENDAR